Workbook

Sheet Coast Leader
A1: Name | B1: School | C1: GP | D1: Goals | E1: G/G | G1: Name | H1: School | I1: GP | J1: Assists | K1: A/G | M1: Name | N1: School | O1: GP | P1: Steals | Q1: S/G
A2: ='Coast Field'!B46 -> Vanessa Kibblewhite | B2: ='Coast Field'!C46 -> CSM | C2: ='Coast Field'!D46 -> 22 | D2: ='Coast Field'!E46 -> 80 | E2: =D2/C2 -> 3.6363636 | G2: ='Coast Field'!B51 -> Olivia Cosca | H2: ='Coast Field'!C51 -> CSM | I2: ='Coast Field'!D51 -> 22 | J2: ='Coast Field'!F51 -> 51 | K2: =J2/I2 -> 2.3181818 | M2: ='Coast Field'!B2 -> Layna Auchard | N2: ='Coast Field'!C2 -> FH | O2: ='Coast Field'!D2 -> 24 | P2: ='Coast Field'!G2 -> 53 | Q2: =P2/O2 -> 2.2083333
A3: ='Coast Field'!B7 -> Lauren Lesyna | B3: ='Coast Field'!C7 -> FH | C3: ='Coast Field'!D7 -> 24 | D3: ='Coast Field'!E7 -> 76 | E3: =D3/C3 -> 3.1666667 | G3: ='Coast Field'!B46 -> Vanessa Kibblewhite | H3: ='Coast Field'!C46 -> CSM | I3: ='Coast Field'!D46 -> 22 | J3: ='Coast Field'!F46 -> 38 | K3: =J3/I3 -> 1.7272727 | M3: ='Coast Field'!B46 -> Vanessa Kibblewhite | N3: ='Coast Field'!C46 -> CSM | O3: ='Coast Field'!D46 -> 22 | P3: ='Coast Field'!G46 -> 51 | Q3: =P3/O3 -> 2.3181818
A4: ='Coast Field'!B51 -> Olivia Cosca | B4: ='Coast Field'!C51 -> CSM | C4: ='Coast Field'!D51 -> 22 | D4: ='Coast Field'!E51 -> 52 | E4: =D4/C4 -> 2.3636364 | G4: ='Coast Field'!B52 -> Morgan Smith | H4: ='Coast Field'!C52 -> CSM | I4: ='Coast Field'!D52 -> 18 | J4: ='Coast Field'!F52 -> 36 | K4: =J4/I4 -> 2 | M4: ='Coast Field'!B7 -> Lauren Lesyna | N4: ='Coast Field'!C7 -> FH | O4: ='Coast Field'!D7 -> 24 | P4: ='Coast Field'!G7 -> 48 | Q4: =P4/O4 -> 2
A5: ='Coast Field'!B52 -> Morgan Smith | B5: ='Coast Field'!C52 -> CSM | C5: ='Coast Field'!D52 -> 18 | D5: ='Coast Field'!E52 -> 49 | E5: =D5/C5 -> 2.7222222 | G5: ='Coast Field'!B50 -> Gretta Musayelyan | H5: ='Coast Field'!C50 -> CSM | I5: ='Coast Field'!D50 -> 13 | J5: ='Coast Field'!F50 -> 25 | K5: =J5/I5 -> 1.9230769 | M5: ='Coast Field'!B68 -> Charissa Taylor | N5: ='Coast Field'!C68 -> LPC | O5: ='Coast Field'!D68 -> 23 | P5: ='Coast Field'!G68 -> 47 | Q5: =P5/O5 -> 2.0434783
A6: ='Coast Field'!B77 -> Jillian Eicher | B6: ='Coast Field'!C77 -> LPC | C6: ='Coast Field'!D77 -> 22 | D6: ='Coast Field'!E77 -> 44 | E6: =D6/C6 -> 2 | G6: ='Coast Field'!B49 -> Sina Gomez | H6: ='Coast Field'!C49 -> CSM | I6: ='Coast Field'!D49 -> 18 | J6: ='Coast Field'!F49 -> 23 | K6: =J6/I6 -> 1.2777778 | M6: ='Coast Field'!B52 -> Morgan Smith | N6: ='Coast Field'!C52 -> CSM | O6: ='Coast Field'!D52 -> 18 | P6: ='Coast Field'!G52 -> 42 | Q6: =P6/O6 -> 2.3333333
A7: ='Coast Field'!B68 -> Charissa Taylor | B7: ='Coast Field'!C68 -> LPC | C7: ='Coast Field'!D68 -> 23 | D7: ='Coast Field'!E68 -> 41 | E7: =D7/C7 -> 1.7826087 | G7: ='Coast Field'!B55 -> Rebekah Groteguth | H7: ='Coast Field'!C55 -> MERCED | I7: ='Coast Field'!D55 -> 8 | J7: ='Coast Field'!F55 -> 20 | K7: =J7/I7 -> 2.5 | M7: ='Coast Field'!B3 -> Kerstyn Pantoja | N7: ='Coast Field'!C3 -> FH | O7: ='Coast Field'!D3 -> 24 | P7: ='Coast Field'!G3 -> 39 | Q7: =P7/O7 -> 1.625
A8: ='Coast Field'!B6 -> Shae Boutte | B8: ='Coast Field'!C6 -> FH | C8: ='Coast Field'!D6 -> 24 | D8: ='Coast Field'!E6 -> 38 | E8: =D8/C8 -> 1.5833333 | G8: ='Coast Field'!B76 -> Lauren Cano | H8: ='Coast Field'!C76 -> LPC | I8: ='Coast Field'!D76 -> 23 | J8: ='Coast Field'!F76 -> 18 | K8: =J8/I8 -> 0.7826087 | M8: ='Coast Field'!B50 -> Gretta Musayelyan | N8: ='Coast Field'!C50 -> CSM | O8: ='Coast Field'!D50 -> 13 | P8: ='Coast Field'!G50 -> 36 | Q8: =P8/O8 -> 2.7692308
A9: ='Coast Field'!B2 -> Layna Auchard | B9: ='Coast Field'!C2 -> FH | C9: ='Coast Field'!D2 -> 24 | D9: ='Coast Field'!E2 -> 37 | E9: =D9/C9 -> 1.5416667 | G9: ='Coast Field'!B53 -> Kim Canisso | H9: ='Coast Field'!C53 -> MERCED | I9: ='Coast Field'!D53 -> 8 | J9: ='Coast Field'!F53 -> 15 | K9: =J9/I9 -> 1.875 | M9: ='Coast Field'!B4 -> Shannon Sullivan | N9: ='Coast Field'!C4 -> FH | O9: ='Coast Field'!D4 -> 16 | P9: ='Coast Field'!G4 -> 33 | Q9: =P9/O9 -> 2.0625
A10: ='Coast Field'!B40 -> Natalie Taylor | B10: ='Coast Field'!C40 -> CCSF | C10: ='Coast Field'!D40 -> 12 | D10: ='Coast Field'!E40 -> 32 | E10: =D10/C10 -> 2.6666667 | G10: ='Coast Field'!B3 -> Kerstyn Pantoja | H10: ='Coast Field'!C3 -> FH | I10: ='Coast Field'!D3 -> 24 | J10: ='Coast Field'!F3 -> 15 | K10: =J10/I10 -> 0.625 | M10: ='Coast Field'!B10 -> Analise Alforque-Acevedo | N10: ='Coast Field'!C10 -> FH | O10: ='Coast Field'!D10 -> 23 | P10: ='Coast Field'!G10 -> 33 | Q10: =P10/O10 -> 1.4347826
A11: ='Coast Field'!B55 -> Rebekah Groteguth | B11: ='Coast Field'!C55 -> MERCED | C11: ='Coast Field'!D55 -> 8 | D11: ='Coast Field'!E55 -> 31 | E11: =D11/C11 -> 3.875 | G11: ='Coast Field'!B60 -> Brontae Gomes | H11: ='Coast Field'!C60 -> MERCED | I11: ='Coast Field'!D60 -> 8 | J11: ='Coast Field'!F60 -> 14 | K11: =J11/I11 -> 1.75 | M11: ='Coast Field'!B40 -> Natalie Taylor | N11: ='Coast Field'!C40 -> CCSF | O11: ='Coast Field'!D40 -> 12 | P11: ='Coast Field'!G40 -> 32 | Q11: =P11/O11 -> 2.6666667
A12: ='Coast Field'!B12 -> Samantha McClusky | B12: ='Coast Field'!C12 -> FH | C12: ='Coast Field'!D12 -> 17 | D12: ='Coast Field'!E12 -> 30 | E12: =D12/C12 -> 1.7647059 | G12: ='Coast Field'!B2 -> Layna Auchard | H12: ='Coast Field'!C2 -> FH | I12: ='Coast Field'!D2 -> 24 | J12: ='Coast Field'!F2 -> 12 | K12: =J12/I12 -> 0.5 | M12: ='Coast Field'!B49 -> Sina Gomez | N12: ='Coast Field'!C49 -> CSM | O12: ='Coast Field'!D49 -> 18 | P12: ='Coast Field'!G49 -> 29 | Q12: =P12/O12 -> 1.6111111
A13: ='Coast Field'!B9 -> Stephanie Herrera | B13: ='Coast Field'!C9 -> FH | C13: ='Coast Field'!D9 -> 24 | D13: ='Coast Field'!E9 -> 27 | E13: =D13/C13 -> 1.125 | G13: ='Coast Field'!B54 -> Tiffany Fredrickson | H13: ='Coast Field'!C54 -> MERCED | I13: ='Coast Field'!D54 -> 8 | J13: ='Coast Field'!F54 -> 11 | K13: =J13/I13 -> 1.375 | M13: ='Coast Field'!B75 -> Mckenna Stevulak | N13: ='Coast Field'!C75 -> LPC | O13: ='Coast Field'!D75 -> 13 | P13: ='Coast Field'!G75 -> 27 | Q13: =P13/O13 -> 2.0769231
A14: ='Coast Field'!B5 -> Erin Hepner | B14: ='Coast Field'!C5 -> FH | C14: ='Coast Field'!D5 -> 24 | D14: ='Coast Field'!E5 -> 26 | E14: =D14/C14 -> 1.0833333 | G14: ='Coast Field'!B66 -> Nicole Goodnight | H14: ='Coast Field'!C66 -> MERCED | I14: ='Coast Field'!D66 -> 8 | J14: ='Coast Field'!F66 -> 10 | K14: =J14/I14 -> 1.25 | M14: ='Coast Field'!B60 -> Brontae Gomes | N14: ='Coast Field'!C60 -> MERCED | O14: ='Coast Field'!D60 -> 8 | P14: ='Coast Field'!G60 -> 25 | Q14: =P14/O14 -> 3.125
A15: ='Coast Field'!B10 -> Analise Alforque-Acevedo | B15: ='Coast Field'!C10 -> FH | C15: ='Coast Field'!D10 -> 23 | D15: ='Coast Field'!E10 -> 24 | E15: =D15/C15 -> 1.0434783 | G15: ='Coast Field'!B40 -> Natalie Taylor | H15: ='Coast Field'!C40 -> CCSF | I15: ='Coast Field'!D40 -> 12 | J15: ='Coast Field'!F40 -> 10 | K15: =J15/I15 -> 0.83333333 | M15: ='Coast Field'!B51 -> Olivia Cosca | N15: ='Coast Field'!C51 -> CSM | O15: ='Coast Field'!D51 -> 22 | P15: ='Coast Field'!G51 -> 25 | Q15: =P15/O15 -> 1.1363636
A16: ='Coast Field'!B66 -> Nicole Goodnight | B16: ='Coast Field'!C66 -> MERCED | C16: ='Coast Field'!D66 -> 8 | D16: ='Coast Field'!E66 -> 18 | E16: =D16/C16 -> 2.25 | G16: ='Coast Field'!B10 -> Analise Alforque-Acevedo | H16: ='Coast Field'!C10 -> FH | I16: ='Coast Field'!D10 -> 23 | J16: ='Coast Field'!F10 -> 8 | K16: =J16/I16 -> 0.34782609 | M16: ='Coast Field'!B28 -> Daniela Fiestas-Paredes | N16: ='Coast Field'!C28 -> CCSF | O16: ='Coast Field'!D28 -> 10 | P16: ='Coast Field'!G28 -> 24 | Q16: =P16/O16 -> 2.4
A17: ='Coast Field'!B13 -> Helene Takamura | B17: ='Coast Field'!C13 -> Laney | C17: ='Coast Field'!D13 -> 16 | D17: ='Coast Field'!E13 -> 18 | E17: =D17/C17 -> 1.125 | G17: ='Coast Field'!B5 -> Erin Hepner | H17: ='Coast Field'!C5 -> FH | I17: ='Coast Field'!D5 -> 24 | J17: ='Coast Field'!F5 -> 8 | K17: =J17/I17 -> 0.33333333 | M17: ='Coast Field'!B76 -> Lauren Cano | N17: ='Coast Field'!C76 -> LPC | O17: ='Coast Field'!D76 -> 23 | P17: ='Coast Field'!G76 -> 24 | Q17: =P17/O17 -> 1.0434783
A18: ='Coast Field'!B8 -> Chase Mase | B18: ='Coast Field'!C8 -> FH | C18: ='Coast Field'!D8 -> 12 | D18: ='Coast Field'!E8 -> 16 | E18: =D18/C18 -> 1.3333333 | G18: ='Coast Field'!B7 -> Lauren Lesyna | H18: ='Coast Field'!C7 -> FH | I18: ='Coast Field'!D7 -> 24 | J18: ='Coast Field'!F7 -> 8 | K18: =J18/I18 -> 0.33333333 | M18: ='Coast Field'!B5 -> Erin Hepner | N18: ='Coast Field'!C5 -> FH | O18: ='Coast Field'!D5 -> 24 | P18: ='Coast Field'!G5 -> 23 | Q18: =P18/O18 -> 0.95833333
A19: ='Coast Field'!B60 -> Brontae Gomes | B19: ='Coast Field'!C60 -> MERCED | C19: ='Coast Field'!D60 -> 8 | D19: ='Coast Field'!E60 -> 15 | E19: =D19/C19 -> 1.875 | G19: ='Coast Field'!B47 -> Taylor Anderson | H19: ='Coast Field'!C47 -> CSM | I19: ='Coast Field'!D47 -> 8 | J19: ='Coast Field'!F47 -> 7 | K19: =J19/I19 -> 0.875 | M19: ='Coast Field'!B12 -> Samantha McClusky | N19: ='Coast Field'!C12 -> FH | O19: ='Coast Field'!D12 -> 17 | P19: ='Coast Field'!G12 -> 22 | Q19: =P19/O19 -> 1.2941176
A20: ='Coast Field'!B78 -> Courtney Kinderman | B20: ='Coast Field'!C78 -> FH | C20: ='Coast Field'!D78 -> 14 | D20: ='Coast Field'!E78 -> 13 | E20: =D20/C20 -> 0.92857143 | G20: ='Coast Field'!B62 -> Anjele Kepeghian | H20: ='Coast Field'!C62 -> MERCED | I20: ='Coast Field'!D62 -> 8 | J20: ='Coast Field'!F62 -> 7 | K20: =J20/I20 -> 0.875 | M20: ='Coast Field'!B6 -> Shae Boutte | N20: ='Coast Field'!C6 -> FH | O20: ='Coast Field'!D6 -> 24 | P20: ='Coast Field'!G6 -> 22 | Q20: =P20/O20 -> 0.91666667
A21: ='Coast Field'!B53 -> Kim Canisso | B21: ='Coast Field'!C53 -> MERCED | C21: ='Coast Field'!D53 -> 8 | D21: ='Coast Field'!E53 -> 12 | E21: =D21/C21 -> 1.5 | G21: ='Coast Field'!B35 -> Raquel Pea | H21: ='Coast Field'!C35 -> CCSF | I21: ='Coast Field'!D35 -> 9 | J21: ='Coast Field'!F35 -> 7 | K21: =J21/I21 -> 0.77777778 | M21: ='Coast Field'!B66 -> Nicole Goodnight | N21: ='Coast Field'!C66 -> MERCED | O21: ='Coast Field'!D66 -> 8 | P21: ='Coast Field'!G66 -> 21 | Q21: =P21/O21 -> 2.625
A22: ='Coast Field'!B41 -> Cynthia Tran | B22: ='Coast Field'!C41 -> CCSF | C22: ='Coast Field'!D41 -> 12 | D22: ='Coast Field'!E41 -> 12 | E22: =D22/C22 -> 1 | G22: ='Coast Field'!B41 -> Cynthia Tran | H22: ='Coast Field'!C41 -> CCSF | I22: ='Coast Field'!D41 -> 12 | J22: ='Coast Field'!F41 -> 7 | K22: =J22/I22 -> 0.58333333 | M22: ='Coast Field'!B13 -> Helene Takamura | N22: ='Coast Field'!C13 -> Laney | O22: ='Coast Field'!D13 -> 16 | P22: ='Coast Field'!G13 -> 21 | Q22: =P22/O22 -> 1.3125
A23: ='Coast Field'!B50 -> Gretta Musayelyan | B23: ='Coast Field'!C50 -> CSM | C23: ='Coast Field'!D50 -> 13 | D23: ='Coast Field'!E50 -> 12 | E23: =D23/C23 -> 0.92307692 | G23: ='Coast Field'!B67 -> Madison Suoja | H23: ='Coast Field'!C67 -> LPC | I23: ='Coast Field'!D67 -> 13 | J23: ='Coast Field'!F67 -> 7 | K23: =J23/I23 -> 0.53846154 | M23: ='Coast Field'!B9 -> Stephanie Herrera | N23: ='Coast Field'!C9 -> FH | O23: ='Coast Field'!D9 -> 24 | P23: ='Coast Field'!G9 -> 21 | Q23: =P23/O23 -> 0.875
A24: ='Coast Field'!B4 -> Shannon Sullivan | B24: ='Coast Field'!C4 -> FH | C24: ='Coast Field'!D4 -> 16 | D24: ='Coast Field'!E4 -> 12 | E24: =D24/C24 -> 0.75 | G24: ='Coast Field'!B70 -> Alexia Venema | H24: ='Coast Field'!C70 -> LPC | I24: ='Coast Field'!D70 -> 19 | J24: ='Coast Field'!F70 -> 7 | K24: =J24/I24 -> 0.36842105 | M24: ='Coast Field'!B53 -> Kim Canisso | N24: ='Coast Field'!C53 -> MERCED | O24: ='Coast Field'!D53 -> 8 | P24: ='Coast Field'!G53 -> 18 | Q24: =P24/O24 -> 2.25
A25: ='Coast Field'!B69 -> Paris Sinclair | B25: ='Coast Field'!C69 -> LPC | C25: ='Coast Field'!D69 -> 22 | D25: ='Coast Field'!E69 -> 12 | E25: =D25/C25 -> 0.54545455 | G25: ='Coast Field'!B77 -> Jillian Eicher | H25: ='Coast Field'!C77 -> LPC | I25: ='Coast Field'!D77 -> 22 | J25: ='Coast Field'!F77 -> 7 | K25: =J25/I25 -> 0.31818182 | M25: ='Coast Field'!B77 -> Jillian Eicher | N25: ='Coast Field'!C77 -> LPC | O25: ='Coast Field'!D77 -> 22 | P25: ='Coast Field'!G77 -> 17 | Q25: =P25/O25 -> 0.77272727
A26: ='Coast Field'!B35 -> Raquel Pea | B26: ='Coast Field'!C35 -> CCSF | C26: ='Coast Field'!D35 -> 9 | D26: ='Coast Field'!E35 -> 11 | E26: =D26/C26 -> 1.2222222 | G26: ='Coast Field'!B44 -> Michelle Plante | H26: ='Coast Field'!C44 -> CSM | I26: ='Coast Field'!D44 -> 22 | J26: ='Coast Field'!F44 -> 7 | K26: =J26/I26 -> 0.31818182 | M26: ='Coast Field'!B44 -> Michelle Plante | N26: ='Coast Field'!C44 -> CSM | O26: ='Coast Field'!D44 -> 22 | P26: ='Coast Field'!G44 -> 16 | Q26: =P26/O26 -> 0.72727273
A27: ='Coast Field'!B37 -> Patricia Rivas | B27: ='Coast Field'!C37 -> CCSF | C27: ='Coast Field'!D37 -> 10 | D27: ='Coast Field'!E37 -> 11 | E27: =D27/C27 -> 1.1 | G27: ='Coast Field'!B39 -> Emily Schattenburg | H27: ='Coast Field'!C39 -> CCSF | I27: ='Coast Field'!D39 -> 7 | J27: ='Coast Field'!F39 -> 6 | K27: =J27/I27 -> 0.85714286 | M27: ='Coast Field'!B70 -> Alexia Venema | N27: ='Coast Field'!C70 -> LPC | O27: ='Coast Field'!D70 -> 19 | P27: ='Coast Field'!G70 -> 13 | Q27: =P27/O27 -> 0.68421053
A28: ='Coast Field'!B70 -> Alexia Venema | B28: ='Coast Field'!C70 -> LPC | C28: ='Coast Field'!D70 -> 19 | D28: ='Coast Field'!E70 -> 11 | E28: =D28/C28 -> 0.57894737 | G28: ='Coast Field'!B8 -> Chase Mase | H28: ='Coast Field'!C8 -> FH | I28: ='Coast Field'!D8 -> 12 | J28: ='Coast Field'!F8 -> 6 | K28: =J28/I28 -> 0.5 | M28: ='Coast Field'!B78 -> Courtney Kinderman | N28: ='Coast Field'!C78 -> FH | O28: ='Coast Field'!D78 -> 14 | P28: ='Coast Field'!G78 -> 12 | Q28: =P28/O28 -> 0.85714286
A29: ='Coast Field'!B76 -> Lauren Cano | B29: ='Coast Field'!C76 -> LPC | C29: ='Coast Field'!D76 -> 23 | D29: ='Coast Field'!E76 -> 11 | E29: =D29/C29 -> 0.47826087 | G29: ='Coast Field'!B75 -> Mckenna Stevulak | H29: ='Coast Field'!C75 -> LPC | I29: ='Coast Field'!D75 -> 13 | J29: ='Coast Field'!F75 -> 6 | K29: =J29/I29 -> 0.46153846 | M29: ='Coast Field'!B54 -> Tiffany Fredrickson | N29: ='Coast Field'!C54 -> MERCED | O29: ='Coast Field'!D54 -> 8 | P29: ='Coast Field'!G54 -> 11 | Q29: =P29/O29 -> 1.375
A30: ='Coast Field'!B73 -> Rachel Will | B30: ='Coast Field'!C73 -> LPC | C30: ='Coast Field'!D73 -> 23 | D30: ='Coast Field'!E73 -> 11 | E30: =D30/C30 -> 0.47826087 | G30: ='Coast Field'!B12 -> Samantha McClusky | H30: ='Coast Field'!C12 -> FH | I30: ='Coast Field'!D12 -> 17 | J30: ='Coast Field'!F12 -> 6 | K30: =J30/I30 -> 0.35294118 | M30: ='Coast Field'!B74 -> Danielle Kennedy | N30: ='Coast Field'!C74 -> LPC | O30: ='Coast Field'!D74 -> 17 | P30: ='Coast Field'!G74 -> 11 | Q30: =P30/O30 -> 0.64705882
A31: ='Coast Field'!B20 -> Emma Canalin | B31: ='Coast Field'!C20 -> Laney | C31: ='Coast Field'!D20 -> 7 | D31: ='Coast Field'!E20 -> 10 | E31: =D31/C31 -> 1.4285714 | G31: ='Coast Field'!B68 -> Charissa Taylor | H31: ='Coast Field'!C68 -> LPC | I31: ='Coast Field'!D68 -> 23 | J31: ='Coast Field'!F68 -> 6 | K31: =J31/I31 -> 0.26086957 | M31: ='Coast Field'!B73 -> Rachel Will | N31: ='Coast Field'!C73 -> LPC | O31: ='Coast Field'!D73 -> 23 | P31: ='Coast Field'!G73 -> 11 | Q31: =P31/O31 -> 0.47826087
A32: ='Coast Field'!B62 -> Anjele Kepeghian | B32: ='Coast Field'!C62 -> MERCED | C32: ='Coast Field'!D62 -> 8 | D32: ='Coast Field'!E62 -> 10 | E32: =D32/C32 -> 1.25 | G32: ='Coast Field'!B59 -> Shelia Buckingham | H32: ='Coast Field'!C59 -> MERCED | I32: ='Coast Field'!D59 -> 5 | J32: ='Coast Field'!F59 -> 5 | K32: =J32/I32 -> 1 | M32: ='Coast Field'!B55 -> Rebekah Groteguth | N32: ='Coast Field'!C55 -> MERCED | O32: ='Coast Field'!D55 -> 8 | P32: ='Coast Field'!G55 -> 10 | Q32: =P32/O32 -> 1.25
A33: ='Coast Field'!B67 -> Madison Suoja | B33: ='Coast Field'!C67 -> LPC | C33: ='Coast Field'!D67 -> 13 | D33: ='Coast Field'!E67 -> 10 | E33: =D33/C33 -> 0.76923077 | G33: ='Coast Field'!B61 -> Haylee Eagleton | H33: ='Coast Field'!C61 -> MERCED | I33: ='Coast Field'!D61 -> 8 | J33: ='Coast Field'!F61 -> 5 | K33: =J33/I33 -> 0.625 | M33: ='Coast Field'!B67 -> Madison Suoja | N33: ='Coast Field'!C67 -> LPC | O33: ='Coast Field'!D67 -> 13 | P33: ='Coast Field'!G67 -> 9 | Q33: =P33/O33 -> 0.69230769
A34: ='Coast Field'!B11 -> Lauren Youhanna | B34: ='Coast Field'!C11 -> FH | C34: ='Coast Field'!D11 -> 5 | D34: ='Coast Field'!E11 -> 9 | E34: =D34/C34 -> 1.8 | G34: ='Coast Field'!B4 -> Shannon Sullivan | H34: ='Coast Field'!C4 -> FH | I34: ='Coast Field'!D4 -> 16 | J34: ='Coast Field'!F4 -> 5 | K34: =J34/I34 -> 0.3125 | M34: ='Coast Field'!B41 -> Cynthia Tran | N34: ='Coast Field'!C41 -> CCSF | O34: ='Coast Field'!D41 -> 12 | P34: ='Coast Field'!G41 -> 8 | Q34: =P34/O34 -> 0.66666667
A35: ='Coast Field'!B74 -> Danielle Kennedy | B35: ='Coast Field'!C74 -> LPC | C35: ='Coast Field'!D74 -> 17 | D35: ='Coast Field'!E74 -> 8 | E35: =D35/C35 -> 0.47058824 | G35: ='Coast Field'!B43 -> Jessica Stafford | H35: ='Coast Field'!C43 -> CSM | I35: ='Coast Field'!D43 -> 18 | J35: ='Coast Field'!F43 -> 5 | K35: =J35/I35 -> 0.27777778 | M35: ='Coast Field'!B43 -> Jessica Stafford | N35: ='Coast Field'!C43 -> CSM | O35: ='Coast Field'!D43 -> 18 | P35: ='Coast Field'!G43 -> 8 | Q35: =P35/O35 -> 0.44444444
A36: ='Coast Field'!B3 -> Kerstyn Pantoja | B36: ='Coast Field'!C3 -> FH | C36: ='Coast Field'!D3 -> 24 | D36: ='Coast Field'!E3 -> 8 | E36: =D36/C36 -> 0.33333333 | G36: ='Coast Field'!B6 -> Shae Boutte | H36: ='Coast Field'!C6 -> FH | I36: ='Coast Field'!D6 -> 24 | J36: ='Coast Field'!F6 -> 5 | K36: =J36/I36 -> 0.20833333 | M36: ='Coast Field'!B69 -> Paris Sinclair | N36: ='Coast Field'!C69 -> LPC | O36: ='Coast Field'!D69 -> 22 | P36: ='Coast Field'!G69 -> 8 | Q36: =P36/O36 -> 0.36363636
A37: ='Coast Field'!B54 -> Tiffany Fredrickson | B37: ='Coast Field'!C54 -> MERCED | C37: ='Coast Field'!D54 -> 8 | D37: ='Coast Field'!E54 -> 7 | E37: =D37/C37 -> 0.875 | G37: ='Coast Field'!B31 -> Amber Izumi | H37: ='Coast Field'!C31 -> CCSF | I37: ='Coast Field'!D31 -> 8 | J37: ='Coast Field'!F31 -> 4 | K37: =J37/I37 -> 0.5 | M37: ='Coast Field'!B20 -> Emma Canalin | N37: ='Coast Field'!C20 -> Laney | O37: ='Coast Field'!D20 -> 7 | P37: ='Coast Field'!G20 -> 7 | Q37: =P37/O37 -> 1
A38: ='Coast Field'!B17 -> Anneke Moser | B38: ='Coast Field'!C17 -> Laney | C38: ='Coast Field'!D17 -> 18 | D38: ='Coast Field'!E17 -> 7 | E38: =D38/C38 -> 0.38888889 | G38: ='Coast Field'!B28 -> Daniela Fiestas-Paredes | H38: ='Coast Field'!C28 -> CCSF | I38: ='Coast Field'!D28 -> 10 | J38: ='Coast Field'!F28 -> 4 | K38: =J38/I38 -> 0.4 | M38: ='Coast Field'!B47 -> Taylor Anderson | N38: ='Coast Field'!C47 -> CSM | O38: ='Coast Field'!D47 -> 8 | P38: ='Coast Field'!G47 -> 7 | Q38: =P38/O38 -> 0.875
A39: ='Coast Field'!B49 -> Sina Gomez | B39: ='Coast Field'!C49 -> CSM | C39: ='Coast Field'!D49 -> 18 | D39: ='Coast Field'!E49 -> 7 | E39: =D39/C39 -> 0.38888889 | G39: ='Coast Field'!B69 -> Paris Sinclair | H39: ='Coast Field'!C69 -> LPC | I39: ='Coast Field'!D69 -> 22 | J39: ='Coast Field'!F69 -> 4 | K39: =J39/I39 -> 0.18181818 | M39: ='Coast Field'!B48 -> Shelby Mcmillan | N39: ='Coast Field'!C48 -> CSM | O39: ='Coast Field'!D48 -> 15 | P39: ='Coast Field'!G48 -> 7 | Q39: =P39/O39 -> 0.46666667
A40: ='Coast Field'!B75 -> Mckenna Stevulak | B40: ='Coast Field'!C75 -> LPC | C40: ='Coast Field'!D75 -> 13 | D40: ='Coast Field'!E75 -> 6 | E40: =D40/C40 -> 0.46153846 | G40: ='Coast Field'!B73 -> Rachel Will | H40: ='Coast Field'!C73 -> LPC | I40: ='Coast Field'!D73 -> 23 | J40: ='Coast Field'!F73 -> 4 | K40: =J40/I40 -> 0.17391304 | M40: ='Coast Field'!B35 -> Raquel Pea | N40: ='Coast Field'!C35 -> CCSF | O40: ='Coast Field'!D35 -> 9 | P40: ='Coast Field'!G35 -> 6 | Q40: =P40/O40 -> 0.66666667
A41: ='Coast Field'!B16 -> Isabel Moser | B41: ='Coast Field'!C16 -> Laney | C41: ='Coast Field'!D16 -> 16 | D41: ='Coast Field'!E16 -> 6 | E41: =D41/C41 -> 0.375 | G41: ='Coast Field'!B34 -> Brenda Ortiz | H41: ='Coast Field'!C34 -> CCSF | I41: ='Coast Field'!D34 -> 9 | J41: ='Coast Field'!F34 -> 3 | K41: =J41/I41 -> 0.33333333 | M41: ='Coast Field'!B17 -> Anneke Moser | N41: ='Coast Field'!C17 -> Laney | O41: ='Coast Field'!D17 -> 18 | P41: ='Coast Field'!G17 -> 6 | Q41: =P41/O41 -> 0.33333333
A42: ='Coast Field'!B21 -> Jade Le | B42: ='Coast Field'!C21 -> Laney | C42: ='Coast Field'!D21 -> 18 | D42: ='Coast Field'!E21 -> 6 | E42: =D42/C42 -> 0.33333333 | G42: ='Coast Field'!B37 -> Patricia Rivas | H42: ='Coast Field'!C37 -> CCSF | I42: ='Coast Field'!D37 -> 10 | J42: ='Coast Field'!F37 -> 3 | K42: =J42/I42 -> 0.3 | M42: ='Coast Field'!B39 -> Emily Schattenburg | N42: ='Coast Field'!C39 -> CCSF | O42: ='Coast Field'!D39 -> 7 | P42: ='Coast Field'!G39 -> 5 | Q42: =P42/O42 -> 0.71428571
A43: ='Coast Field'!B58 -> Seavanna Garcia | B43: ='Coast Field'!C58 -> MERCED | C43: ='Coast Field'!D58 -> 8 | D43: ='Coast Field'!E58 -> 3 | E43: =D43/C43 -> 0.375 | G43: ='Coast Field'!B48 -> Shelby Mcmillan | H43: ='Coast Field'!C48 -> CSM | I43: ='Coast Field'!D48 -> 15 | J43: ='Coast Field'!F48 -> 3 | K43: =J43/I43 -> 0.2 | M43: ='Coast Field'!B23 -> Patricia Coppage | N43: ='Coast Field'!C23 -> Laney | O43: ='Coast Field'!D23 -> 15 | P43: ='Coast Field'!G23 -> 5 | Q43: =P43/O43 -> 0.33333333
A44: ='Coast Field'!B28 -> Daniela Fiestas-Paredes | B44: ='Coast Field'!C28 -> CCSF | C44: ='Coast Field'!D28 -> 10 | D44: ='Coast Field'!E28 -> 3 | E44: =D44/C44 -> 0.3 | G44: ='Coast Field'!B74 -> Danielle Kennedy | H44: ='Coast Field'!C74 -> LPC | I44: ='Coast Field'!D74 -> 17 | J44: ='Coast Field'!F74 -> 3 | K44: =J44/I44 -> 0.17647059 | M44: ='Coast Field'!B15 -> Heather Larson | N44: ='Coast Field'!C15 -> Laney | O44: ='Coast Field'!D15 -> 1 | P44: ='Coast Field'!G15 -> 4 | Q44: =P44/O44 -> 4
A45: ='Coast Field'!B48 -> Shelby Mcmillan | B45: ='Coast Field'!C48 -> CSM | C45: ='Coast Field'!D48 -> 15 | D45: ='Coast Field'!E48 -> 3 | E45: =D45/C45 -> 0.2 | G45: ='Coast Field'!B17 -> Anneke Moser | H45: ='Coast Field'!C17 -> Laney | I45: ='Coast Field'!D17 -> 18 | J45: ='Coast Field'!F17 -> 3 | K45: =J45/I45 -> 0.16666667 | M45: ='Coast Field'!B61 -> Haylee Eagleton | N45: ='Coast Field'!C61 -> MERCED | O45: ='Coast Field'!D61 -> 8 | P45: ='Coast Field'!G61 -> 4 | Q45: =P45/O45 -> 0.5
A46: ='Coast Field'!B14 -> Kathryn Vargas | B46: ='Coast Field'!C14 -> Laney | C46: ='Coast Field'!D14 -> 18 | D46: ='Coast Field'!E14 -> 3 | E46: =D46/C46 -> 0.16666667 | G46: ='Coast Field'!B18 -> Sophia Preach | H46: ='Coast Field'!C18 -> Laney | I46: ='Coast Field'!D18 -> 18 | J46: ='Coast Field'!F18 -> 3 | K46: =J46/I46 -> 0.16666667 | M46: ='Coast Field'!B37 -> Patricia Rivas | N46: ='Coast Field'!C37 -> CCSF | O46: ='Coast Field'!D37 -> 10 | P46: ='Coast Field'!G37 -> 4 | Q46: =P46/O46 -> 0.4
A47: ='Coast Field'!B64 -> Kidra Avery | B47: ='Coast Field'!C64 -> MERCED | C47: ='Coast Field'!D64 -> 4 | D47: ='Coast Field'!E64 -> 2 | E47: =D47/C47 -> 0.5 | G47: ='Coast Field'!B15 -> Heather Larson | H47: ='Coast Field'!C15 -> Laney | I47: ='Coast Field'!D15 -> 1 | J47: ='Coast Field'!F15 -> 2 | K47: =J47/I47 -> 2 | M47: ='Coast Field'!B16 -> Isabel Moser | N47: ='Coast Field'!C16 -> Laney | O47: ='Coast Field'!D16 -> 16 | P47: ='Coast Field'!G16 -> 4 | Q47: =P47/O47 -> 0.25
A48: ='Coast Field'!B59 -> Shelia Buckingham | B48: ='Coast Field'!C59 -> MERCED | C48: ='Coast Field'!D59 -> 5 | D48: ='Coast Field'!E59 -> 2 | E48: =D48/C48 -> 0.4 | G48: ='Coast Field'!B29 -> Alessandra Goldsborough | H48: ='Coast Field'!C29 -> CCSF | I48: ='Coast Field'!D29 -> 10 | J48: ='Coast Field'!F29 -> 2 | K48: =J48/I48 -> 0.2 | M48: ='Coast Field'!B19 -> Sharon Sandoval | N48: ='Coast Field'!C19 -> Laney | O48: ='Coast Field'!D19 -> 18 | P48: ='Coast Field'!G19 -> 4 | Q48: =P48/O48 -> 0.22222222
A49: ='Coast Field'!B47 -> Taylor Anderson | B49: ='Coast Field'!C47 -> CSM | C49: ='Coast Field'!D47 -> 8 | D49: ='Coast Field'!E47 -> 2 | E49: =D49/C49 -> 0.25 | G49: ='Coast Field'!B45 -> Alexa Tamayo | H49: ='Coast Field'!C45 -> CSM | I49: ='Coast Field'!D45 -> 12 | J49: ='Coast Field'!F45 -> 2 | K49: =J49/I49 -> 0.16666667 | M49: ='Coast Field'!B21 -> Jade Le | N49: ='Coast Field'!C21 -> Laney | O49: ='Coast Field'!D21 -> 18 | P49: ='Coast Field'!G21 -> 4 | Q49: =P49/O49 -> 0.22222222
A50: ='Coast Field'!B56 -> Sydney | B50: ='Coast Field'!C56 -> MERCED1 | C50: ='Coast Field'!D56 -> 1 | D50: ='Coast Field'!E56 -> 1 | E50: =D50/C50 -> 1 | G50: ='Coast Field'!B78 -> Courtney Kinderman | H50: ='Coast Field'!C78 -> FH | I50: ='Coast Field'!D78 -> 14 | J50: ='Coast Field'!F78 -> 2 | K50: =J50/I50 -> 0.14285714 | M50: ='Coast Field'!B11 -> Lauren Youhanna | N50: ='Coast Field'!C11 -> FH | O50: ='Coast Field'!D11 -> 5 | P50: ='Coast Field'!G11 -> 3 | Q50: =P50/O50 -> 0.6
A51: ='Coast Field'!B65 -> Kaylee Coca | B51: ='Coast Field'!C65 -> MERCED | C51: ='Coast Field'!D65 -> 4 | D51: ='Coast Field'!E65 -> 1 | E51: =D51/C51 -> 0.25 | G51: ='Coast Field'!B21 -> Jade Le | H51: ='Coast Field'!C21 -> Laney | I51: ='Coast Field'!D21 -> 18 | J51: ='Coast Field'!F21 -> 2 | K51: =J51/I51 -> 0.11111111 | M51: ='Coast Field'!B31 -> Amber Izumi | N51: ='Coast Field'!C31 -> CCSF | O51: ='Coast Field'!D31 -> 8 | P51: ='Coast Field'!G31 -> 3 | Q51: =P51/O51 -> 0.375
A52: ='Coast Field'!B34 -> Brenda Ortiz | B52: ='Coast Field'!C34 -> CCSF | C52: ='Coast Field'!D34 -> 9 | D52: ='Coast Field'!E34 -> 1 | E52: =D52/C52 -> 0.11111111 | G52: ='Coast Field'!B9 -> Stephanie Herrera | H52: ='Coast Field'!C9 -> FH | I52: ='Coast Field'!D9 -> 24 | J52: ='Coast Field'!F9 -> 2 | K52: =J52/I52 -> 0.083333333 | M52: ='Coast Field'!B8 -> Chase Mase | N52: ='Coast Field'!C8 -> FH | O52: ='Coast Field'!D8 -> 12 | P52: ='Coast Field'!G8 -> 3 | Q52: =P52/O52 -> 0.25
A53: ='Coast Field'!B29 -> Alessandra Goldsborough | B53: ='Coast Field'!C29 -> CCSF | C53: ='Coast Field'!D29 -> 10 | D53: ='Coast Field'!E29 -> 1 | E53: =D53/C53 -> 0.1 | G53: ='Coast Field'!B65 -> Kaylee Coca | H53: ='Coast Field'!C65 -> MERCED | I53: ='Coast Field'!D65 -> 4 | J53: ='Coast Field'!F65 -> 1 | K53: =J53/I53 -> 0.25 | M53: ='Coast Field'!B71 -> Gina Mueller | N53: ='Coast Field'!C71 -> LPC | O53: ='Coast Field'!D71 -> 17 | P53: ='Coast Field'!G71 -> 3 | Q53: =P53/O53 -> 0.17647059
A54: ='Coast Field'!B45 -> Alexa Tamayo | B54: ='Coast Field'!C45 -> CSM | C54: ='Coast Field'!D45 -> 12 | D54: ='Coast Field'!E45 -> 1 | E54: =D54/C54 -> 0.083333333 | G54: ='Coast Field'!B20 -> Emma Canalin | H54: ='Coast Field'!C20 -> Laney | I54: ='Coast Field'!D20 -> 7 | J54: ='Coast Field'!F20 -> 1 | K54: =J54/I54 -> 0.14285714 | M54: ='Coast Field'!B14 -> Kathryn Vargas | N54: ='Coast Field'!C14 -> Laney | O54: ='Coast Field'!D14 -> 18 | P54: ='Coast Field'!G14 -> 3 | Q54: =P54/O54 -> 0.16666667
A55: ='Coast Field'!B23 -> Patricia Coppage | B55: ='Coast Field'!C23 -> Laney | C55: ='Coast Field'!D23 -> 15 | D55: ='Coast Field'!E23 -> 1 | E55: =D55/C55 -> 0.066666667 | G55: ='Coast Field'!B26 -> Brooke Ashton | H55: ='Coast Field'!C26 -> CCSF | I55: ='Coast Field'!D26 -> 7 | J55: ='Coast Field'!F26 -> 1 | K55: =J55/I55 -> 0.14285714 | M55: ='Coast Field'!B18 -> Sophia Preach | N55: ='Coast Field'!C18 -> Laney | O55: ='Coast Field'!D18 -> 18 | P55: ='Coast Field'!G18 -> 3 | Q55: =P55/O55 -> 0.16666667
A56: ='Coast Field'!B43 -> Jessica Stafford | B56: ='Coast Field'!C43 -> CSM | C56: ='Coast Field'!D43 -> 18 | D56: ='Coast Field'!E43 -> 1 | E56: =D56/C56 -> 0.055555556 | G56: ='Coast Field'!B23 -> Patricia Coppage | H56: ='Coast Field'!C23 -> Laney | I56: ='Coast Field'!D23 -> 15 | J56: ='Coast Field'!F23 -> 1 | K56: =J56/I56 -> 0.066666667 | M56: ='Coast Field'!B59 -> Shelia Buckingham | N56: ='Coast Field'!C59 -> MERCED | O56: ='Coast Field'!D59 -> 5 | P56: ='Coast Field'!G59 -> 2 | Q56: =P56/O56 -> 0.4
A57: ='Coast Field'!B18 -> Sophia Preach | B57: ='Coast Field'!C18 -> Laney | C57: ='Coast Field'!D18 -> 18 | D57: ='Coast Field'!E18 -> 1 | E57: =D57/C57 -> 0.055555556 | G57: ='Coast Field'!B16 -> Isabel Moser | H57: ='Coast Field'!C16 -> Laney | I57: ='Coast Field'!D16 -> 16 | J57: ='Coast Field'!F16 -> 1 | K57: =J57/I57 -> 0.0625 | M57: ='Coast Field'!B26 -> Brooke Ashton | N57: ='Coast Field'!C26 -> CCSF | O57: ='Coast Field'!D26 -> 7 | P57: ='Coast Field'!G26 -> 2 | Q57: =P57/O57 -> 0.28571429
A58: ='Coast Field'!B44 -> Michelle Plante | B58: ='Coast Field'!C44 -> CSM | C58: ='Coast Field'!D44 -> 22 | D58: ='Coast Field'!E44 -> 1 | E58: =D58/C58 -> 0.045454545 | G58: ='Coast Field'!B13 -> Helene Takamura | H58: ='Coast Field'!C13 -> Laney | I58: ='Coast Field'!D13 -> 16 | J58: ='Coast Field'!F13 -> 1 | K58: =J58/I58 -> 0.0625 | M58: ='Coast Field'!B62 -> Anjele Kepeghian | N58: ='Coast Field'!C62 -> MERCED | O58: ='Coast Field'!D62 -> 8 | P58: ='Coast Field'!G62 -> 2 | Q58: =P58/O58 -> 0.25
A59: ='Coast Field'!B38 -> Tiffany Sainz | B59: ='Coast Field'!C38 -> CCSF | C59: ='Coast Field'!D38 -> 0 | D59: ='Coast Field'!E38 -> 0 | E59: =D59/C59 -> #DIV/0! | G59: ='Coast Field'!B71 -> Gina Mueller | H59: ='Coast Field'!C71 -> LPC | I59: ='Coast Field'!D71 -> 17 | J59: ='Coast Field'!F71 -> 1 | K59: =J59/I59 -> 0.058823529 | M59: ='Coast Field'!B34 -> Brenda Ortiz | N59: ='Coast Field'!C34 -> CCSF | O59: ='Coast Field'!D34 -> 9 | P59: ='Coast Field'!G34 -> 2 | Q59: =P59/O59 -> 0.22222222
A60: ='Coast Field'!B57 -> Maddie Torrence | B60: ='Coast Field'!C57 -> MERCED | C60: ='Coast Field'!D57 -> 0 | D60: ='Coast Field'!E57 -> 0 | E60: =D60/C60 -> #DIV/0! | G60: ='Coast Field'!B38 -> Tiffany Sainz | H60: ='Coast Field'!C38 -> CCSF | I60: ='Coast Field'!D38 -> 0 | J60: ='Coast Field'!F38 -> 0 | K60: =J60/I60 -> #DIV/0! | M60: ='Coast Field'!B29 -> Alessandra Goldsborough | N60: ='Coast Field'!C29 -> CCSF | O60: ='Coast Field'!D29 -> 10 | P60: ='Coast Field'!G29 -> 2 | Q60: =P60/O60 -> 0.2
A61: ='Coast Field'!B15 -> Heather Larson | B61: ='Coast Field'!C15 -> Laney | C61: ='Coast Field'!D15 -> 1 | D61: ='Coast Field'!E15 -> 0 | E61: =D61/C61 -> 0 | G61: ='Coast Field'!B57 -> Maddie Torrence | H61: ='Coast Field'!C57 -> MERCED | I61: ='Coast Field'!D57 -> 0 | J61: ='Coast Field'!F57 -> 0 | K61: =J61/I61 -> #DIV/0! | M61: ='Coast Field'!B45 -> Alexa Tamayo | N61: ='Coast Field'!C45 -> CSM | O61: ='Coast Field'!D45 -> 12 | P61: ='Coast Field'!G45 -> 2 | Q61: =P61/O61 -> 0.16666667
A62: ='Coast Field'!B25 -> Maya Best | B62: ='Coast Field'!C25 -> Laney | C62: ='Coast Field'!D25 -> 1 | D62: ='Coast Field'!E25 -> 0 | E62: =D62/C62 -> 0 | G62: ='Coast Field'!B25 -> Maya Best | H62: ='Coast Field'!C25 -> Laney | I62: ='Coast Field'!D25 -> 1 | J62: ='Coast Field'!F25 -> 0 | K62: =J62/I62 -> 0 | M62: ='Coast Field'!B27 -> Rochelle Dewyer | N62: ='Coast Field'!C27 -> CCSF | O62: ='Coast Field'!D27 -> 11 | P62: ='Coast Field'!G27 -> 1 | Q62: =P62/O62 -> 0.090909091
A63: ='Coast Field'!B32 -> Ckoryna Lara | B63: ='Coast Field'!C32 -> CCSF | C63: ='Coast Field'!D32 -> 1 | D63: ='Coast Field'!E32 -> 0 | E63: =D63/C63 -> 0 | G63: ='Coast Field'!B32 -> Ckoryna Lara | H63: ='Coast Field'!C32 -> CCSF | I63: ='Coast Field'!D32 -> 1 | J63: ='Coast Field'!F32 -> 0 | K63: =J63/I63 -> 0 | M63: ='Coast Field'!B36 -> Breana Primitivo | N63: ='Coast Field'!C36 -> CCSF | O63: ='Coast Field'!D36 -> 12 | P63: ='Coast Field'!G36 -> 1 | Q63: =P63/O63 -> 0.083333333
A64: ='Coast Field'!B33 -> Erika Lugo | B64: ='Coast Field'!C33 -> CCSF | C64: ='Coast Field'!D33 -> 1 | D64: ='Coast Field'!E33 -> 0 | E64: =D64/C64 -> 0 | G64: ='Coast Field'!B33 -> Erika Lugo | H64: ='Coast Field'!C33 -> CCSF | I64: ='Coast Field'!D33 -> 1 | J64: ='Coast Field'!F33 -> 0 | K64: =J64/I64 -> 0 | M64: ='Coast Field'!B38 -> Tiffany Sainz | N64: ='Coast Field'!C38 -> CCSF | O64: ='Coast Field'!D38 -> 0 | P64: ='Coast Field'!G38 -> 0 | Q64: =P64/O64 -> #DIV/0!
A65: ='Coast Field'!B72 -> Bailey Beanland | B65: ='Coast Field'!C72 -> LPC | C65: ='Coast Field'!D72 -> 1 | D65: ='Coast Field'!E72 -> 0 | E65: =D65/C65 -> 0 | G65: ='Coast Field'!B56 -> Sydney | H65: ='Coast Field'!C56 -> MERCED1 | I65: ='Coast Field'!D56 -> 1 | J65: ='Coast Field'!F56 -> 0 | K65: =J65/I65 -> 0 | M65: ='Coast Field'!B57 -> Maddie Torrence | N65: ='Coast Field'!C57 -> MERCED | O65: ='Coast Field'!D57 -> 0 | P65: ='Coast Field'!G57 -> 0 | Q65: =P65/O65 -> #DIV/0!
A66: ='Coast Field'!B22 -> Shannon Voong | B66: ='Coast Field'!C22 -> Laney | C66: ='Coast Field'!D22 -> 3 | D66: ='Coast Field'!E22 -> 0 | E66: =D66/C66 -> 0 | G66: ='Coast Field'!B72 -> Bailey Beanland | H66: ='Coast Field'!C72 -> LPC | I66: ='Coast Field'!D72 -> 1 | J66: ='Coast Field'!F72 -> 0 | K66: =J66/I66 -> 0 | M66: ='Coast Field'!B25 -> Maya Best | N66: ='Coast Field'!C25 -> Laney | O66: ='Coast Field'!D25 -> 1 | P66: ='Coast Field'!G25 -> 0 | Q66: =P66/O66 -> 0
A67: ='Coast Field'!B24 -> Zahra Beatty-James | B67: ='Coast Field'!C24 -> Laney | C67: ='Coast Field'!D24 -> 3 | D67: ='Coast Field'!E24 -> 0 | E67: =D67/C67 -> 0 | G67: ='Coast Field'!B22 -> Shannon Voong | H67: ='Coast Field'!C22 -> Laney | I67: ='Coast Field'!D22 -> 3 | J67: ='Coast Field'!F22 -> 0 | K67: =J67/I67 -> 0 | M67: ='Coast Field'!B32 -> Ckoryna Lara | N67: ='Coast Field'!C32 -> CCSF | O67: ='Coast Field'!D32 -> 1 | P67: ='Coast Field'!G32 -> 0 | Q67: =P67/O67 -> 0
A68: ='Coast Field'!B63 -> Gina Zumkehr | B68: ='Coast Field'!C63 -> MERCED | C68: ='Coast Field'!D63 -> 3 | D68: ='Coast Field'!E63 -> 0 | E68: =D68/C68 -> 0 | G68: ='Coast Field'!B24 -> Zahra Beatty-James | H68: ='Coast Field'!C24 -> Laney | I68: ='Coast Field'!D24 -> 3 | J68: ='Coast Field'!F24 -> 0 | K68: =J68/I68 -> 0 | M68: ='Coast Field'!B33 -> Erika Lugo | N68: ='Coast Field'!C33 -> CCSF | O68: ='Coast Field'!D33 -> 1 | P68: ='Coast Field'!G33 -> 0 | Q68: =P68/O68 -> 0
A69: ='Coast Field'!B26 -> Brooke Ashton | B69: ='Coast Field'!C26 -> CCSF | C69: ='Coast Field'!D26 -> 7 | D69: ='Coast Field'!E26 -> 0 | E69: =D69/C69 -> 0 | G69: ='Coast Field'!B63 -> Gina Zumkehr | H69: ='Coast Field'!C63 -> MERCED | I69: ='Coast Field'!D63 -> 3 | J69: ='Coast Field'!F63 -> 0 | K69: =J69/I69 -> 0 | M69: ='Coast Field'!B56 -> Sydney | N69: ='Coast Field'!C56 -> MERCED1 | O69: ='Coast Field'!D56 -> 1 | P69: ='Coast Field'!G56 -> 0 | Q69: =P69/O69 -> 0
A70: ='Coast Field'!B39 -> Emily Schattenburg | B70: ='Coast Field'!C39 -> CCSF | C70: ='Coast Field'!D39 -> 7 | D70: ='Coast Field'!E39 -> 0 | E70: =D70/C70 -> 0 | G70: ='Coast Field'!B64 -> Kidra Avery | H70: ='Coast Field'!C64 -> MERCED | I70: ='Coast Field'!D64 -> 4 | J70: ='Coast Field'!F64 -> 0 | K70: =J70/I70 -> 0 | M70: ='Coast Field'!B72 -> Bailey Beanland | N70: ='Coast Field'!C72 -> LPC | O70: ='Coast Field'!D72 -> 1 | P70: ='Coast Field'!G72 -> 0 | Q70: =P70/O70 -> 0
A71: ='Coast Field'!B42 -> Srira Zadmehran | B71: ='Coast Field'!C42 -> CCSF | C71: ='Coast Field'!D42 -> 7 | D71: ='Coast Field'!E42 -> 0 | E71: =D71/C71 -> 0 | G71: ='Coast Field'!B11 -> Lauren Youhanna | H71: ='Coast Field'!C11 -> FH | I71: ='Coast Field'!D11 -> 5 | J71: ='Coast Field'!F11 -> 0 | K71: =J71/I71 -> 0 | M71: ='Coast Field'!B22 -> Shannon Voong | N71: ='Coast Field'!C22 -> Laney | O71: ='Coast Field'!D22 -> 3 | P71: ='Coast Field'!G22 -> 0 | Q71: =P71/O71 -> 0
A72: ='Coast Field'!B31 -> Amber Izumi | B72: ='Coast Field'!C31 -> CCSF | C72: ='Coast Field'!D31 -> 8 | D72: ='Coast Field'!E31 -> 0 | E72: =D72/C72 -> 0 | G72: ='Coast Field'!B42 -> Srira Zadmehran | H72: ='Coast Field'!C42 -> CCSF | I72: ='Coast Field'!D42 -> 7 | J72: ='Coast Field'!F42 -> 0 | K72: =J72/I72 -> 0 | M72: ='Coast Field'!B24 -> Zahra Beatty-James | N72: ='Coast Field'!C24 -> Laney | O72: ='Coast Field'!D24 -> 3 | P72: ='Coast Field'!G24 -> 0 | Q72: =P72/O72 -> 0
A73: ='Coast Field'!B61 -> Haylee Eagleton | B73: ='Coast Field'!C61 -> MERCED | C73: ='Coast Field'!D61 -> 8 | D73: ='Coast Field'!E61 -> 0 | E73: =D73/C73 -> 0 | G73: ='Coast Field'!B58 -> Seavanna Garcia | H73: ='Coast Field'!C58 -> MERCED | I73: ='Coast Field'!D58 -> 8 | J73: ='Coast Field'!F58 -> 0 | K73: =J73/I73 -> 0 | M73: ='Coast Field'!B63 -> Gina Zumkehr | N73: ='Coast Field'!C63 -> MERCED | O73: ='Coast Field'!D63 -> 3 | P73: ='Coast Field'!G63 -> 0 | Q73: =P73/O73 -> 0
A74: ='Coast Field'!B30 -> Amelia Hobbs | B74: ='Coast Field'!C30 -> CCSF | C74: ='Coast Field'!D30 -> 9 | D74: ='Coast Field'!E30 -> 0 | E74: =D74/C74 -> 0 | G74: ='Coast Field'!B30 -> Amelia Hobbs | H74: ='Coast Field'!C30 -> CCSF | I74: ='Coast Field'!D30 -> 9 | J74: ='Coast Field'!F30 -> 0 | K74: =J74/I74 -> 0 | M74: ='Coast Field'!B64 -> Kidra Avery | N74: ='Coast Field'!C64 -> MERCED | O74: ='Coast Field'!D64 -> 4 | P74: ='Coast Field'!G64 -> 0 | Q74: =P74/O74 -> 0
A75: ='Coast Field'!B27 -> Rochelle Dewyer | B75: ='Coast Field'!C27 -> CCSF | C75: ='Coast Field'!D27 -> 11 | D75: ='Coast Field'!E27 -> 0 | E75: =D75/C75 -> 0 | G75: ='Coast Field'!B27 -> Rochelle Dewyer | H75: ='Coast Field'!C27 -> CCSF | I75: ='Coast Field'!D27 -> 11 | J75: ='Coast Field'!F27 -> 0 | K75: =J75/I75 -> 0 | M75: ='Coast Field'!B65 -> Kaylee Coca | N75: ='Coast Field'!C65 -> MERCED | O75: ='Coast Field'!D65 -> 4 | P75: ='Coast Field'!G65 -> 0 | Q75: =P75/O75 -> 0
A76: ='Coast Field'!B36 -> Breana Primitivo | B76: ='Coast Field'!C36 -> CCSF | C76: ='Coast Field'!D36 -> 12 | D76: ='Coast Field'!E36 -> 0 | E76: =D76/C76 -> 0 | G76: ='Coast Field'!B36 -> Breana Primitivo | H76: ='Coast Field'!C36 -> CCSF | I76: ='Coast Field'!D36 -> 12 | J76: ='Coast Field'!F36 -> 0 | K76: =J76/I76 -> 0 | M76: ='Coast Field'!B42 -> Srira Zadmehran | N76: ='Coast Field'!C42 -> CCSF | O76: ='Coast Field'!D42 -> 7 | P76: ='Coast Field'!G42 -> 0 | Q76: =P76/O76 -> 0
A77: ='Coast Field'!B71 -> Gina Mueller | B77: ='Coast Field'!C71 -> LPC | C77: ='Coast Field'!D71 -> 17 | D77: ='Coast Field'!E71 -> 0 | E77: =D77/C77 -> 0 | G77: ='Coast Field'!B14 -> Kathryn Vargas | H77: ='Coast Field'!C14 -> Laney | I77: ='Coast Field'!D14 -> 18 | J77: ='Coast Field'!F14 -> 0 | K77: =J77/I77 -> 0 | M77: ='Coast Field'!B58 -> Seavanna Garcia | N77: ='Coast Field'!C58 -> MERCED | O77: ='Coast Field'!D58 -> 8 | P77: ='Coast Field'!G58 -> 0 | Q77: =P77/O77 -> 0
A78: ='Coast Field'!B19 -> Sharon Sandoval | B78: ='Coast Field'!C19 -> Laney | C78: ='Coast Field'!D19 -> 18 | D78: ='Coast Field'!E19 -> 0 | E78: =D78/C78 -> 0 | G78: ='Coast Field'!B19 -> Sharon Sandoval | H78: ='Coast Field'!C19 -> Laney | I78: ='Coast Field'!D19 -> 18 | J78: ='Coast Field'!F19 -> 0 | K78: =J78/I78 -> 0 | M78: ='Coast Field'!B30 -> Amelia Hobbs | N78: ='Coast Field'!C30 -> CCSF | O78: ='Coast Field'!D30 -> 9 | P78: ='Coast Field'!G30 -> 0 | Q78: =P78/O78 -> 0

Sheet Coast Goalie Leaders
A1: Name | B1: Team | C1: GP | D1: Goals | E1: G/G | G1: Name | H1: Team | I1: GP | J1: Blocks | K1: B/G
A2: ='Coast Goal'!B7 -> Brontae Gomes | B2: ='Coast Goal'!C7 -> MERCED | C2: ='Coast Goal'!D7 -> 1 | D2: ='Coast Goal'!E7 -> 2 | E2: =D2/C2 -> 2 | G2: ='Coast Goal'!B8 -> Emily Schattenburg | H2: ='Coast Goal'!C8 -> CCSF | I2: ='Coast Goal'!D8 -> 12 | J2: ='Coast Goal'!F8 -> 149 | K2: =J2/I2 -> 12.416667
A3: ='Coast Goal'!B3 -> Natalie Thiel | B3: ='Coast Goal'!C3 -> FH | C3: ='Coast Goal'!D3 -> 16 | D3: ='Coast Goal'!E3 -> 36 | E3: =D3/C3 -> 2.25 | G3: ='Coast Goal'!B11 -> Shelby Mcmillan | H3: ='Coast Goal'!C11 -> CSM | I3: ='Coast Goal'!D11 -> 17 | J3: ='Coast Goal'!F11 -> 120 | K3: =J3/I3 -> 7.0588235
A4: ='Coast Goal'!B9 -> Erika Lugo | B4: ='Coast Goal'!C9 -> CCSF | C4: ='Coast Goal'!D9 -> 1 | D4: ='Coast Goal'!E9 -> 4 | E4: =D4/C4 -> 4 | G4: ='Coast Goal'!B10 -> Sina Gomez | H4: ='Coast Goal'!C10 -> CSM | I4: ='Coast Goal'!D10 -> 19 | J4: ='Coast Goal'!F10 -> 121 | K4: =J4/I4 -> 6.3684211
A5: ='Coast Goal'!B11 -> Shelby Mcmillan | B5: ='Coast Goal'!C11 -> CSM | C5: ='Coast Goal'!D11 -> 17 | D5: ='Coast Goal'!E11 -> 89 | E5: =D5/C5 -> 5.2352941 | G5: ='Coast Goal'!B2 -> Donya Dehnad | H5: ='Coast Goal'!C2 -> FH | I5: ='Coast Goal'!D2 -> 21 | J5: ='Coast Goal'!F2 -> 142 | K5: =J5/I5 -> 6.7619048
A6: ='Coast Goal'!B4 -> Emma Canalin | B6: ='Coast Goal'!C4 -> Laney | C6: ='Coast Goal'!D4 -> 5 | D6: ='Coast Goal'!E4 -> 21 | E6: =D6/C6 -> 4.2 | G6: ='Coast Goal'!B6 -> Sydney | H6: ='Coast Goal'!C6 -> MERCED | I6: ='Coast Goal'!D6 -> 8 | J6: ='Coast Goal'!F6 -> 52 | K6: =J6/I6 -> 6.5
A7: ='Coast Goal'!B2 -> Donya Dehnad | B7: ='Coast Goal'!C2 -> FH | C7: ='Coast Goal'!D2 -> 21 | D7: ='Coast Goal'!E2 -> 100 | E7: =D7/C7 -> 4.7619048 | G7: ='Coast Goal'!B3 -> Natalie Thiel | H7: ='Coast Goal'!C3 -> FH | I7: ='Coast Goal'!D3 -> 16 | J7: ='Coast Goal'!F3 -> 86 | K7: =J7/I7 -> 5.375
A8: ='Coast Goal'!B10 -> Sina Gomez | B8: ='Coast Goal'!C10 -> CSM | C8: ='Coast Goal'!D10 -> 19 | D8: ='Coast Goal'!E10 -> 122 | E8: =D8/C8 -> 6.4210526 | G8: ='Coast Goal'!B7 -> Brontae Gomes | H8: ='Coast Goal'!C7 -> MERCED | I8: ='Coast Goal'!D7 -> 1 | J8: ='Coast Goal'!F7 -> 4 | K8: =J8/I8 -> 4
A9: ='Coast Goal'!B5 -> Heather Larson | B9: ='Coast Goal'!C5 -> Laney | C9: ='Coast Goal'!D5 -> 18 | D9: ='Coast Goal'!E5 -> 212 | E9: =D9/C9 -> 11.777778 | G9: ='Coast Goal'!B9 -> Erika Lugo | H9: ='Coast Goal'!C9 -> CCSF | I9: ='Coast Goal'!D9 -> 1 | J9: ='Coast Goal'!F9 -> 4 | K9: =J9/I9 -> 4
A10: ='Coast Goal'!B6 -> Sydney | B10: ='Coast Goal'!C6 -> MERCED | C10: ='Coast Goal'!D6 -> 8 | D10: ='Coast Goal'!E6 -> 73 | E10: =D10/C10 -> 9.125 | G10: ='Coast Goal'!B5 -> Heather Larson | H10: ='Coast Goal'!C5 -> Laney | I10: ='Coast Goal'!D5 -> 18 | J10: ='Coast Goal'!F5 -> 150 | K10: =J10/I10 -> 8.3333333
A11: ='Coast Goal'!B8 -> Emily Schattenburg | B11: ='Coast Goal'!C8 -> CCSF | C11: ='Coast Goal'!D8 -> 12 | D11: ='Coast Goal'!E8 -> 157 | E11: =D11/C11 -> 13.083333 | G11: ='Coast Goal'!B4 -> Emma Canalin | H11: ='Coast Goal'!C4 -> Laney | I11: ='Coast Goal'!D4 -> 5 | J11: ='Coast Goal'!F4 -> 8 | K11: =J11/I11 -> 1.6

Sheet Coast Field
A1: Cap # | B1: Athlete | C1: School | D1: GP | E1: GLS | F1: AST | G1: STL | H1: G/G | I1: A/G | J1: S/G
A2: =Foothill!A3 -> 2 | B2: =Foothill!B3 -> Layna Auchard | C2: =Foothill!C3 -> FH | D2: =Foothill!D3 -> 24 | E2: =Foothill!E3 -> 37 | F2: =Foothill!F3 -> 12 | G2: =Foothill!G3 -> 53 | H2: =E2/D2 -> 1.5416667 | I2: =F2/D2 -> 0.5 | J2: =G2/D2 -> 2.2083333
A3: =Foothill!A4 -> 3 | B3: =Foothill!B4 -> Kerstyn Pantoja | C3: =Foothill!C4 -> FH | D3: =Foothill!D4 -> 24 | E3: =Foothill!E4 -> 8 | F3: =Foothill!F4 -> 15 | G3: =Foothill!G4 -> 39 | H3: =E3/D3 -> 0.33333333 | I3: =F3/D3 -> 0.625 | J3: =G3/D3 -> 1.625
A4: =Foothill!A5 -> 4 | B4: =Foothill!B5 -> Shannon Sullivan | C4: =Foothill!C5 -> FH | D4: =Foothill!D5 -> 16 | E4: =Foothill!E5 -> 12 | F4: =Foothill!F5 -> 5 | G4: =Foothill!G5 -> 33 | H4: =E4/D4 -> 0.75 | I4: =F4/D4 -> 0.3125 | J4: =G4/D4 -> 2.0625
A5: =Foothill!A6 -> 5 | B5: =Foothill!B6 -> Erin Hepner | C5: =Foothill!C6 -> FH | D5: =Foothill!D6 -> 24 | E5: =Foothill!E6 -> 26 | F5: =Foothill!F6 -> 8 | G5: =Foothill!G6 -> 23 | H5: =E5/D5 -> 1.0833333 | I5: =F5/D5 -> 0.33333333 | J5: =G5/D5 -> 0.95833333
A6: =Foothill!A7 -> 7 | B6: =Foothill!B7 -> Shae Boutte | C6: =Foothill!C7 -> FH | D6: =Foothill!D7 -> 24 | E6: =Foothill!E7 -> 38 | F6: =Foothill!F7 -> 5 | G6: =Foothill!G7 -> 22 | H6: =E6/D6 -> 1.5833333 | I6: =F6/D6 -> 0.20833333 | J6: =G6/D6 -> 0.91666667
A7: =Foothill!A8 -> 8 | B7: =Foothill!B8 -> Lauren Lesyna | C7: =Foothill!C8 -> FH | D7: =Foothill!D8 -> 24 | E7: =Foothill!E8 -> 76 | F7: =Foothill!F8 -> 8 | G7: =Foothill!G8 -> 48 | H7: =E7/D7 -> 3.1666667 | I7: =F7/D7 -> 0.33333333 | J7: =G7/D7 -> 2
A8: =Foothill!A9 -> 9 | B8: =Foothill!B9 -> Chase Mase | C8: =Foothill!C9 -> FH | D8: =Foothill!D9 -> 12 | E8: =Foothill!E9 -> 16 | F8: =Foothill!F9 -> 6 | G8: =Foothill!G9 -> 3 | H8: =E8/D8 -> 1.3333333 | I8: =F8/D8 -> 0.5 | J8: =G8/D8 -> 0.25
A9: =Foothill!A10 -> 12 | B9: =Foothill!B10 -> Stephanie Herrera | C9: =Foothill!C10 -> FH | D9: =Foothill!D10 -> 24 | E9: =Foothill!E10 -> 27 | F9: =Foothill!F10 -> 2 | G9: =Foothill!G10 -> 21 | H9: =E9/D9 -> 1.125 | I9: =F9/D9 -> 0.083333333 | J9: =G9/D9 -> 0.875
A10: =Foothill!A11 -> 15 | B10: =Foothill!B11 -> Analise Alforque-Acevedo | C10: =Foothill!C11 -> FH | D10: =Foothill!D11 -> 23 | E10: =Foothill!E11 -> 24 | F10: =Foothill!F11 -> 8 | G10: =Foothill!G11 -> 33 | H10: =E10/D10 -> 1.0434783 | I10: =F10/D10 -> 0.34782609 | J10: =G10/D10 -> 1.4347826
A11: =Foothill!A12 -> 16 | B11: =Foothill!B12 -> Lauren Youhanna | C11: =Foothill!C12 -> FH | D11: =Foothill!D12 -> 5 | E11: =Foothill!E12 -> 9 | F11: =Foothill!F12 -> 0 | G11: =Foothill!G12 -> 3 | H11: =E11/D11 -> 1.8 | I11: =F11/D11 -> 0 | J11: =G11/D11 -> 0.6
A12: =Foothill!A13 -> 17 | B12: =Foothill!B13 -> Samantha McClusky | C12: =Foothill!C13 -> FH | D12: =Foothill!D13 -> 17 | E12: =Foothill!E13 -> 30 | F12: =Foothill!F13 -> 6 | G12: =Foothill!G13 -> 22 | H12: =E12/D12 -> 1.7647059 | I12: =F12/D12 -> 0.35294118 | J12: =G12/D12 -> 1.2941176
A13: =Laney!A3 -> 2 | B13: =Laney!B3 -> Helene Takamura | C13: =Laney!C3 -> Laney | D13: =Laney!D3 -> 16 | E13: =Laney!E3 -> 18 | F13: =Laney!F3 -> 1 | G13: =Laney!G3 -> 21 | H13: =E13/D13 -> 1.125 | I13: =F13/D13 -> 0.0625 | J13: =G13/D13 -> 1.3125
A14: =Laney!A4 -> 3 | B14: =Laney!B4 -> Kathryn Vargas | C14: =Laney!C4 -> Laney | D14: =Laney!D4 -> 18 | E14: =Laney!E4 -> 3 | F14: =Laney!F4 -> 0 | G14: =Laney!G4 -> 3 | H14: =E14/D14 -> 0.16666667 | I14: =F14/D14 -> 0 | J14: =G14/D14 -> 0.16666667
A15: =Laney!A5 -> 4 | B15: =Laney!B5 -> Heather Larson | C15: =Laney!C5 -> Laney | D15: =Laney!D5 -> 1 | E15: =Laney!E5 -> 0 | F15: =Laney!F5 -> 2 | G15: =Laney!G5 -> 4 | H15: =E15/D15 -> 0 | I15: =F15/D15 -> 2 | J15: =G15/D15 -> 4
A16: =Laney!A6 -> 5 | B16: =Laney!B6 -> Isabel Moser | C16: =Laney!C6 -> Laney | D16: =Laney!D6 -> 16 | E16: =Laney!E6 -> 6 | F16: =Laney!F6 -> 1 | G16: =Laney!G6 -> 4 | H16: =E16/D16 -> 0.375 | I16: =F16/D16 -> 0.0625 | J16: =G16/D16 -> 0.25
A17: =Laney!A7 -> 6 | B17: =Laney!B7 -> Anneke Moser | C17: =Laney!C7 -> Laney | D17: =Laney!D7 -> 18 | E17: =Laney!E7 -> 7 | F17: =Laney!F7 -> 3 | G17: =Laney!G7 -> 6 | H17: =E17/D17 -> 0.38888889 | I17: =F17/D17 -> 0.16666667 | J17: =G17/D17 -> 0.33333333
A18: =Laney!A8 -> 7 | B18: =Laney!B8 -> Sophia Preach | C18: =Laney!C8 -> Laney | D18: =Laney!D8 -> 18 | E18: =Laney!E8 -> 1 | F18: =Laney!F8 -> 3 | G18: =Laney!G8 -> 3 | H18: =E18/D18 -> 0.055555556 | I18: =F18/D18 -> 0.16666667 | J18: =G18/D18 -> 0.16666667
A19: =Laney!A10 -> 9 | B19: =Laney!B10 -> Sharon Sandoval | C19: =Laney!C10 -> Laney | D19: =Laney!D10 -> 18 | E19: =Laney!E10 -> 0 | F19: =Laney!F10 -> 0 | G19: =Laney!G10 -> 4 | H19: =E19/D19 -> 0 | I19: =F19/D19 -> 0 | J19: =G19/D19 -> 0.22222222
A20: =Laney!A11 -> 10 | B20: =Laney!B11 -> Emma Canalin | C20: =Laney!C11 -> Laney | D20: =Laney!D11 -> 7 | E20: =Laney!E11 -> 10 | F20: =Laney!F11 -> 1 | G20: =Laney!G11 -> 7 | H20: =E20/D20 -> 1.4285714 | I20: =F20/D20 -> 0.14285714 | J20: =G20/D20 -> 1
A21: =Laney!A12 -> 11 | B21: =Laney!B12 -> Jade Le | C21: =Laney!C12 -> Laney | D21: =Laney!D12 -> 18 | E21: =Laney!E12 -> 6 | F21: =Laney!F12 -> 2 | G21: =Laney!G12 -> 4 | H21: =E21/D21 -> 0.33333333 | I21: =F21/D21 -> 0.11111111 | J21: =G21/D21 -> 0.22222222
A22: =Laney!A13 -> 12 | B22: =Laney!B13 -> Shannon Voong | C22: =Laney!C13 -> Laney | D22: =Laney!D13 -> 3 | E22: =Laney!E13 -> 0 | F22: =Laney!F13 -> 0 | G22: =Laney!G13 -> 0 | H22: =E22/D22 -> 0 | I22: =F22/D22 -> 0 | J22: =G22/D22 -> 0
A23: =Laney!A14 -> 13 | B23: =Laney!B14 -> Patricia Coppage | C23: =Laney!C14 -> Laney | D23: =Laney!D14 -> 15 | E23: =Laney!E14 -> 1 | F23: =Laney!F14 -> 1 | G23: =Laney!G14 -> 5 | H23: =E23/D23 -> 0.066666667 | I23: =F23/D23 -> 0.066666667 | J23: =G23/D23 -> 0.33333333
A24: =Laney!A15 -> 14 | B24: =Laney!B15 -> Zahra Beatty-James | C24: =Laney!C15 -> Laney | D24: =Laney!D15 -> 3 | E24: =Laney!E15 -> 0 | F24: =Laney!F15 -> 0 | G24: =Laney!G15 -> 0 | H24: =E24/D24 -> 0 | I24: =F24/D24 -> 0 | J24: =G24/D24 -> 0
A25: =Laney!A16 -> 15 | B25: =Laney!B16 -> Maya Best | C25: =Laney!C16 -> Laney | D25: =Laney!D16 -> 1 | E25: =Laney!E16 -> 0 | F25: =Laney!F16 -> 0 | G25: =Laney!G16 -> 0 | H25: =E25/D25 -> 0 | I25: =F25/D25 -> 0 | J25: =G25/D25 -> 0
A26: =CCSF!A3 -> 0 | B26: =CCSF!B3 -> Brooke Ashton | C26: =CCSF!C3 -> CCSF | D26: =CCSF!D3 -> 7 | E26: =CCSF!E3 -> 0 | F26: =CCSF!F3 -> 1 | G26: =CCSF!G3 -> 2 | H26: =E26/D26 -> 0 | I26: =F26/D26 -> 0.14285714 | J26: =G26/D26 -> 0.28571429
A27: =CCSF!A4 -> 0 | B27: =CCSF!B4 -> Rochelle Dewyer | C27: =CCSF!C4 -> CCSF | D27: =CCSF!D4 -> 11 | E27: =CCSF!E4 -> 0 | F27: =CCSF!F4 -> 0 | G27: =CCSF!G4 -> 1 | H27: =E27/D27 -> 0 | I27: =F27/D27 -> 0 | J27: =G27/D27 -> 0.090909091
A28: =CCSF!A5 -> 0 | B28: =CCSF!B5 -> Daniela Fiestas-Paredes | C28: =CCSF!C5 -> CCSF | D28: =CCSF!D5 -> 10 | E28: =CCSF!E5 -> 3 | F28: =CCSF!F5 -> 4 | G28: =CCSF!G5 -> 24 | H28: =E28/D28 -> 0.3 | I28: =F28/D28 -> 0.4 | J28: =G28/D28 -> 2.4
A29: =CCSF!A6 -> 0 | B29: =CCSF!B6 -> Alessandra Goldsborough | C29: =CCSF!C6 -> CCSF | D29: =CCSF!D6 -> 10 | E29: =CCSF!E6 -> 1 | F29: =CCSF!F6 -> 2 | G29: =CCSF!G6 -> 2 | H29: =E29/D29 -> 0.1 | I29: =F29/D29 -> 0.2 | J29: =G29/D29 -> 0.2
A30: =CCSF!A7 -> 0 | B30: =CCSF!B7 -> Amelia Hobbs | C30: =CCSF!C7 -> CCSF | D30: =CCSF!D7 -> 9 | E30: =CCSF!E7 -> 0 | F30: =CCSF!F7 -> 0 | G30: =CCSF!G7 -> 0 | H30: =E30/D30 -> 0 | I30: =F30/D30 -> 0 | J30: =G30/D30 -> 0
A31: =CCSF!A8 -> 0 | B31: =CCSF!B8 -> Amber Izumi | C31: =CCSF!C8 -> CCSF | D31: =CCSF!D8 -> 8 | E31: =CCSF!E8 -> 0 | F31: =CCSF!F8 -> 4 | G31: =CCSF!G8 -> 3 | H31: =E31/D31 -> 0 | I31: =F31/D31 -> 0.5 | J31: =G31/D31 -> 0.375
A32: =CCSF!A9 -> 0 | B32: =CCSF!B9 -> Ckoryna Lara | C32: =CCSF!C9 -> CCSF | D32: =CCSF!D9 -> 1 | E32: =CCSF!E9 -> 0 | F32: =CCSF!F9 -> 0 | G32: =CCSF!G9 -> 0 | H32: =E32/D32 -> 0 | I32: =F32/D32 -> 0 | J32: =G32/D32 -> 0
A33: =CCSF!A10 -> 0 | B33: =CCSF!B10 -> Erika Lugo | C33: =CCSF!C10 -> CCSF | D33: =CCSF!D10 -> 1 | E33: =CCSF!E10 -> 0 | F33: =CCSF!F10 -> 0 | G33: =CCSF!G10 -> 0 | H33: =E33/D33 -> 0 | I33: =F33/D33 -> 0 | J33: =G33/D33 -> 0
A34: =CCSF!A11 -> 0 | B34: =CCSF!B11 -> Brenda Ortiz | C34: =CCSF!C11 -> CCSF | D34: =CCSF!D11 -> 9 | E34: =CCSF!E11 -> 1 | F34: =CCSF!F11 -> 3 | G34: =CCSF!G11 -> 2 | H34: =E34/D34 -> 0.11111111 | I34: =F34/D34 -> 0.33333333 | J34: =G34/D34 -> 0.22222222
A35: =CCSF!A12 -> 0 | B35: =CCSF!B12 -> Raquel Pea | C35: =CCSF!C12 -> CCSF | D35: =CCSF!D12 -> 9 | E35: =CCSF!E12 -> 11 | F35: =CCSF!F12 -> 7 | G35: =CCSF!G12 -> 6 | H35: =E35/D35 -> 1.2222222 | I35: =F35/D35 -> 0.77777778 | J35: =G35/D35 -> 0.66666667
A36: =CCSF!A13 -> 0 | B36: =CCSF!B13 -> Breana Primitivo | C36: =CCSF!C13 -> CCSF | D36: =CCSF!D13 -> 12 | E36: =CCSF!E13 -> 0 | F36: =CCSF!F13 -> 0 | G36: =CCSF!G13 -> 1 | H36: =E36/D36 -> 0 | I36: =F36/D36 -> 0 | J36: =G36/D36 -> 0.083333333
A37: =CCSF!A14 -> 0 | B37: =CCSF!B14 -> Patricia Rivas | C37: =CCSF!C14 -> CCSF | D37: =CCSF!D14 -> 10 | E37: =CCSF!E14 -> 11 | F37: =CCSF!F14 -> 3 | G37: =CCSF!G14 -> 4 | H37: =E37/D37 -> 1.1 | I37: =F37/D37 -> 0.3 | J37: =G37/D37 -> 0.4
... A42: =CCSF!A19 -> 0 | B42: =CCSF!B19 -> Srira Zadmehran | C42: =CCSF!C19 -> CCSF | D42: =CCSF!D19 -> 7 | E42: =CCSF!E19 -> 0 | F42: =CCSF!F19 -> 0 | G42: =CCSF!G19 -> 0 | H42: =E42/D42 -> 0 | I42: =F42/D42 -> 0 | J42: =G42/D42 -> 0
A43: =CSM!A3 -> 2 | B43: =CSM!B3 -> Jessica Stafford | C43: =CSM!C3 -> CSM | D43: =CSM!D3 -> 18 | E43: =CSM!E3 -> 1 | F43: =CSM!F3 -> 5 | G43: =CSM!G3 -> 8 | H43: =E43/D43 -> 0.055555556 | I43: =F43/D43 -> 0.27777778 | J43: =G43/D43 -> 0.44444444
A44: =CSM!A4 -> 3 | B44: =CSM!B4 -> Michelle Plante | C44: =CSM!C4 -> CSM | D44: =CSM!D4 -> 22 | E44: =CSM!E4 -> 1 | F44: =CSM!F4 -> 7 | G44: =CSM!G4 -> 16 | H44: =E44/D44 -> 0.045454545 | I44: =F44/D44 -> 0.31818182 | J44: =G44/D44 -> 0.72727273
A45: =CSM!A5 -> 5 | B45: =CSM!B5 -> Alexa Tamayo | C45: =CSM!C5 -> CSM | D45: =CSM!D5 -> 12 | E45: =CSM!E5 -> 1 | F45: =CSM!F5 -> 2 | G45: =CSM!G5 -> 2 | H45: =E45/D45 -> 0.083333333 | I45: =F45/D45 -> 0.16666667 | J45: =G45/D45 -> 0.16666667
A46: =CSM!A6 -> 6 | B46: =CSM!B6 -> Vanessa Kibblewhite | C46: =CSM!C6 -> CSM | D46: =CSM!D6 -> 22 | E46: =CSM!E6 -> 80 | F46: =CSM!F6 -> 38 | G46: =CSM!G6 -> 51 | H46: =E46/D46 -> 3.6363636 | I46: =F46/D46 -> 1.7272727 | J46: =G46/D46 -> 2.3181818
A47: =CSM!A7 -> 7 | B47: =CSM!B7 -> Taylor Anderson | C47: =CSM!C7 -> CSM | D47: =CSM!D7 -> 8 | E47: =CSM!E7 -> 2 | F47: =CSM!F7 -> 7 | G47: =CSM!G7 -> 7 | H47: =E47/D47 -> 0.25 | I47: =F47/D47 -> 0.875 | J47: =G47/D47 -> 0.875
A48: =CSM!A8 -> 8 | B48: =CSM!B8 -> Shelby Mcmillan | C48: =CSM!C8 -> CSM | D48: =CSM!D8 -> 15 | E48: =CSM!E8 -> 3 | F48: =CSM!F8 -> 3 | G48: =CSM!G8 -> 7 | H48: =E48/D48 -> 0.2 | I48: =F48/D48 -> 0.2 | J48: =G48/D48 -> 0.46666667
A49: =CSM!A9 -> 9 | B49: =CSM!B9 -> Sina Gomez | C49: =CSM!C9 -> CSM | D49: =CSM!D9 -> 18 | E49: =CSM!E9 -> 7 | F49: =CSM!F9 -> 23 | G49: =CSM!G9 -> 29 | H49: =E49/D49 -> 0.38888889 | I49: =F49/D49 -> 1.2777778 | J49: =G49/D49 -> 1.6111111
A50: =CSM!A10 -> 10 | B50: =CSM!B10 -> Gretta Musayelyan | C50: =CSM!C10 -> CSM | D50: =CSM!D10 -> 13 | E50: =CSM!E10 -> 12 | F50: =CSM!F10 -> 25 | G50: =CSM!G10 -> 36 | H50: =E50/D50 -> 0.92307692 | I50: =F50/D50 -> 1.9230769 | J50: =G50/D50 -> 2.7692308
A51: =CSM!A11 -> 11 | B51: =CSM!B11 -> Olivia Cosca | C51: =CSM!C11 -> CSM | D51: =CSM!D11 -> 22 | E51: =CSM!E11 -> 52 | F51: =CSM!F11 -> 51 | G51: =CSM!G11 -> 25 | H51: =E51/D51 -> 2.3636364 | I51: =F51/D51 -> 2.3181818 | J51: =G51/D51 -> 1.1363636
A52: =CSM!A12 -> 13 | B52: =CSM!B12 -> Morgan Smith | C52: =CSM!C12 -> CSM | D52: =CSM!D12 -> 18 | E52: =CSM!E12 -> 49 | F52: =CSM!F12 -> 36 | G52: =CSM!G12 -> 42 | H52: =E52/D52 -> 2.7222222 | I52: =F52/D52 -> 2 | J52: =G52/D52 -> 2.3333333
A53: =Merced!A3 -> 2 | B53: =Merced!B3 -> Kim Canisso | C53: =Merced!C3 -> MERCED | D53: =Merced!D3 -> 8 | E53: =Merced!E3 -> 12 | F53: =Merced!F3 -> 15 | G53: =Merced!G3 -> 18 | H53: =E53/D53 -> 1.5 | I53: =F53/D53 -> 1.875 | J53: =G53/D53 -> 2.25
A54: =Merced!A4 -> 3 | B54: =Merced!B4 -> Tiffany Fredrickson | C54: =Merced!C4 -> MERCED | D54: =Merced!D4 -> 8 | E54: =Merced!E4 -> 7 | F54: =Merced!F4 -> 11 | G54: =Merced!G4 -> 11 | H54: =E54/D54 -> 0.875 | I54: =F54/D54 -> 1.375 | J54: =G54/D54 -> 1.375
A55: =Merced!A5 -> 4 | B55: =Merced!B5 -> Rebekah Groteguth | C55: =Merced!C5 -> MERCED | D55: =Merced!D5 -> 8 | E55: =Merced!E5 -> 31 | F55: =Merced!F5 -> 20 | G55: =Merced!G5 -> 10 | H55: =E55/D55 -> 3.875 | I55: =F55/D55 -> 2.5 | J55: =G55/D55 -> 1.25
A56: =Merced!A6 -> 5 | B56: =Merced!B6 -> Sydney | C56: =Merced!C6 -> MERCED1 | D56: =Merced!D6 -> 1 | E56: =Merced!E6 -> 1 | F56: =Merced!F6 -> 0 | G56: =Merced!G6 -> 0 | H56: =E56/D56 -> 1 | I56: =F56/D56 -> 0 | J56: =G56/D56 -> 0
A57: =Merced!A7 -> 6 | B57: =Merced!B7 -> Maddie Torrence | C57: =Merced!C7 -> MERCED | D57: =Merced!D7 -> 0 | E57: =Merced!E7 -> 0 | F57: =Merced!F7 -> 0 | G57: =Merced!G7 -> 0 | H57: =E57/D57 -> #DIV/0! | I57: =F57/D57 -> #DIV/0! | J57: =G57/D57 -> #DIV/0!
A58: =Merced!A8 -> 7 | B58: =Merced!B8 -> Seavanna Garcia | C58: =Merced!C8 -> MERCED | D58: =Merced!D8 -> 8 | E58: =Merced!E8 -> 3 | F58: =Merced!F8 -> 0 | G58: =Merced!G8 -> 0 | H58: =E58/D58 -> 0.375 | I58: =F58/D58 -> 0 | J58: =G58/D58 -> 0
A59: =Merced!A9 -> 8 | B59: =Merced!B9 -> Shelia Buckingham | C59: =Merced!C9 -> MERCED | D59: =Merced!D9 -> 5 | E59: =Merced!E9 -> 2 | F59: =Merced!F9 -> 5 | G59: =Merced!G9 -> 2 | H59: =E59/D59 -> 0.4 | I59: =F59/D59 -> 1 | J59: =G59/D59 -> 0.4
A60: =Merced!A10 -> 9 | B60: =Merced!B10 -> Brontae Gomes | C60: =Merced!C10 -> MERCED | D60: =Merced!D10 -> 8 | E60: =Merced!E10 -> 15 | F60: =Merced!F10 -> 14 | G60: =Merced!G10 -> 25 | H60: =E60/D60 -> 1.875 | I60: =F60/D60 -> 1.75 | J60: =G60/D60 -> 3.125
A61: =Merced!A11 -> 10 | B61: =Merced!B11 -> Haylee Eagleton | C61: =Merced!C11 -> MERCED | D61: =Merced!D11 -> 8 | E61: =Merced!E11 -> 0 | F61: =Merced!F11 -> 5 | G61: =Merced!G11 -> 4 | H61: =E61/D61 -> 0 | I61: =F61/D61 -> 0.625 | J61: =G61/D61 -> 0.5
A62: =Merced!A12 -> 11 | B62: =Merced!B12 -> Anjele Kepeghian | C62: =Merced!C12 -> MERCED | D62: =Merced!D12 -> 8 | E62: =Merced!E12 -> 10 | F62: =Merced!F12 -> 7 | G62: =Merced!G12 -> 2 | H62: =E62/D62 -> 1.25 | I62: =F62/D62 -> 0.875 | J62: =G62/D62 -> 0.25
A63: =Merced!A13 -> 12 | B63: =Merced!B13 -> Gina Zumkehr | C63: =Merced!C13 -> MERCED | D63: =Merced!D13 -> 3 | E63: =Merced!E13 -> 0 | F63: =Merced!F13 -> 0 | G63: =Merced!G13 -> 0 | H63: =E63/D63 -> 0 | I63: =F63/D63 -> 0 | J63: =G63/D63 -> 0
A64: =Merced!A15 -> 14 | B64: =Merced!B15 -> Kidra Avery | C64: =Merced!C15 -> MERCED | D64: =Merced!D15 -> 4 | E64: =Merced!E15 -> 2 | F64: =Merced!F15 -> 0 | G64: =Merced!G15 -> 0 | H64: =E64/D64 -> 0.5 | I64: =F64/D64 -> 0 | J64: =G64/D64 -> 0
A65: =Merced!A17 -> 16 | B65: =Merced!B17 -> Kaylee Coca | C65: =Merced!C17 -> MERCED | D65: =Merced!D17 -> 4 | E65: =Merced!E17 -> 1 | F65: =Merced!F17 -> 1 | G65: =Merced!G17 -> 0 | H65: =E65/D65 -> 0.25 | I65: =F65/D65 -> 0.25 | J65: =G65/D65 -> 0
A66: =Merced!A18 -> 21 | B66: =Merced!B18 -> Nicole Goodnight | C66: =Merced!C18 -> MERCED | D66: =Merced!D18 -> 8 | E66: =Merced!E18 -> 18 | F66: =Merced!F18 -> 10 | G66: =Merced!G18 -> 21 | H66: =E66/D66 -> 2.25 | I66: =F66/D66 -> 1.25 | J66: =G66/D66 -> 2.625
A67: ='Las Positas'!A3 -> 2 | B67: ='Las Positas'!B3 -> Madison Suoja | C67: ='Las Positas'!C3 -> LPC | D67: ='Las Positas'!D3 -> 13 | E67: ='Las Positas'!E3 -> 10 | F67: ='Las Positas'!F3 -> 7 | G67: ='Las Positas'!G3 -> 9 | H67: ='Las Positas'!H3 -> 0.76923077 | ... J67: ='Las Positas'!J3 -> 0.69230769
A68: ='Las Positas'!A4 -> 3 | B68: ='Las Positas'!B4 -> Charissa Taylor | C68: ='Las Positas'!C4 -> LPC | D68: ='Las Positas'!D4 -> 23 | E68: ='Las Positas'!E4 -> 41 | F68: ='Las Positas'!F4 -> 6 | G68: ='Las Positas'!G4 -> 47 | H68: ='Las Positas'!H4 -> 1.7826087 | ... J68: ='Las Positas'!J4 -> 2.0434783
A69: ='Las Positas'!A5 -> 4 | B69: ='Las Positas'!B5 -> Paris Sinclair | C69: ='Las Positas'!C5 -> LPC | D69: ='Las Positas'!D5 -> 22 | E69: ='Las Positas'!E5 -> 12 | F69: ='Las Positas'!F5 -> 4 | G69: ='Las Positas'!G5 -> 8 | H69: ='Las Positas'!H5 -> 0.54545455 | ... J69: ='Las Positas'!J5 -> 0.36363636
A70: ='Las Positas'!A6 -> 5 | B70: ='Las Positas'!B6 -> Alexia Venema | C70: ='Las Positas'!C6 -> LPC | D70: ='Las Positas'!D6 -> 19 | E70: ='Las Positas'!E6 -> 11 | F70: ='Las Positas'!F6 -> 7 | G70: ='Las Positas'!G6 -> 13 | H70: ='Las Positas'!H6 -> 0.57894737 | ... J70: ='Las Positas'!J6 -> 0.68421053
A71: ='Las Positas'!A7 -> 6 | B71: ='Las Positas'!B7 -> Gina Mueller | C71: ='Las Positas'!C7 -> LPC | D71: ='Las Positas'!D7 -> 17 | E71: ='Las Positas'!E7 -> 0 | F71: ='Las Positas'!F7 -> 1 | G71: ='Las Positas'!G7 -> 3 | H71: ='Las Positas'!H7 -> 0 | ... J71: ='Las Positas'!J7 -> 0.17647059
A72: ='Las Positas'!A8 -> 7 | B72: ='Las Positas'!B8 -> Bailey Beanland | C72: ='Las Positas'!C8 -> LPC | D72: ='Las Positas'!D8 -> 1 | E72: ='Las Positas'!E8 -> 0 | F72: ='Las Positas'!F8 -> 0 | G72: ='Las Positas'!G8 -> 0 | H72: ='Las Positas'!H8 -> 0 | ... J72: ='Las Positas'!J8 -> 0
A73: ='Las Positas'!A9 -> 11 | B73: ='Las Positas'!B9 -> Rachel Will | C73: ='Las Positas'!C9 -> LPC | D73: ='Las Positas'!D9 -> 23 | E73: ='Las Positas'!E9 -> 11 | F73: ='Las Positas'!F9 -> 4 | G73: ='Las Positas'!G9 -> 11 | H73: ='Las Positas'!H9 -> 0.47826087 | ... J73: ='Las Positas'!J9 -> 0.47826087
A74: ='Las Positas'!A10 -> 12 | B74: ='Las Positas'!B10 -> Danielle Kennedy | C74: ='Las Positas'!C10 -> LPC | D74: ='Las Positas'!D10 -> 17 | E74: ='Las Positas'!E10 -> 8 | F74: ='Las Positas'!F10 -> 3 | G74: ='Las Positas'!G10 -> 11 | H74: ='Las Positas'!H10 -> 0.47058824 | ... J74: ='Las Positas'!J10 -> 0.64705882
A75: ='Las Positas'!A11 -> 13 | B75: ='Las Positas'!B11 -> Mckenna Stevulak | C75: ='Las Positas'!C11 -> LPC | D75: ='Las Positas'!D11 -> 13 | E75: ='Las Positas'!E11 -> 6 | F75: ='Las Positas'!F11 -> 6 | G75: ='Las Positas'!G11 -> 27 | H75: ='Las Positas'!H11 -> 0.46153846 | ... J75: ='Las Positas'!J11 -> 2.0769231
A76: ='Las Positas'!A12 -> 14 | B76: ='Las Positas'!B12 -> Lauren Cano | C76: ='Las Positas'!C12 -> LPC | D76: ='Las Positas'!D12 -> 23 | E76: ='Las Positas'!E12 -> 11 | F76: ='Las Positas'!F12 -> 18 | G76: ='Las Positas'!G12 -> 24 | H76: ='Las Positas'!H12 -> 0.47826087 | ... J76: ='Las Positas'!J12 -> 1.0434783
A77: ='Las Positas'!A13 -> 15 | B77: ='Las Positas'!B13 -> Jillian Eicher | C77: ='Las Positas'!C13 -> LPC | D77: ='Las Positas'!D13 -> 22 | E77: ='Las Positas'!E13 -> 44 | F77: ='Las Positas'!F13 -> 7 | G77: ='Las Positas'!G13 -> 17 | H77: ='Las Positas'!H13 -> 2 | ... J77: ='Las Positas'!J13 -> 0.77272727
A78: =Foothill!A14 -> 11 | B78: =Foothill!B14 -> Courtney Kinderman | C78: =Foothill!C14 -> FH | D78: =Foothill!D14 -> 14 | E78: =Foothill!E14 -> 13 | F78: =Foothill!F14 -> 2 | G78: =Foothill!G14 -> 12 | H78: =Foothill!H14 -> 0.92857143 | ... J78: =Foothill!J14 -> 0.85714286

Sheet Coast Goal
A1: Cap # | B1: Athlete | C1: School | D1: GP | E1: GA | F1: BLK | G1: GA/G | H1: BL/G
A2: =Foothill!A32 -> 1 | B2: =Foothill!B32 -> Donya Dehnad | C2: =Foothill!C32 -> FH | D2: =Foothill!D32 -> 21 | E2: =Foothill!E32 -> 100 | F2: =Foothill!F32 -> 142 | G2: =Foothill!G32 -> 4.7619048 | H2: =Foothill!H32 -> 6.7619048
A3: =Foothill!A33 -> 1A | B3: =Foothill!B33 -> Natalie Thiel | C3: =Foothill!C33 -> FH | D3: =Foothill!D33 -> 16 | E3: =Foothill!E33 -> 36 | F3: =Foothill!F33 -> 86 | G3: =Foothill!G33 -> 2.25 | H3: =Foothill!H33 -> 5.375
A4: =Laney!A32 -> 1 | B4: =Laney!B32 -> Emma Canalin | C4: =Laney!C32 -> Laney | D4: =Laney!D32 -> 5 | E4: =Laney!E32 -> 21 | F4: =Laney!F32 -> 8 | G4: =Laney!G32 -> 4.2 | H4: =Laney!H32 -> 1.6
A5: =Laney!A33 -> 1a | B5: =Laney!B33 -> Heather Larson | C5: =Laney!C33 -> Laney | D5: =Laney!D33 -> 18 | E5: =Laney!E33 -> 212 | F5: =Laney!F33 -> 150 | G5: =Laney!G33 -> 11.777778 | H5: =Laney!H33 -> 8.3333333
A6: =Merced!A32 -> 1 | B6: =Merced!B32 -> Sydney | C6: =Merced!C32 -> MERCED | D6: =Merced!D32 -> 8 | E6: =Merced!E32 -> 73 | F6: =Merced!F32 -> 52 | G6: =Merced!G32 -> 9.125 | H6: =Merced!H32 -> 6.5
A7: =Merced!A33 -> 0 | B7: =Merced!B33 -> Brontae Gomes | C7: =Merced!C33 -> MERCED | D7: =Merced!D33 -> 1 | E7: =Merced!E33 -> 2 | F7: =Merced!F33 -> 4 | G7: =Merced!G33 -> 2 | H7: =Merced!H33 -> 4
A8: =CCSF!A32 -> 0 | B8: =CCSF!B32 -> Emily Schattenburg | C8: =CCSF!C32 -> CCSF | D8: =CCSF!D32 -> 12 | E8: =CCSF!E32 -> 157 | F8: =CCSF!F32 -> 149 | G8: =CCSF!G32 -> 13.083333 | H8: =CCSF!H32 -> 12.416667
A9: =CCSF!A33 -> 0 | B9: =CCSF!B33 -> Erika Lugo | C9: =CCSF!C33 -> CCSF | D9: =CCSF!D33 -> 1 | E9: =CCSF!E33 -> 4 | F9: =CCSF!F33 -> 4 | G9: =CCSF!G33 -> 4 | H9: =CCSF!H33 -> 4
A10: =CSM!A32 -> 1 | B10: =CSM!B32 -> Sina Gomez | C10: =CSM!C32 -> CSM | D10: =CSM!D32 -> 19 | E10: =CSM!E32 -> 122 | F10: =CSM!F32 -> 121 | G10: =CSM!G32 -> 6.4210526 | H10: =CSM!H32 -> 6.3684211
A11: =CSM!A33 -> 1A | B11: =CSM!B33 -> Shelby Mcmillan | C11: =CSM!C33 -> CSM | D11: =CSM!D33 -> 17 | E11: =CSM!E33 -> 89 | F11: =CSM!F33 -> 120 | G11: =CSM!G33 -> 5.2352941 | H11: =CSM!H33 -> 7.0588235

Sheet Foothill
A1: FIELD STATS
A2: Cap # | B2: Athlete | C2: School | D2: GP | E2: GLS | F2: AST | G2: STL | H2: G/G | I2: A/G | J2: S/G
A3: 2 | B3: Layna Auchard | C3: FH | D3: 24 | E3: 37 | F3: 12 | G3: 53 | H3: 1.5416667 | I3: 0.5 | J3: 2.2083333
A4: 3 | B4: Kerstyn Pantoja | C4: FH | D4: 24 | E4: 8 | F4: 15 | G4: 39 | H4: 0.33333333 | I4: 0.625 | J4: 1.625
A5: 4 | B5: Shannon Sullivan | C5: FH | D5: 16 | E5: 12 | F5: 5 | G5: 33 | H5: 0.75 | I5: 0.3125 | J5: 2.0625
A6: 5 | B6: Erin Hepner | C6: FH | D6: 24 | E6: 26 | F6: 8 | G6: 23 | H6: 1.0833333 | I6: 0.33333333 | J6: 0.95833333
A7: 7 | B7: Shae Boutte | C7: FH | D7: 24 | E7: 38 | F7: 5 | G7: 22 | H7: 1.5833333 | I7: 0.20833333 | J7: 0.91666667
A8: 8 | B8: Lauren Lesyna | C8: FH | D8: 24 | E8: 76 | F8: 8 | G8: 48 | H8: 3.1666667 | I8: 0.33333333 | J8: 2
A9: 9 | B9: Chase Mase | C9: FH | D9: 12 | E9: 16 | F9: 6 | G9: 3 | H9: 1.3333333 | I9: 0.5 | J9: 0.25
A10: 12 | B10: Stephanie Herrera | C10: FH | D10: 24 | E10: 27 | F10: 2 | G10: 21 | H10: 1.125 | I10: 0.083333333 | J10: 0.875
A11: 15 | B11: Analise Alforque-Acevedo | C11: FH | D11: 23 | E11: 24 | F11: 8 | G11: 33 | H11: 1.0434783 | I11: 0.34782609 | J11: 1.4347826
A12: 16 | B12: Lauren Youhanna | C12: FH | D12: 5 | E12: 9 | F12: 0 | G12: 3 | H12: 1.8 | I12: 0 | J12: 0.6
A13: 17 | B13: Samantha McClusky | C13: FH | D13: 17 | E13: 30 | F13: 6 | G13: 22 | H13: 1.7647059 | I13: 0.35294118 | J13: 1.2941176
A14: 11 | B14: Courtney Kinderman | C14: FH | D14: 14 | E14: 13 | F14: 2 | G14: 12 | H14: 0.92857143 | I14: 0.14285714 | J14: 0.85714286
H15: =E15/D15 -> #DIV/0! | I15: =F15/D15 -> #DIV/0! | J15: =G15/D15 -> #DIV/0!
H16: =E16/D16 -> #DIV/0! | I16: =F16/D16 -> #DIV/0! | J16: =G16/D16 -> #DIV/0!
H17: =E17/D17 -> #DIV/0! | I17: =F17/D17 -> #DIV/0! | J17: =G17/D17 -> #DIV/0!
H18: =E18/D18 -> #DIV/0! | I18: =F18/D18 -> #DIV/0! | J18: =G18/D18 -> #DIV/0!
H19: =E19/D19 -> #DIV/0! | I19: =F19/D19 -> #DIV/0! | J19: =G19/D19 -> #DIV/0!
H20: =E20/D20 -> #DIV/0! | I20: =F20/D20 -> #DIV/0! | J20: =G20/D20 -> #DIV/0!
H21: =E21/D21 -> #DIV/0! | I21: =F21/D21 -> #DIV/0! | J21: =G21/D21 -> #DIV/0!
H22: =E22/D22 -> #DIV/0! | I22: =F22/D22 -> #DIV/0! | J22: =G22/D22 -> #DIV/0!
H23: =E23/D23 -> #DIV/0! | I23: =F23/D23 -> #DIV/0! | J23: =G23/D23 -> #DIV/0!
H24: =E24/D24 -> #DIV/0! | I24: =F24/D24 -> #DIV/0! | J24: =G24/D24 -> #DIV/0!
H25: =E25/D25 -> #DIV/0! | I25: =F25/D25 -> #DIV/0! | J25: =G25/D25 -> #DIV/0!
H26: =E26/D26 -> #DIV/0! | I26: =F26/D26 -> #DIV/0! | J26: =G26/D26 -> #DIV/0!
... H28: =E28/D28 -> #DIV/0! | I28: =F28/D28 -> #DIV/0! | J28: =G28/D28 -> #DIV/0!
A30: GOALIE STATS
A31: Cap # | B31: Athlete | C31: School | D31: GP | E31: GA | F31: BLK | G31: GA/G | H31: BL/G
A32: 1 | B32: Donya Dehnad | C32: FH | D32: 21 | E32: 100 | F32: 142 | G32: 4.7619048 | H32: 6.7619048
A33: 1A | B33: Natalie Thiel | C33: FH | D33: 16 | E33: 36 | F33: 86 | G33: 2.25 | H33: 5.375
G34: =E34/D34 -> #DIV/0! | H34: =F34/D34 -> #DIV/0!
G35: =E35/D35 -> #DIV/0! | H35: =F35/D35 -> #DIV/0!

Sheet Las Positas
A1: FIELD STATS
A2: Cap | B2: Athlete | C2: School | D2: GP | E2: GLS | F2: AST | G2: STL | H2: G/G | I2: A/G | J2: S/G
A3: 2 | B3: Madison Suoja | C3: LPC | D3: 13 | E3: 10 | F3: 7 | G3: 9 | H3: =E3/D3 -> 0.76923077 | I3: =F3/D3 -> 0.53846154 | J3: =G3/D3 -> 0.69230769
A4: 3 | B4: Charissa Taylor | C4: LPC | D4: 23 | E4: 41 | F4: 6 | G4: 47 | H4: =E4/D4 -> 1.7826087 | I4: =F4/D4 -> 0.26086957 | J4: =G4/D4 -> 2.0434783
A5: 4 | B5: Paris Sinclair | C5: LPC | D5: 22 | E5: 12 | F5: 4 | G5: 8 | H5: =E5/D5 -> 0.54545455 | I5: =F5/D5 -> 0.18181818 | J5: =G5/D5 -> 0.36363636
A6: 5 | B6: Alexia Venema | C6: LPC | D6: 19 | E6: 11 | F6: 7 | G6: 13 | H6: =E6/D6 -> 0.57894737 | I6: =F6/D6 -> 0.36842105 | J6: =G6/D6 -> 0.68421053
A7: 6 | B7: Gina Mueller | C7: LPC | D7: 17 | E7: 0 | F7: 1 | G7: 3 | H7: =E7/D7 -> 0 | I7: =F7/D7 -> 0.058823529 | J7: =G7/D7 -> 0.17647059
A8: 7 | B8: Bailey Beanland | C8: LPC | D8: 1 | E8: 0 | F8: 0 | G8: 0 | H8: =E8/D8 -> 0 | I8: =F8/D8 -> 0 | J8: =G8/D8 -> 0
A9: 11 | B9: Rachel Will | C9: LPC | D9: 23 | E9: 11 | F9: 4 | G9: 11 | H9: =E9/D9 -> 0.47826087 | I9: =F9/D9 -> 0.17391304 | J9: =G9/D9 -> 0.47826087
A10: 12 | B10: Danielle Kennedy | C10: LPC | D10: 17 | E10: 8 | F10: 3 | G10: 11 | H10: =E10/D10 -> 0.47058824 | I10: =F10/D10 -> 0.17647059 | J10: =G10/D10 -> 0.64705882
A11: 13 | B11: Mckenna Stevulak | C11: LPC | D11: 13 | E11: 6 | F11: 6 | G11: 27 | H11: =E11/D11 -> 0.46153846 | I11: =F11/D11 -> 0.46153846 | J11: =G11/D11 -> 2.0769231
A12: 14 | B12: Lauren Cano | C12: LPC | D12: 23 | E12: 11 | F12: 18 | G12: 24 | H12: =E12/D12 -> 0.47826087 | I12: =F12/D12 -> 0.7826087 | J12: =G12/D12 -> 1.0434783
A13: 15 | B13: Jillian Eicher | C13: LPC | D13: 22 | E13: 44 | F13: 7 | G13: 17 | H13: =E13/D13 -> 2 | I13: =F13/D13 -> 0.31818182 | J13: =G13/D13 -> 0.77272727
A28: GOALIE STATS
A29: Cap # | B29: Athlete | C29: School | D29: GP | E29: GA | F29: BLK | G29: GA/G | H29: BL/G
A30: 1 | B30: Bailey Beanland | C30: LPC | D30: 23 | E30: 210 | F30: 175 | G30: =E30/D30 -> 9.1304348 | H30: =F30/E30 -> 0.83333333
A31: 1a | B31: Madison Suoja | C31: LPC | D31: 1 | E31: 0 | F31: 4 | G31: =E31/D31 -> 0 | H31: =F31/D31 -> 4

Sheet Laney
A1: FIELD STATS
A2: Cap # | B2: Athlete | C2: School | D2: GP | E2: GLS | F2: AST | G2: STL | H2: G/G | I2: A/G | J2: S/G
A3: 2 | B3: Helene Takamura | C3: Laney | D3: 16 | E3: 18 | F3: 1 | G3: 21 | H3: 1.125 | I3: 0.0625 | J3: 1.3125
A4: 3 | B4: Kathryn Vargas | C4: Laney | D4: 18 | E4: 3 | G4: 3 | H4: 0.16666667 | I4: 0 | J4: 0.16666667
A5: 4 | B5: Heather Larson | C5: Laney | D5: 1 | F5: 2 | G5: 4 | H5: 0 | I5: 2 | J5: 4
A6: 5 | B6: Isabel Moser | C6: Laney | D6: 16 | E6: 6 | F6: 1 | G6: 4 | H6: 0.375 | I6: 0.0625 | J6: 0.25
A7: 6 | B7: Anneke Moser | C7: Laney | D7: 18 | E7: 7 | F7: 3 | G7: 6 | H7: 0.38888889 | I7: 0.16666667 | J7: 0.33333333
A8: 7 | B8: Sophia Preach | C8: Laney | D8: 18 | E8: 1 | F8: 3 | G8: 3 | H8: 0.055555556 | I8: 0.16666667 | J8: 0.16666667
A9: 8 | H9: #DIV/0! | I9: #DIV/0! | J9: #DIV/0!
A10: 9 | B10: Sharon Sandoval | C10: Laney | D10: 18 | G10: 4 | H10: 0 | I10: 0 | J10: 0.22222222
A11: 10 | B11: Emma Canalin | C11: Laney | D11: 7 | E11: 10 | F11: 1 | G11: 7 | H11: 1.4285714 | I11: 0.14285714 | J11: 1
A12: 11 | B12: Jade Le | C12: Laney | D12: 18 | E12: 6 | F12: 2 | G12: 4 | H12: 0.33333333 | I12: 0.11111111 | J12: 0.22222222
A13: 12 | B13: Shannon Voong | C13: Laney | D13: 3 | H13: 0 | I13: 0 | J13: 0
A14: 13 | B14: Patricia Coppage | C14: Laney | D14: 15 | E14: 1 | F14: 1 | G14: 5 | H14: 0.066666667 | I14: 0.066666667 | J14: 0.33333333
A15: 14 | B15: Zahra Beatty-James | C15: Laney | D15: 3 | H15: 0 | I15: 0 | J15: 0
A16: 15 | B16: Maya Best | C16: Laney | D16: 1 | H16: 0 | I16: 0 | J16: 0
H17: #DIV/0! | I17: #DIV/0! | J17: #DIV/0!
H18: #DIV/0! | I18: #DIV/0! | J18: #DIV/0!
H19: #DIV/0! | I19: #DIV/0! | J19: #DIV/0!
H20: #DIV/0! | I20: #DIV/0! | J20: #DIV/0!
H21: #DIV/0! | I21: #DIV/0! | J21: #DIV/0!
H22: #DIV/0! | I22: #DIV/0! | J22: #DIV/0!
H23: #DIV/0! | I23: #DIV/0! | J23: #DIV/0!
H24: #DIV/0! | I24: #DIV/0! | J24: #DIV/0!
H25: #DIV/0! | I25: #DIV/0! | J25: #DIV/0!
H26: #DIV/0! | I26: #DIV/0! | J26: #DIV/0!
H27: #DIV/0! | I27: #DIV/0! | J27: #DIV/0!
H28: #DIV/0! | I28: #DIV/0! | J28: #DIV/0!
A30: GOALIE STATS
A31: Cap # | B31: Athlete | C31: School | D31: GP | E31: GA | F31: BLK | G31: GA/G | H31: BL/G
A32: 1 | B32: Emma Canalin | C32: Laney | D32: 5 | E32: 21 | F32: 8 | G32: 4.2 | H32: 1.6
A33: 1a | B33: Heather Larson | C33: Laney | D33: 18 | E33: 212 | F33: 150 | G33: 11.777778 | H33: 8.3333333
G34: =E34/D34 -> #DIV/0! | H34: =F34/D34 -> #DIV/0!
G35: =E35/D35 -> #DIV/0! | H35: =F35/D35 -> #DIV/0!

Sheet Merced
A1: FIELD STATS
A2: Cap # | B2: Athlete | C2: School | D2: GP | E2: GLS | F2: AST | G2: STL | H2: G/G | I2: A/G | J2: S/G
A3: 2 | B3: Kim Canisso | C3: MERCED | D3: 8 | E3: 12 | F3: 15 | G3: 18 | H3: =E3/D3 -> 1.5 | I3: =F3/D3 -> 1.875 | J3: =G3/D3 -> 2.25
A4: 3 | B4: Tiffany Fredrickson | C4: MERCED | D4: 8 | E4: 7 | F4: 11 | G4: 11 | H4: =E4/D4 -> 0.875 | I4: =F4/D4 -> 1.375 | J4: =G4/D4 -> 1.375
A5: 4 | B5: Rebekah Groteguth | C5: MERCED | D5: 8 | E5: 31 | F5: 20 | G5: 10 | H5: =E5/D5 -> 3.875 | I5: =F5/D5 -> 2.5 | J5: =G5/D5 -> 1.25
A6: 5 | B6: Sydney | C6: MERCED1 | D6: 1 | E6: 1 | H6: =E6/D6 -> 1 | I6: =F6/D6 -> 0 | J6: =G6/D6 -> 0
A7: 6 | B7: Maddie Torrence | C7: MERCED | D7: 0 | E7: 0 | F7: 0 | G7: 0 | H7: =E7/D7 -> #DIV/0! | I7: =F7/D7 -> #DIV/0! | J7: =G7/D7 -> #DIV/0!
A8: 7 | B8: Seavanna Garcia | C8: MERCED | D8: 8 | E8: 3 | F8: 0 | G8: 0 | H8: =E8/D8 -> 0.375 | I8: =F8/D8 -> 0 | J8: =G8/D8 -> 0
A9: 8 | B9: Shelia Buckingham | C9: MERCED | D9: 5 | E9: 2 | F9: 5 | G9: 2 | H9: =E9/D9 -> 0.4 | I9: =F9/D9 -> 1 | J9: =G9/D9 -> 0.4
A10: 9 | B10: Brontae Gomes | C10: MERCED | D10: 8 | E10: 15 | F10: 14 | G10: 25 | H10: =E10/D10 -> 1.875 | I10: =F10/D10 -> 1.75 | J10: =G10/D10 -> 3.125
A11: 10 | B11: Haylee Eagleton | C11: MERCED | D11: 8 | E11: 0 | F11: 5 | G11: 4 | H11: =E11/D11 -> 0 | I11: =F11/D11 -> 0.625 | J11: =G11/D11 -> 0.5
A12: 11 | B12: Anjele Kepeghian | C12: MERCED | D12: 8 | E12: 10 | F12: 7 | G12: 2 | H12: =E12/D12 -> 1.25 | I12: =F12/D12 -> 0.875 | J12: =G12/D12 -> 0.25
A13: 12 | B13: Gina Zumkehr | C13: MERCED | D13: 3 | E13: 0 | F13: 0 | G13: 0 | H13: =E13/D13 -> 0 | I13: =F13/D13 -> 0 | J13: =G13/D13 -> 0
A14: 13 | H14: =E14/D14 -> #DIV/0! | I14: =F14/D14 -> #DIV/0! | J14: =G14/D14 -> #DIV/0!
A15: 14 | B15: Kidra Avery | C15: MERCED | D15: 4 | E15: 2 | F15: 0 | G15: 0 | H15: =E15/D15 -> 0.5 | I15: =F15/D15 -> 0 | J15: =G15/D15 -> 0
A16: 15 | H16: =E16/D16 -> #DIV/0! | I16: =F16/D16 -> #DIV/0! | J16: =G16/D16 -> #DIV/0!
A17: 16 | B17: Kaylee Coca | C17: MERCED | D17: 4 | E17: 1 | F17: 1 | G17: 0 | H17: =E17/D17 -> 0.25 | I17: =F17/D17 -> 0.25 | J17: =G17/D17 -> 0
A18: 21 | B18: Nicole Goodnight | C18: MERCED | D18: 8 | E18: 18 | F18: 10 | G18: 21 | H18: =E18/D18 -> 2.25 | I18: =F18/D18 -> 1.25 | J18: =G18/D18 -> 2.625
H19: =E19/D19 -> #DIV/0! | I19: =F19/D19 -> #DIV/0! | J19: =G19/D19 -> #DIV/0!
H20: =E20/D20 -> #DIV/0! | I20: =F20/D20 -> #DIV/0! | J20: =G20/D20 -> #DIV/0!
H21: =E21/D21 -> #DIV/0! | I21: =F21/D21 -> #DIV/0! | J21: =G21/D21 -> #DIV/0!
H22: =E22/D22 -> #DIV/0! | I22: =F22/D22 -> #DIV/0! | J22: =G22/D22 -> #DIV/0!
H23: =E23/D23 -> #DIV/0! | I23: =F23/D23 -> #DIV/0! | J23: =G23/D23 -> #DIV/0!
H24: =E24/D24 -> #DIV/0! | I24: =F24/D24 -> #DIV/0! | J24: =G24/D24 -> #DIV/0!
H25: =E25/D25 -> #DIV/0! | I25: =F25/D25 -> #DIV/0! | J25: =G25/D25 -> #DIV/0!
H26: =E26/D26 -> #DIV/0! | I26: =F26/D26 -> #DIV/0! | J26: =G26/D26 -> #DIV/0!
H27: =E27/D27 -> #DIV/0! | I27: =F27/D27 -> #DIV/0! | J27: =G27/D27 -> #DIV/0!
H28: =E28/D28 -> #DIV/0! | I28: =F28/D28 -> #DIV/0! | J28: =G28/D28 -> #DIV/0!
A30: GOALIE STATS
A31: Cap # | B31: Athlete | C31: School | D31: GP | E31: GA | F31: BLK | G31: GA/G | H31: BL/G
A32: 1 | B32: Sydney | C32: MERCED | D32: 8 | E32: 73 | F32: 52 | G32: =E32/D32 -> 9.125 | H32: =F32/D32 -> 6.5
B33: Brontae Gomes | C33: MERCED | D33: 1 | E33: 2 | F33: 4 | G33: =E33/D33 -> 2 | H33: =F33/D33 -> 4
G34: =E34/D34 -> #DIV/0! | H34: =F34/D34 -> #DIV/0!
G35: =E35/D35 -> #DIV/0! | H35: =F35/D35 -> #DIV/0!

Sheet Ohlone

Sheet De Anza

Sheet Cabrillo

Sheet CCSF
A1: FIELD STATS
A2: Cap # | B2: Athlete | C2: School | D2: GP | E2: GLS | F2: AST | G2: STL | H2: G/G | I2: A/G | J2: S/G
B3: Brooke Ashton | C3: CCSF | D3: 7 | F3: 1 | G3: 2 | H3: =E3/D3 -> 0 | I3: =F3/D3 -> 0.14285714 | J3: =G3/D3 -> 0.28571429
B4: Rochelle Dewyer | C4: CCSF | D4: 11 | G4: 1 | H4: =E4/D4 -> 0 | I4: =F4/D4 -> 0 | J4: =G4/D4 -> 0.090909091
B5: Daniela Fiestas-Paredes | C5: CCSF | D5: 10 | E5: 3 | F5: 4 | G5: 24 | H5: =E5/D5 -> 0.3 | I5: =F5/D5 -> 0.4 | J5: =G5/D5 -> 2.4
B6: Alessandra Goldsborough | C6: CCSF | D6: 10 | E6: 1 | F6: 2 | G6: 2 | H6: =E6/D6 -> 0.1 | I6: =F6/D6 -> 0.2 | J6: =G6/D6 -> 0.2
B7: Amelia Hobbs | C7: CCSF | D7: 9 | H7: =E7/D7 -> 0 | I7: =F7/D7 -> 0 | J7: =G7/D7 -> 0
B8: Amber Izumi | C8: CCSF | D8: 8 | F8: 4 | G8: 3 | H8: =E8/D8 -> 0 | I8: =F8/D8 -> 0.5 | J8: =G8/D8 -> 0.375
B9: Ckoryna Lara | C9: CCSF | D9: 1 | H9: =E9/D9 -> 0 | I9: =F9/D9 -> 0 | J9: =G9/D9 -> 0
B10: Erika Lugo | C10: CCSF | D10: 1 | H10: =E10/D10 -> 0 | I10: =F10/D10 -> 0 | J10: =G10/D10 -> 0
B11: Brenda Ortiz | C11: CCSF | D11: 9 | E11: 1 | F11: 3 | G11: 2 | H11: =E11/D11 -> 0.11111111 | I11: =F11/D11 -> 0.33333333 | J11: =G11/D11 -> 0.22222222
B12: Raquel Pea | C12: CCSF | D12: 9 | E12: 11 | F12: 7 | G12: 6 | H12: =E12/D12 -> 1.2222222 | I12: =F12/D12 -> 0.77777778 | J12: =G12/D12 -> 0.66666667
B13: Breana Primitivo | C13: CCSF | D13: 12 | G13: 1 | H13: =E13/D13 -> 0 | I13: =F13/D13 -> 0 | J13: =G13/D13 -> 0.083333333
B14: Patricia Rivas | C14: CCSF | D14: 10 | E14: 11 | F14: 3 | G14: 4 | H14: =E14/D14 -> 1.1 | I14: =F14/D14 -> 0.3 | J14: =G14/D14 -> 0.4
B15: Tiffany Sainz | C15: CCSF | H15: =E15/D15 -> #DIV/0! | I15: =F15/D15 -> #DIV/0! | J15: =G15/D15 -> #DIV/0!
B16: Emily Schattenburg | C16: CCSF | D16: 7 | F16: 6 | G16: 5 | H16: =E16/D16 -> 0 | I16: =F16/D16 -> 0.85714286 | J16: =G16/D16 -> 0.71428571
B17: Natalie Taylor | C17: CCSF | D17: 12 | E17: 32 | F17: 10 | G17: 32 | H17: =E17/D17 -> 2.6666667 | I17: =F17/D17 -> 0.83333333 | J17: =G17/D17 -> 2.6666667
B18: Cynthia Tran | C18: CCSF | D18: 12 | E18: 12 | F18: 7 | G18: 8 | H18: =E18/D18 -> 1 | I18: =F18/D18 -> 0.58333333 | J18: =G18/D18 -> 0.66666667
B19: Srira Zadmehran | C19: CCSF | D19: 7 | H19: =E19/D19 -> 0 | I19: =F19/D19 -> 0 | J19: =G19/D19 -> 0
H20: =E20/D20 -> #DIV/0! | I20: =F20/D20 -> #DIV/0! | J20: =G20/D20 -> #DIV/0!
H21: =E21/D21 -> #DIV/0! | I21: =F21/D21 -> #DIV/0! | J21: =G21/D21 -> #DIV/0!
H22: =E22/D22 -> #DIV/0! | I22: =F22/D22 -> #DIV/0! | J22: =G22/D22 -> #DIV/0!
H23: =E23/D23 -> #DIV/0! | I23: =F23/D23 -> #DIV/0! | J23: =G23/D23 -> #DIV/0!
H24: =E24/D24 -> #DIV/0! | I24: =F24/D24 -> #DIV/0! | J24: =G24/D24 -> #DIV/0!
H25: =E25/D25 -> #DIV/0! | I25: =F25/D25 -> #DIV/0! | J25: =G25/D25 -> #DIV/0!
H26: =E26/D26 -> #DIV/0! | I26: =F26/D26 -> #DIV/0! | J26: =G26/D26 -> #DIV/0!
H27: =E27/D27 -> #DIV/0! | I27: =F27/D27 -> #DIV/0! | J27: =G27/D27 -> #DIV/0!
H28: =E28/D28 -> #DIV/0! | I28: =F28/D28 -> #DIV/0! | J28: =G28/D28 -> #DIV/0!
A30: GOALIE STATS
A31: Cap # | B31: Athlete | C31: School | D31: GP | E31: GA | F31: BLK | G31: GA/G | H31: BL/G
B32: Emily Schattenburg | C32: CCSF | D32: 12 | E32: 157 | F32: 149 | G32: 13.083333 | H32: 12.416667
B33: Erika Lugo | C33: CCSF | D33: 1 | E33: 4 | F33: 4 | G33: 4 | H33: 4
G34: =E34/D34 -> #DIV/0! | H34: =F34/D34 -> #DIV/0!
G35: =E35/D35 -> #DIV/0! | H35: =F35/D35 -> #DIV/0!
A37: VS LANEY SPRINTS WIN: DFP (3)

Sheet CSM
A1: FIELD STATS
A2: Cap # | B2: Athlete | C2: School | D2: GP | E2: GLS | F2: AST | G2: STL | H2: G/G | I2: A/G | J2: S/G
A3: 2 | B3: Jessica Stafford | C3: CSM | D3: 18 | E3: 1 | F3: 5 | G3: 8 | H3: 0.055555556 | I3: 0.27777778 | J3: 0.44444444
A4: 3 | B4: Michelle Plante | C4: CSM | D4: 22 | E4: 1 | F4: 7 | G4: 16 | H4: 0.045454545 | I4: 0.31818182 | J4: 0.72727273
A5: 5 | B5: Alexa Tamayo | C5: CSM | D5: 12 | E5: 1 | F5: 2 | G5: 2 | H5: 0.083333333 | I5: 0.16666667 | J5: 0.16666667
A6: 6 | B6: Vanessa Kibblewhite | C6: CSM | D6: 22 | E6: 80 | F6: 38 | G6: 51 | H6: 3.6363636 | I6: 1.7272727 | J6: 2.3181818
A7: 7 | B7: Taylor Anderson | C7: CSM | D7: 8 | E7: 2 | F7: 7 | G7: 7 | H7: 0.25 | I7: 0.875 | J7: 0.875
A8: 8 | B8: Shelby Mcmillan | C8: CSM | D8: 15 | E8: 3 | F8: 3 | G8: 7 | H8: 0.2 | I8: 0.2 | J8: 0.46666667
A9: 9 | B9: Sina Gomez | C9: CSM | D9: 18 | E9: 7 | F9: 23 | G9: 29 | H9: 0.38888889 | I9: 1.2777778 | J9: 1.6111111
A10: 10 | B10: Gretta Musayelyan | C10: CSM | D10: 13 | E10: 12 | F10: 25 | G10: 36 | H10: 0.92307692 | I10: 1.9230769 | J10: 2.7692308
A11: 11 | B11: Olivia Cosca | C11: CSM | D11: 22 | E11: 52 | F11: 51 | G11: 25 | H11: 2.3636364 | I11: 2.3181818 | J11: 1.1363636
A12: 13 | B12: Morgan Smith | C12: CSM | D12: 18 | E12: 49 | F12: 36 | G12: 42 | H12: 2.7222222 | I12: 2 | J12: 2.3333333
H13: =E13/D13 -> #DIV/0! | I13: =F13/D13 -> #DIV/0! | J13: =G13/D13 -> #DIV/0!
H14: =E14/D14 -> #DIV/0! | I14: =F14/D14 -> #DIV/0! | J14: =G14/D14 -> #DIV/0!
H15: =E15/D15 -> #DIV/0! | I15: =F15/D15 -> #DIV/0! | J15: =G15/D15 -> #DIV/0!
H16: =E16/D16 -> #DIV/0! | I16: =F16/D16 -> #DIV/0! | J16: =G16/D16 -> #DIV/0!
H17: =E17/D17 -> #DIV/0! | I17: =F17/D17 -> #DIV/0! | J17: =G17/D17 -> #DIV/0!
H18: =E18/D18 -> #DIV/0! | I18: =F18/D18 -> #DIV/0! | J18: =G18/D18 -> #DIV/0!
H19: =E19/D19 -> #DIV/0! | I19: =F19/D19 -> #DIV/0! | J19: =G19/D19 -> #DIV/0!
H20: =E20/D20 -> #DIV/0! | I20: =F20/D20 -> #DIV/0! | J20: =G20/D20 -> #DIV/0!
H21: =E21/D21 -> #DIV/0! | I21: =F21/D21 -> #DIV/0! | J21: =G21/D21 -> #DIV/0!
H22: =E22/D22 -> #DIV/0! | I22: =F22/D22 -> #DIV/0! | J22: =G22/D22 -> #DIV/0!
H23: =E23/D23 -> #DIV/0! | I23: =F23/D23 -> #DIV/0! | J23: =G23/D23 -> #DIV/0!
H24: =E24/D24 -> #DIV/0! | I24: =F24/D24 -> #DIV/0! | J24: =G24/D24 -> #DIV/0!
... H28: =E28/D28 -> #DIV/0! | I28: =F28/D28 -> #DIV/0! | J28: =G28/D28 -> #DIV/0!
A30: GOALIE STATS
A31: Cap # | B31: Athlete | C31: School | D31: GP | E31: GA | F31: BLK | G31: GA/G | H31: BL/G
A32: 1 | B32: Sina Gomez | C32: CSM | D32: 19 | E32: 122 | F32: 121 | G32: 6.4210526 | H32: 6.3684211
A33: 1A | B33: Shelby Mcmillan | C33: CSM | D33: 17 | E33: 89 | F33: 120 | G33: 5.2352941 | H33: 7.0588235
G34: =E34/D34 -> #DIV/0! | H34: =F34/D34 -> #DIV/0!
G35: =E35/D35 -> #DIV/0! | H35: =F35/D35 -> #DIV/0!

Sheet W Valley
