Workbook

Sheet Coast Leader
A1: Name | B1: School | C1: GP | D1: Goals | E1: G/G | G1: Name | H1: School | I1: GP | J1: Assists | K1: A/G | M1: Name | N1: School | O1: GP | P1: Steals | Q1: S/G
A2: ='Coast Field'!B46 -> Vanessa Kibblewhite | B2: ='Coast Field'!C46 -> CSM | C2: ='Coast Field'!D46 -> 22 | D2: ='Coast Field'!E46 -> 80 | E2: =D2/C2 -> 3.6363636 | G2: ='Coast Field'!B51 -> Olivia Cosca | H2: ='Coast Field'!C51 -> CSM | I2: ='Coast Field'!D51 -> 22 | J2: ='Coast Field'!F51 -> 51 | K2: =J2/I2 -> 2.3181818 | M2: ='Coast Field'!B2 -> Layna Auchard | N2: ='Coast Field'!C2 -> FH | O2: ='Coast Field'!D2 -> 24 | P2: ='Coast Field'!G2 -> 53 | Q2: =P2/O2 -> 2.2083333
A3: ='Coast Field'!B7 -> Lauren Lesyna | B3: ='Coast Field'!C7 -> FH | C3: ='Coast Field'!D7 -> 24 | D3: ='Coast Field'!E7 -> 76 | E3: =D3/C3 -> 3.1666667 | G3: ='Coast Field'!B46 -> Vanessa Kibblewhite | H3: ='Coast Field'!C46 -> CSM | I3: ='Coast Field'!D46 -> 22 | J3: ='Coast Field'!F46 -> 38 | K3: =J3/I3 -> 1.7272727 | M3: ='Coast Field'!B46 -> Vanessa Kibblewhite | N3: ='Coast Field'!C46 -> CSM | O3: ='Coast Field'!D46 -> 22 | P3: ='Coast Field'!G46 -> 51 | Q3: =P3/O3 -> 2.3181818
A4: ='Coast Field'!B51 -> Olivia Cosca | B4: ='Coast Field'!C51 -> CSM | C4: ='Coast Field'!D51 -> 22 | D4: ='Coast Field'!E51 -> 52 | E4: =D4/C4 -> 2.3636364 | G4: ='Coast Field'!B52 -> Morgan Smith | H4: ='Coast Field'!C52 -> CSM | I4: ='Coast Field'!D52 -> 18 | J4: ='Coast Field'!F52 -> 36 | K4: =J4/I4 -> 2 | M4: ='Coast Field'!B7 -> Lauren Lesyna | N4: ='Coast Field'!C7 -> FH | O4: ='Coast Field'!D7 -> 24 | P4: ='Coast Field'!G7 -> 48 | Q4: =P4/O4 -> 2
A5: ='Coast Field'!B52 -> Morgan Smith | B5: ='Coast Field'!C52 -> CSM | C5: ='Coast Field'!D52 -> 18 | D5: ='Coast Field'!E52 -> 49 | E5: =D5/C5 -> 2.7222222 | G5: ='Coast Field'!B50 -> Gretta Musayelyan | H5: ='Coast Field'!C50 -> CSM | I5: ='Coast Field'!D50 -> 13 | J5: ='Coast Field'!F50 -> 25 | K5: =J5/I5 -> 1.9230769 | M5: ='Coast Field'!B68 -> Charissa Taylor | N5: ='Coast Field'!C68 -> LPC | O5: ='Coast Field'!D68 -> 23 | P5: ='Coast Field'!G68 -> 47 | Q5: =P5/O5 -> 2.0434783
A6: ='Coast Field'!B77 -> Jillian Eicher | B6: ='Coast Field'!C77 -> LPC | C6: ='Coast Field'!D77 -> 22 | D6: ='Coast Field'!E77 -> 44 | E6: =D6/C6 -> 2 | G6: ='Coast Field'!B49 -> Sina Gomez | H6: ='Coast Field'!C49 -> CSM | I6: ='Coast Field'!D49 -> 18 | J6: ='Coast Field'!F49 -> 23 | K6: =J6/I6 -> 1.2777778 | M6: ='Coast Field'!B52 -> Morgan Smith | N6: ='Coast Field'!C52 -> CSM | O6: ='Coast Field'!D52 -> 18 | P6: ='Coast Field'!G52 -> 42 | Q6: =P6/O6 -> 2.3333333
A7: ='Coast Field'!B68 -> Charissa Taylor | B7: ='Coast Field'!C68 -> LPC | C7: ='Coast Field'!D68 -> 23 | D7: ='Coast Field'!E68 -> 41 | E7: =D7/C7 -> 1.7826087 | G7: ='Coast Field'!B55 -> Rebekah Groteguth | H7: ='Coast Field'!C55 -> MERCED | I7: ='Coast Field'!D55 -> 8 | J7: ='Coast Field'!F55 -> 20 | K7: =J7/I7 -> 2.5 | M7: ='Coast Field'!B3 -> Kerstyn Pantoja | N7: ='Coast Field'!C3 -> FH | O7: ='Coast Field'!D3 -> 24 | P7: ='Coast Field'!G3 -> 39 | Q7: =P7/O7 -> 1.625
A8: ='Coast Field'!B6 -> Shae Boutte | B8: ='Coast Field'!C6 -> FH | C8: ='Coast Field'!D6 -> 24 | D8: ='Coast Field'!E6 -> 38 | E8: =D8/C8 -> 1.5833333 | G8: ='Coast Field'!B76 -> Lauren Cano | H8: ='Coast Field'!C76 -> LPC | I8: ='Coast Field'!D76 -> 23 | J8: ='Coast Field'!F76 -> 18 | K8: =J8/I8 -> 0.7826087 | M8: ='Coast Field'!B50 -> Gretta Musayelyan | N8: ='Coast Field'!C50 -> CSM | O8: ='Coast Field'!D50 -> 13 | P8: ='Coast Field'!G50 -> 36 | Q8: =P8/O8 -> 2.7692308
A9: ='Coast Field'!B2 -> Layna Auchard | B9: ='Coast Field'!C2 -> FH | C9: ='Coast Field'!D2 -> 24 | D9: ='Coast Field'!E2 -> 37 | E9: =D9/C9 -> 1.5416667 | G9: ='Coast Field'!B53 -> Kim Canisso | H9: ='Coast Field'!C53 -> MERCED | I9: ='Coast Field'!D53 -> 8 | J9: ='Coast Field'!F53 -> 15 | K9: =J9/I9 -> 1.875 | M9: ='Coast Field'!B4 -> Shannon Sullivan | N9: ='Coast Field'!C4 -> FH | O9: ='Coast Field'!D4 -> 16 | P9: ='Coast Field'!G4 -> 33 | Q9: =P9/O9 -> 2.0625
A10: ='Coast Field'!B40 -> Natalie Taylor | B10: ='Coast Field'!C40 -> CCSF | C10: ='Coast Field'!D40 -> 12 | D10: ='Coast Field'!E40 -> 32 | E10: =D10/C10 -> 2.6666667 | G10: ='Coast Field'!B3 -> Kerstyn Pantoja | H10: ='Coast Field'!C3 -> FH | I10: ='Coast Field'!D3 -> 24 | J10: ='Coast Field'!F3 -> 15 | K10: =J10/I10 -> 0.625 | M10: ='Coast Field'!B10 -> Analise Alforque-Acevedo | N10: ='Coast Field'!C10 -> FH | O10: ='Coast Field'!D10 -> 23 | P10: ='Coast Field'!G10 -> 33 | Q10: =P10/O10 -> 1.4347826
A11: ='Coast Field'!B55 -> Rebekah Groteguth | B11: ='Coast Field'!C55 -> MERCED | C11: ='Coast Field'!D55 -> 8 | D11: ='Coast Field'!E55 -> 31 | E11: =D11/C11 -> 3.875 | G11: ='Coast Field'!B60 -> Brontae Gomes | H11: ='Coast Field'!C60 -> MERCED | I11: ='Coast Field'!D60 -> 8 | J11: ='Coast Field'!F60 -> 14 | K11: =J11/I11 -> 1.75 | M11: ='Coast Field'!B40 -> Natalie Taylor | N11: ='Coast Field'!C40 -> CCSF | O11: ='Coast Field'!D40 -> 12 | P11: ='Coast Field'!G40 -> 32 | Q11: =P11/O11 -> 2.6666667
A12: ='Coast Field'!B12 -> Samantha McClusky | B12: ='Coast Field'!C12 -> FH | C12: ='Coast Field'!D12 -> 17 | D12: ='Coast Field'!E12 -> 30 | E12: =D12/C12 -> 1.7647059 | G12: ='Coast Field'!B2 -> Layna Auchard | H12: ='Coast Field'!C2 -> FH | I12: ='Coast Field'!D2 -> 24 | J12: ='Coast Field'!F2 -> 12 | K12: =J12/I12 -> 0.5 | M12: ='Coast Field'!B49 -> Sina Gomez | N12: ='Coast Field'!C49 -> CSM | O12: ='Coast Field'!D49 -> 18 | P12: ='Coast Field'!G49 -> 29 | Q12: =P12/O12 -> 1.6111111
A13: ='Coast Field'!B9 -> Stephanie Herrera | B13: ='Coast Field'!C9 -> FH | C13: ='Coast Field'!D9 -> 24 | D13: ='Coast Field'!E9 -> 27 | E13: =D13/C13 -> 1.125 | G13: ='Coast Field'!B54 -> Tiffany Fredrickson | H13: ='Coast Field'!C54 -> MERCED | I13: ='Coast Field'!D54 -> 8 | J13: ='Coast Field'!F54 -> 11 | K13: =J13/I13 -> 1.375 | M13: ='Coast Field'!B75 -> Mckenna Stevulak | N13: ='Coast Field'!C75 -> LPC | O13: ='Coast Field'!D75 -> 13 | P13: ='Coast Field'!G75 -> 27 | Q13: =P13/O13 -> 2.0769231
A14: ='Coast Field'!B5 -> Erin Hepner | B14: ='Coast Field'!C5 -> FH | C14: ='Coast Field'!D5 -> 24 | D14: ='Coast Field'!E5 -> 26 | E14: =D14/C14 -> 1.0833333 | G14: ='Coast Field'!B66 -> Nicole Goodnight | H14: ='Coast Field'!C66 -> MERCED | I14: ='Coast Field'!D66 -> 8 | J14: ='Coast Field'!F66 -> 10 | K14: =J14/I14 -> 1.25 | M14: ='Coast Field'!B60 -> Brontae Gomes | N14: ='Coast Field'!C60 -> MERCED | O14: ='Coast Field'!D60 -> 8 | P14: ='Coast Field'!G60 -> 25 | Q14: =P14/O14 -> 3.125
A15: ='Coast Field'!B10 -> Analise Alforque-Acevedo | B15: ='Coast Field'!C10 -> FH | C15: ='Coast Field'!D10 -> 23 | D15: ='Coast Field'!E10 -> 24 | E15: =D15/C15 -> 1.0434783 | G15: ='Coast Field'!B40 -> Natalie Taylor | H15: ='Coast Field'!C40 -> CCSF | I15: ='Coast Field'!D40 -> 12 | J15: ='Coast Field'!F40 -> 10 | K15: =J15/I15 -> 0.83333333 | M15: ='Coast Field'!B51 -> Olivia Cosca | N15: ='Coast Field'!C51 -> CSM | O15: ='Coast Field'!D51 -> 22 | P15: ='Coast Field'!G51 -> 25 | Q15: =P15/O15 -> 1.1363636
A16: ='Coast Field'!B66 -> Nicole Goodnight | B16: ='Coast Field'!C66 -> MERCED | C16: ='Coast Field'!D66 -> 8 | D16: ='Coast Field'!E66 -> 18 | E16: =D16/C16 -> 2.25 | G16: ='Coast Field'!B10 -> Analise Alforque-Acevedo | H16: ='Coast Field'!C10 -> FH | I16: ='Coast Field'!D10 -> 23 | J16: ='Coast Field'!F10 -> 8 | K16: =J16/I16 -> 0.34782609 | M16: ='Coast Field'!B28 -> Daniela Fiestas-Paredes | N16: ='Coast Field'!C28 -> CCSF | O16: ='Coast Field'!D28 -> 10 | P16: ='Coast Field'!G28 -> 24 | Q16: =P16/O16 -> 2.4
A17: ='Coast Field'!B13 -> Helene Takamura | B17: ='Coast Field'!C13 -> Laney | C17: ='Coast Field'!D13 -> 16 | D17: ='Coast Field'!E13 -> 18 | E17: =D17/C17 -> 1.125 | G17: ='Coast Field'!B5 -> Erin Hepner | H17: ='Coast Field'!C5 -> FH | I17: ='Coast Field'!D5 -> 24 | J17: ='Coast Field'!F5 -> 8 | K17: =J17/I17 -> 0.33333333 | M17: ='Coast Field'!B76 -> Lauren Cano | N17: ='Coast Field'!C76 -> LPC | O17: ='Coast Field'!D76 -> 23 | P17: ='Coast Field'!G76 -> 24 | Q17: =P17/O17 -> 1.0434783
A18: ='Coast Field'!B8 -> Chase Mase | B18: ='Coast Field'!C8 -> FH | C18: ='Coast Field'!D8 -> 12 | D18: ='Coast Field'!E8 -> 16 | E18: =D18/C18 -> 1.3333333 | G18: ='Coast Field'!B7 -> Lauren Lesyna | H18: ='Coast Field'!C7 -> FH | I18: ='Coast Field'!D7 -> 24 | J18: ='Coast Field'!F7 -> 8 | K18: =J18/I18 -> 0.33333333 | M18: ='Coast Field'!B5 -> Erin Hepner | N18: ='Coast Field'!C5 -> FH | O18: ='Coast Field'!D5 -> 24 | P18: ='Coast Field'!G5 -> 23 | Q18: =P18/O18 -> 0.95833333
A19: ='Coast Field'!B60 -> Brontae Gomes | B19: ='Coast Field'!C60 -> MERCED | C19: ='Coast Field'!D60 -> 8 | D19: ='Coast Field'!E60 -> 15 | E19: =D19/C19 -> 1.875 | G19: ='Coast Field'!B47 -> Taylor Anderson | H19: ='Coast Field'!C47 -> CSM | I19: ='Coast Field'!D47 -> 8 | J19: ='Coast Field'!F47 -> 7 | K19: =J19/I19 -> 0.875 | M19: ='Coast Field'!B12 -> Samantha McClusky | N19: ='Coast Field'!C12 -> FH | O19: ='Coast Field'!D12 -> 17 | P19: ='Coast Field'!G12 -> 22 | Q19: =P19/O19 -> 1.2941176
A20: ='Coast Field'!B78 -> Courtney Kinderman | B20: ='Coast Field'!C78 -> FH | C20: ='Coast Field'!D78 -> 14 | D20: ='Coast Field'!E78 -> 13 | E20: =D20/C20 -> 0.92857143 | G20: ='Coast Field'!B62 -> Anjele Kepeghian | H20: ='Coast Field'!C62 -> MERCED | I20: ='Coast Field'!D62 -> 8 | J20: ='Coast Field'!F62 -> 7 | K20: =J20/I20 -> 0.875 | M20: ='Coast Field'!B6 -> Shae Boutte | N20: ='Coast Field'!C6 -> FH | O20: ='Coast Field'!D6 -> 24 | P20: ='Coast Field'!G6 -> 22 | Q20: =P20/O20 -> 0.91666667
A21: ='Coast Field'!B53 -> Kim Canisso | B21: ='Coast Field'!C53 -> MERCED | C21: ='Coast Field'!D53 -> 8 | D21: ='Coast Field'!E53 -> 12 | E21: =D21/C21 -> 1.5 | G21: ='Coast Field'!B35 -> Raquel Pea | H21: ='Coast Field'!C35 -> CCSF | I21: ='Coast Field'!D35 -> 9 | J21: ='Coast Field'!F35 -> 7 | K21: =J21/I21 -> 0.77777778 | M21: ='Coast Field'!B66 -> Nicole Goodnight | N21: ='Coast Field'!C66 -> MERCED | O21: ='Coast Field'!D66 -> 8 | P21: ='Coast Field'!G66 -> 21 | Q21: =P21/O21 -> 2.625
A22: ='Coast Field'!B41 -> Cynthia Tran | B22: ='Coast Field'!C41 -> CCSF | C22: ='Coast Field'!D41 -> 12 | D22: ='Coast Field'!E41 -> 12 | E22: =D22/C22 -> 1 | G22: ='Coast Field'!B41 -> Cynthia Tran | H22: ='Coast Field'!C41 -> CCSF | I22: ='Coast Field'!D41 -> 12 | J22: ='Coast Field'!F41 -> 7 | K22: =J22/I22 -> 0.58333333 | M22: ='Coast Field'!B13 -> Helene Takamura | N22: ='Coast Field'!C13 -> Laney | O22: ='Coast Field'!D13 -> 16 | P22: ='Coast Field'!G13 -> 21 | Q22: =P22/O22 -> 1.3125
A23: ='Coast Field'!B50 -> Gretta Musayelyan | B23: ='Coast Field'!C50 -> CSM | C23: ='Coast Field'!D50 -> 13 | D23: ='Coast Field'!E50 -> 12 | E23: =D23/C23 -> 0.92307692 | G23: ='Coast Field'!B67 -> Madison Suoja | H23: ='Coast Field'!C67 -> LPC | I23: ='Coast Field'!D67 -> 13 | J23: ='Coast Field'!F67 -> 7 | K23: =J23/I23 -> 0.53846154 | M23: ='Coast Field'!B9 -> Stephanie Herrera | N23: ='Coast Field'!C9 -> FH | O23: ='Coast Field'!D9 -> 24 | P23: ='Coast Field'!G9 -> 21 | Q23: =P23/O23 -> 0.875
A24: ='Coast Field'!B4 -> Shannon Sullivan | B24: ='Coast Field'!C4 -> FH | C24: ='Coast Field'!D4 -> 16 | D24: ='Coast Field'!E4 -> 12 | E24: =D24/C24 -> 0.75 | G24: ='Coast Field'!B70 -> Alexia Venema | H24: ='Coast Field'!C70 -> LPC | I24: ='Coast Field'!D70 -> 19 | J24: ='Coast Field'!F70 -> 7 | K24: =J24/I24 -> 0.36842105 | M24: ='Coast Field'!B53 -> Kim Canisso | N24: ='Coast Field'!C53 -> MERCED | O24: ='Coast Field'!D53 -> 8 | P24: ='Coast Field'!G53 -> 18 | Q24: =P24/O24 -> 2.25
A25: ='Coast Field'!B69 -> Paris Sinclair | B25: ='Coast Field'!C69 -> LPC | C25: ='Coast Field'!D69 -> 22 | D25: ='Coast Field'!E69 -> 12 | E25: =D25/C25 -> 0.54545455 | G25: ='Coast Field'!B77 -> Jillian Eicher | H25: ='Coast Field'!C77 -> LPC | I25: ='Coast Field'!D77 -> 22 | J25: ='Coast Field'!F77 -> 7 | K25: =J25/I25 -> 0.31818182 | M25: ='Coast Field'!B77 -> Jillian Eicher | N25: ='Coast Field'!C77 -> LPC | O25: ='Coast Field'!D77 -> 22 | P25: ='Coast Field'!G77 -> 17 | Q25: =P25/O25 -> 0.77272727
A26: ='Coast Field'!B35 -> Raquel Pea | B26: ='Coast Field'!C35 -> CCSF | C26: ='Coast Field'!D35 -> 9 | D26: ='Coast Field'!E35 -> 11 | E26: =D26/C26 -> 1.2222222 | G26: ='Coast Field'!B44 -> Michelle Plante | H26: ='Coast Field'!C44 -> CSM | I26: ='Coast Field'!D44 -> 22 | J26: ='Coast Field'!F44 -> 7 | K26: =J26/I26 -> 0.31818182 | M26: ='Coast Field'!B44 -> Michelle Plante | N26: ='Coast Field'!C44 -> CSM | O26: ='Coast Field'!D44 -> 22 | P26: ='Coast Field'!G44 -> 16 | Q26: =P26/O26 -> 0.72727273
A27: ='Coast Field'!B37 -> Patricia Rivas | B27: ='Coast Field'!C37 -> CCSF | C27: ='Coast Field'!D37 -> 10 | D27: ='Coast Field'!E37 -> 11 | E27: =D27/C27 -> 1.1 | G27: ='Coast Field'!B39 -> Emily Schattenburg | H27: ='Coast Field'!C39 -> CCSF | I27: ='Coast Field'!D39 -> 7 | J27: ='Coast Field'!F39 -> 6 | K27: =J27/I27 -> 0.85714286 | M27: ='Coast Field'!B70 -> Alexia Venema | N27: ='Coast Field'!C70 -> LPC | O27: ='Coast Field'!D70 -> 19 | P27: ='Coast Field'!G70 -> 13 | Q27: =P27/O27 -> 0.68421053
A28: ='Coast Field'!B70 -> Alexia Venema | B28: ='Coast Field'!C70 -> LPC | C28: ='Coast Field'!D70 -> 19 | D28: ='Coast Field'!E70 -> 11 | E28: =D28/C28 -> 0.57894737 | G28: ='Coast Field'!B8 -> Chase Mase | H28: ='Coast Field'!C8 -> FH | I28: ='Coast Field'!D8 -> 12 | J28: ='Coast Field'!F8 -> 6 | K28: =J28/I28 -> 0.5 | M28: ='Coast Field'!B78 -> Courtney Kinderman | N28: ='Coast Field'!C78 -> FH | O28: ='Coast Field'!D78 -> 14 | P28: ='Coast Field'!G78 -> 12 | Q28: =P28/O28 -> 0.85714286
A29: ='Coast Field'!B76 -> Lauren Cano | B29: ='Coast Field'!C76 -> LPC | C29: ='Coast Field'!D76 -> 23 | D29: ='Coast Field'!E76 -> 11 | E29: =D29/C29 -> 0.47826087 | G29: ='Coast Field'!B75 -> Mckenna Stevulak | H29: ='Coast Field'!C75 -> LPC | I29: ='Coast Field'!D75 -> 13 | J29: ='Coast Field'!F75 -> 6 | K29: =J29/I29 -> 0.46153846 | M29: ='Coast Field'!B54 -> Tiffany Fredrickson | N29: ='Coast Field'!C54 -> MERCED | O29: ='Coast Field'!D54 -> 8 | P29: ='Coast Field'!G54 -> 11 | Q29: =P29/O29 -> 1.375
A30: ='Coast Field'!B73 -> Rachel Will | B30: ='Coast Field'!C73 -> LPC | C30: ='Coast Field'!D73 -> 23 | D30: ='Coast Field'!E73 -> 11 | E30: =D30/C30 -> 0.47826087 | G30: ='Coast Field'!B12 -> Samantha McClusky | H30: ='Coast Field'!C12 -> FH | I30: ='Coast Field'!D12 -> 17 | J30: ='Coast Field'!F12 -> 6 | K30: =J30/I30 -> 0.35294118 | M30: ='Coast Field'!B74 -> Danielle Kennedy | N30: ='Coast Field'!C74 -> LPC | O30: ='Coast Field'!D74 -> 17 | P30: ='Coast Field'!G74 -> 11 | Q30: =P30/O30 -> 0.64705882
A31: ='Coast Field'!B20 -> Emma Canalin | B31: ='Coast Field'!C20 -> Laney | C31: ='Coast Field'!D20 -> 7 | D31: ='Coast Field'!E20 -> 10 | E31: =D31/C31 -> 1.4285714 | G31: ='Coast Field'!B68 -> Charissa Taylor | H31: ='Coast Field'!C68 -> LPC | I31: ='Coast Field'!D68 -> 23 | J31: ='Coast Field'!F68 -> 6 | K31: =J31/I31 -> 0.26086957 | M31: ='Coast Field'!B73 -> Rachel Will | N31: ='Coast Field'!C73 -> LPC | O31: ='Coast Field'!D73 -> 23 | P31: ='Coast Field'!G73 -> 11 | Q31: =P31/O31 -> 0.47826087
A32: ='Coast Field'!B62 -> Anjele Kepeghian | B32: ='Coast Field'!C62 -> MERCED | C32: ='Coast Field'!D62 -> 8 | D32: ='Coast Field'!E62 -> 10 | E32: =D32/C32 -> 1.25 | G32: ='Coast Field'!B59 -> Shelia Buckingham | H32: ='Coast Field'!C59 -> MERCED | I32: ='Coast Field'!D59 -> 5 | J32: ='Coast Field'!F59 -> 5 | K32: =J32/I32 -> 1 | M32: ='Coast Field'!B55 -> Rebekah Groteguth | N32: ='Coast Field'!C55 -> MERCED | O32: ='Coast Field'!D55 -> 8 | P32: ='Coast Field'!G55 -> 10 | Q32: =P32/O32 -> 1.25
A33: ='Coast Field'!B67 -> Madison Suoja | B33: ='Coast Field'!C67 -> LPC | C33: ='Coast Field'!D67 -> 13 | D33: ='Coast Field'!E67 -> 10 | E33: =D33/C33 -> 0.76923077 | G33: ='Coast Field'!B61 -> Haylee Eagleton | H33: ='Coast Field'!C61 -> MERCED | I33: ='Coast Field'!D61 -> 8 | J33: ='Coast Field'!F61 -> 5 | K33: =J33/I33 -> 0.625 | M33: ='Coast Field'!B67 -> Madison Suoja | N33: ='Coast Field'!C67 -> LPC | O33: ='Coast Field'!D67 -> 13 | P33: ='Coast Field'!G67 -> 9 | Q33: =P33/O33 -> 0.69230769
A34: ='Coast Field'!B11 -> Lauren Youhanna | B34: ='Coast Field'!C11 -> FH | C34: ='Coast Field'!D11 -> 5 | D34: ='Coast Field'!E11 -> 9 | E34: =D34/C34 -> 1.8 | G34: ='Coast Field'!B4 -> Shannon Sullivan | H34: ='Coast Field'!C4 -> FH | I34: ='Coast Field'!D4 -> 16 | J34: ='Coast Field'!F4 -> 5 | K34: =J34/I34 -> 0.3125 | M34: ='Coast Field'!B41 -> Cynthia Tran | N34: ='Coast Field'!C41 -> CCSF | O34: ='Coast Field'!D41 -> 12 | P34: ='Coast Field'!G41 -> 8 | Q34: =P34/O34 -> 0.66666667
A35: ='Coast Field'!B74 -> Danielle Kennedy | B35: ='Coast Field'!C74 -> LPC | C35: ='Coast Field'!D74 -> 17 | D35: ='Coast Field'!E74 -> 8 | E35: =D35/C35 -> 0.47058824 | G35: ='Coast Field'!B43 -> Jessica Stafford | H35: ='Coast Field'!C43 -> CSM | I35: ='Coast Field'!D43 -> 18 | J35: ='Coast Field'!F43 -> 5 | K35: =J35/I35 -> 0.27777778 | M35: ='Coast Field'!B43 -> Jessica Stafford | N35: ='Coast Field'!C43 -> CSM | O35: ='Coast Field'!D43 -> 18 | P35: ='Coast Field'!G43 -> 8 | Q35: =P35/O35 -> 0.44444444
A36: ='Coast Field'!B3 -> Kerstyn Pantoja | B36: ='Coast Field'!C3 -> FH | C36: ='Coast Field'!D3 -> 24 | D36: ='Coast Field'!E3 -> 8 | E36: =D36/C36 -> 0.33333333 | G36: ='Coast Field'!B6 -> Shae Boutte | H36: ='Coast Field'!C6 -> FH | I36: ='Coast Field'!D6 -> 24 | J36: ='Coast Field'!F6 -> 5 | K36: =J36/I36 -> 0.20833333 | M36: ='Coast Field'!B69 -> Paris Sinclair | N36: ='Coast Field'!C69 -> LPC | O36: ='Coast Field'!D69 -> 22 | P36: ='Coast Field'!G69 -> 8 | Q36: =P36/O36 -> 0.36363636
A37: ='Coast Field'!B54 -> Tiffany Fredrickson | B37: ='Coast Field'!C54 -> MERCED | C37: ='Coast Field'!D54 -> 8 | D37: ='Coast Field'!E54 -> 7 | E37: =D37/C37 -> 0.875 | G37: ='Coast Field'!B31 -> Amber Izumi | H37: ='Coast Field'!C31 -> CCSF | I37: ='Coast Field'!D31 -> 8 | J37: ='Coast Field'!F31 -> 4 | K37: =J37/I37 -> 0.5 | M37: ='Coast Field'!B20 -> Emma Canalin | N37: ='Coast Field'!C20 -> Laney | O37: ='Coast Field'!D20 -> 7 | P37: ='Coast Field'!G20 -> 7 | Q37: =P37/O37 -> 1
A38: ='Coast Field'!B17 -> Anneke Moser | B38: ='Coast Field'!C17 -> Laney | C38: ='Coast Field'!D17 -> 18 | D38: ='Coast Field'!E17 -> 7 | E38: =D38/C38 -> 0.38888889 | G38: ='Coast Field'!B28 -> Daniela Fiestas-Paredes | H38: ='Coast Field'!C28 -> CCSF | I38: ='Coast Field'!D28 -> 10 | J38: ='Coast Field'!F28 -> 4 | K38: =J38/I38 -> 0.4 | M38: ='Coast Field'!B47 -> Taylor Anderson | N38: ='Coast Field'!C47 -> CSM | O38: ='Coast Field'!D47 -> 8 | P38: ='Coast Field'!G47 -> 7 | Q38: =P38/O38 -> 0.875
A39: ='Coast Field'!B49 -> Sina Gomez | B39: ='Coast Field'!C49 -> CSM | C39: ='Coast Field'!D49 -> 18 | D39: ='Coast Field'!E49 -> 7 | E39: =D39/C39 -> 0.38888889 | G39: ='Coast Field'!B69 -> Paris Sinclair | H39: ='Coast Field'!C69 -> LPC | I39: ='Coast Field'!D69 -> 22 | J39: ='Coast Field'!F69 -> 4 | K39: =J39/I39 -> 0.18181818 | M39: ='Coast Field'!B48 -> Shelby Mcmillan | N39: ='Coast Field'!C48 -> CSM | O39: ='Coast Field'!D48 -> 15 | P39: ='Coast Field'!G48 -> 7 | Q39: =P39/O39 -> 0.46666667
A40: ='Coast Field'!B75 -> Mckenna Stevulak | B40: ='Coast Field'!C75 -> LPC | C40: ='Coast Field'!D75 -> 13 | D40: ='Coast Field'!E75 -> 6 | E40: =D40/C40 -> 0.46153846 | G40: ='Coast Field'!B73 -> Rachel Will | H40: ='Coast Field'!C73 -> LPC | I40: ='Coast Field'!D73 -> 23 | J40: ='Coast Field'!F73 -> 4 | K40: =J40/I40 -> 0.17391304 | M40: ='Coast Field'!B35 -> Raquel Pea | N40: ='Coast Field'!C35 -> CCSF | O40: ='Coast Field'!D35 -> 9 | P40: ='Coast Field'!G35 -> 6 | Q40: =P40/O40 -> 0.66666667
...

Sheet Coast Goalie Leaders
A1: Name | B1: Team | C1: GP | D1: Goals | E1: G/G | G1: Name | H1: Team | I1: GP | J1: Blocks | K1: B/G
A2: ='Coast Goal'!B7 -> Brontae Gomes | B2: ='Coast Goal'!C7 -> MERCED | C2: ='Coast Goal'!D7 -> 1 | D2: ='Coast Goal'!E7 -> 2 | E2: =D2/C2 -> 2 | G2: ='Coast Goal'!B8 -> Emily Schattenburg | H2: ='Coast Goal'!C8 -> CCSF | I2: ='Coast Goal'!D8 -> 12 | J2: ='Coast Goal'!F8 -> 149 | K2: =J2/I2 -> 12.416667
A3: ='Coast Goal'!B3 -> Natalie Thiel | B3: ='Coast Goal'!C3 -> FH | C3: ='Coast Goal'!D3 -> 16 | D3: ='Coast Goal'!E3 -> 36 | E3: =D3/C3 -> 2.25 | G3: ='Coast Goal'!B11 -> Shelby Mcmillan | H3: ='Coast Goal'!C11 -> CSM | I3: ='Coast Goal'!D11 -> 17 | J3: ='Coast Goal'!F11 -> 120 | K3: =J3/I3 -> 7.0588235
A4: ='Coast Goal'!B9 -> Erika Lugo | B4: ='Coast Goal'!C9 -> CCSF | C4: ='Coast Goal'!D9 -> 1 | D4: ='Coast Goal'!E9 -> 4 | E4: =D4/C4 -> 4 | G4: ='Coast Goal'!B10 -> Sina Gomez | H4: ='Coast Goal'!C10 -> CSM | I4: ='Coast Goal'!D10 -> 19 | J4: ='Coast Goal'!F10 -> 121 | K4: =J4/I4 -> 6.3684211
A5: ='Coast Goal'!B11 -> Shelby Mcmillan | B5: ='Coast Goal'!C11 -> CSM | C5: ='Coast Goal'!D11 -> 17 | D5: ='Coast Goal'!E11 -> 89 | E5: =D5/C5 -> 5.2352941 | G5: ='Coast Goal'!B2 -> Donya Dehnad | H5: ='Coast Goal'!C2 -> FH | I5: ='Coast Goal'!D2 -> 21 | J5: ='Coast Goal'!F2 -> 142 | K5: =J5/I5 -> 6.7619048
A6: ='Coast Goal'!B4 -> Emma Canalin | B6: ='Coast Goal'!C4 -> Laney | C6: ='Coast Goal'!D4 -> 5 | D6: ='Coast Goal'!E4 -> 21 | E6: =D6/C6 -> 4.2 | G6: ='Coast Goal'!B6 -> Sydney | H6: ='Coast Goal'!C6 -> MERCED | I6: ='Coast Goal'!D6 -> 8 | J6: ='Coast Goal'!F6 -> 52 | K6: =J6/I6 -> 6.5
A7: ='Coast Goal'!B2 -> Donya Dehnad | B7: ='Coast Goal'!C2 -> FH | C7: ='Coast Goal'!D2 -> 21 | D7: ='Coast Goal'!E2 -> 100 | E7: =D7/C7 -> 4.7619048 | G7: ='Coast Goal'!B3 -> Natalie Thiel | H7: ='Coast Goal'!C3 -> FH | I7: ='Coast Goal'!D3 -> 16 | J7: ='Coast Goal'!F3 -> 86 | K7: =J7/I7 -> 5.375
A8: ='Coast Goal'!B10 -> Sina Gomez | B8: ='Coast Goal'!C10 -> CSM | C8: ='Coast Goal'!D10 -> 19 | D8: ='Coast Goal'!E10 -> 122 | E8: =D8/C8 -> 6.4210526 | G8: ='Coast Goal'!B7 -> Brontae Gomes | H8: ='Coast Goal'!C7 -> MERCED | I8: ='Coast Goal'!D7 -> 1 | J8: ='Coast Goal'!F7 -> 4 | K8: =J8/I8 -> 4
A9: ='Coast Goal'!B5 -> Heather Larson | B9: ='Coast Goal'!C5 -> Laney | C9: ='Coast Goal'!D5 -> 18 | D9: ='Coast Goal'!E5 -> 212 | E9: =D9/C9 -> 11.777778 | G9: ='Coast Goal'!B9 -> Erika Lugo | H9: ='Coast Goal'!C9 -> CCSF | I9: ='Coast Goal'!D9 -> 1 | J9: ='Coast Goal'!F9 -> 4 | K9: =J9/I9 -> 4
A10: ='Coast Goal'!B6 -> Sydney | B10: ='Coast Goal'!C6 -> MERCED | C10: ='Coast Goal'!D6 -> 8 | D10: ='Coast Goal'!E6 -> 73 | E10: =D10/C10 -> 9.125 | G10: ='Coast Goal'!B5 -> Heather Larson | H10: ='Coast Goal'!C5 -> Laney | I10: ='Coast Goal'!D5 -> 18 | J10: ='Coast Goal'!F5 -> 150 | K10: =J10/I10 -> 8.3333333
A11: ='Coast Goal'!B8 -> Emily Schattenburg | B11: ='Coast Goal'!C8 -> CCSF | C11: ='Coast Goal'!D8 -> 12 | D11: ='Coast Goal'!E8 -> 157 | E11: =D11/C11 -> 13.083333 | G11: ='Coast Goal'!B4 -> Emma Canalin | H11: ='Coast Goal'!C4 -> Laney | I11: ='Coast Goal'!D4 -> 5 | J11: ='Coast Goal'!F4 -> 8 | K11: =J11/I11 -> 1.6

Sheet Coast Field
A1: Cap # | B1: Athlete | C1: School | D1: GP | E1: GLS | F1: AST | G1: STL | H1: G/G | I1: A/G | J1: S/G
A2: =Foothill!A3 -> 2 | B2: =Foothill!B3 -> Layna Auchard | C2: =Foothill!C3 -> FH | D2: =Foothill!D3 -> 24 | E2: =Foothill!E3 -> 37 | F2: =Foothill!F3 -> 12 | G2: =Foothill!G3 -> 53 | H2: =E2/D2 -> 1.5416667 | I2: =F2/D2 -> 0.5 | J2: =G2/D2 -> 2.2083333
A3: =Foothill!A4 -> 3 | B3: =Foothill!B4 -> Kerstyn Pantoja | C3: =Foothill!C4 -> FH | D3: =Foothill!D4 -> 24 | E3: =Foothill!E4 -> 8 | F3: =Foothill!F4 -> 15 | G3: =Foothill!G4 -> 39 | H3: =E3/D3 -> 0.33333333 | I3: =F3/D3 -> 0.625 | J3: =G3/D3 -> 1.625
A4: =Foothill!A5 -> 4 | B4: =Foothill!B5 -> Shannon Sullivan | C4: =Foothill!C5 -> FH | D4: =Foothill!D5 -> 16 | E4: =Foothill!E5 -> 12 | F4: =Foothill!F5 -> 5 | G4: =Foothill!G5 -> 33 | H4: =E4/D4 -> 0.75 | I4: =F4/D4 -> 0.3125 | J4: =G4/D4 -> 2.0625
A5: =Foothill!A6 -> 5 | B5: =Foothill!B6 -> Erin Hepner | C5: =Foothill!C6 -> FH | D5: =Foothill!D6 -> 24 | E5: =Foothill!E6 -> 26 | F5: =Foothill!F6 -> 8 | G5: =Foothill!G6 -> 23 | H5: =E5/D5 -> 1.0833333 | I5: =F5/D5 -> 0.33333333 | J5: =G5/D5 -> 0.95833333
A6: =Foothill!A7 -> 7 | B6: =Foothill!B7 -> Shae Boutte | C6: =Foothill!C7 -> FH | D6: =Foothill!D7 -> 24 | E6: =Foothill!E7 -> 38 | F6: =Foothill!F7 -> 5 | G6: =Foothill!G7 -> 22 | H6: =E6/D6 -> 1.5833333 | I6: =F6/D6 -> 0.20833333 | J6: =G6/D6 -> 0.91666667
A7: =Foothill!A8 -> 8 | B7: =Foothill!B8 -> Lauren Lesyna | C7: =Foothill!C8 -> FH | D7: =Foothill!D8 -> 24 | E7: =Foothill!E8 -> 76 | F7: =Foothill!F8 -> 8 | G7: =Foothill!G8 -> 48 | H7: =E7/D7 -> 3.1666667 | I7: =F7/D7 -> 0.33333333 | J7: =G7/D7 -> 2
A8: =Foothill!A9 -> 9 | B8: =Foothill!B9 -> Chase Mase | C8: =Foothill!C9 -> FH | D8: =Foothill!D9 -> 12 | E8: =Foothill!E9 -> 16 | F8: =Foothill!F9 -> 6 | G8: =Foothill!G9 -> 3 | H8: =E8/D8 -> 1.3333333 | I8: =F8/D8 -> 0.5 | J8: =G8/D8 -> 0.25
A9: =Foothill!A10 -> 12 | B9: =Foothill!B10 -> Stephanie Herrera | C9: =Foothill!C10 -> FH | D9: =Foothill!D10 -> 24 | E9: =Foothill!E10 -> 27 | F9: =Foothill!F10 -> 2 | G9: =Foothill!G10 -> 21 | H9: =E9/D9 -> 1.125 | I9: =F9/D9 -> 0.083333333 | J9: =G9/D9 -> 0.875
A10: =Foothill!A11 -> 15 | B10: =Foothill!B11 -> Analise Alforque-Acevedo | C10: =Foothill!C11 -> FH | D10: =Foothill!D11 -> 23 | E10: =Foothill!E11 -> 24 | F10: =Foothill!F11 -> 8 | G10: =Foothill!G11 -> 33 | H10: =E10/D10 -> 1.0434783 | I10: =F10/D10 -> 0.34782609 | J10: =G10/D10 -> 1.4347826
A11: =Foothill!A12 -> 16 | B11: =Foothill!B12 -> Lauren Youhanna | C11: =Foothill!C12 -> FH | D11: =Foothill!D12 -> 5 | E11: =Foothill!E12 -> 9 | F11: =Foothill!F12 -> 0 | G11: =Foothill!G12 -> 3 | H11: =E11/D11 -> 1.8 | I11: =F11/D11 -> 0 | J11: =G11/D11 -> 0.6
A12: =Foothill!A13 -> 17 | B12: =Foothill!B13 -> Samantha McClusky | C12: =Foothill!C13 -> FH | D12: =Foothill!D13 -> 17 | E12: =Foothill!E13 -> 30 | F12: =Foothill!F13 -> 6 | G12: =Foothill!G13 -> 22 | H12: =E12/D12 -> 1.7647059 | I12: =F12/D12 -> 0.35294118 | J12: =G12/D12 -> 1.2941176
A13: =Laney!A3 -> 2 | B13: =Laney!B3 -> Helene Takamura | C13: =Laney!C3 -> Laney | D13: =Laney!D3 -> 16 | E13: =Laney!E3 -> 18 | F13: =Laney!F3 -> 1 | G13: =Laney!G3 -> 21 | H13: =E13/D13 -> 1.125 | I13: =F13/D13 -> 0.0625 | J13: =G13/D13 -> 1.3125
A14: =Laney!A4 -> 3 | B14: =Laney!B4 -> Kathryn Vargas | C14: =Laney!C4 -> Laney | D14: =Laney!D4 -> 18 | E14: =Laney!E4 -> 3 | F14: =Laney!F4 -> 0 | G14: =Laney!G4 -> 3 | H14: =E14/D14 -> 0.16666667 | I14: =F14/D14 -> 0 | J14: =G14/D14 -> 0.16666667
A15: =Laney!A5 -> 4 | B15: =Laney!B5 -> Heather Larson | C15: =Laney!C5 -> Laney | D15: =Laney!D5 -> 1 | E15: =Laney!E5 -> 0 | F15: =Laney!F5 -> 2 | G15: =Laney!G5 -> 4 | H15: =E15/D15 -> 0 | I15: =F15/D15 -> 2 | J15: =G15/D15 -> 4
A16: =Laney!A6 -> 5 | B16: =Laney!B6 -> Isabel Moser | C16: =Laney!C6 -> Laney | D16: =Laney!D6 -> 16 | E16: =Laney!E6 -> 6 | F16: =Laney!F6 -> 1 | G16: =Laney!G6 -> 4 | H16: =E16/D16 -> 0.375 | I16: =F16/D16 -> 0.0625 | J16: =G16/D16 -> 0.25
A17: =Laney!A7 -> 6 | B17: =Laney!B7 -> Anneke Moser | C17: =Laney!C7 -> Laney | D17: =Laney!D7 -> 18 | E17: =Laney!E7 -> 7 | F17: =Laney!F7 -> 3 | G17: =Laney!G7 -> 6 | H17: =E17/D17 -> 0.38888889 | I17: =F17/D17 -> 0.16666667 | J17: =G17/D17 -> 0.33333333
A18: =Laney!A8 -> 7 | B18: =Laney!B8 -> Sophia Preach | C18: =Laney!C8 -> Laney | D18: =Laney!D8 -> 18 | E18: =Laney!E8 -> 1 | F18: =Laney!F8 -> 3 | G18: =Laney!G8 -> 3 | H18: =E18/D18 -> 0.055555556 | I18: =F18/D18 -> 0.16666667 | J18: =G18/D18 -> 0.16666667
A19: =Laney!A10 -> 9 | B19: =Laney!B10 -> Sharon Sandoval | C19: =Laney!C10 -> Laney | D19: =Laney!D10 -> 18 | E19: =Laney!E10 -> 0 | F19: =Laney!F10 -> 0 | G19: =Laney!G10 -> 4 | H19: =E19/D19 -> 0 | I19: =F19/D19 -> 0 | J19: =G19/D19 -> 0.22222222
A20: =Laney!A11 -> 10 | B20: =Laney!B11 -> Emma Canalin | C20: =Laney!C11 -> Laney | D20: =Laney!D11 -> 7 | E20: =Laney!E11 -> 10 | F20: =Laney!F11 -> 1 | G20: =Laney!G11 -> 7 | H20: =E20/D20 -> 1.4285714 | I20: =F20/D20 -> 0.14285714 | J20: =G20/D20 -> 1
A21: =Laney!A12 -> 11 | B21: =Laney!B12 -> Jade Le | C21: =Laney!C12 -> Laney | D21: =Laney!D12 -> 18 | E21: =Laney!E12 -> 6 | F21: =Laney!F12 -> 2 | G21: =Laney!G12 -> 4 | H21: =E21/D21 -> 0.33333333 | I21: =F21/D21 -> 0.11111111 | J21: =G21/D21 -> 0.22222222
A22: =Laney!A13 -> 12 | B22: =Laney!B13 -> Shannon Voong | C22: =Laney!C13 -> Laney | D22: =Laney!D13 -> 3 | E22: =Laney!E13 -> 0 | F22: =Laney!F13 -> 0 | G22: =Laney!G13 -> 0 | H22: =E22/D22 -> 0 | I22: =F22/D22 -> 0 | J22: =G22/D22 -> 0
A23: =Laney!A14 -> 13 | B23: =Laney!B14 -> Patricia Coppage | C23: =Laney!C14 -> Laney | D23: =Laney!D14 -> 15 | E23: =Laney!E14 -> 1 | F23: =Laney!F14 -> 1 | G23: =Laney!G14 -> 5 | H23: =E23/D23 -> 0.066666667 | I23: =F23/D23 -> 0.066666667 | J23: =G23/D23 -> 0.33333333
A24: =Laney!A15 -> 14 | B24: =Laney!B15 -> Zahra Beatty-James | C24: =Laney!C15 -> Laney | D24: =Laney!D15 -> 3 | E24: =Laney!E15 -> 0 | F24: =Laney!F15 -> 0 | G24: =Laney!G15 -> 0 | H24: =E24/D24 -> 0 | I24: =F24/D24 -> 0 | J24: =G24/D24 -> 0
A25: =Laney!A16 -> 15 | B25: =Laney!B16 -> Maya Best | C25: =Laney!C16 -> Laney | D25: =Laney!D16 -> 1 | E25: =Laney!E16 -> 0 | F25: =Laney!F16 -> 0 | G25: =Laney!G16 -> 0 | H25: =E25/D25 -> 0 | I25: =F25/D25 -> 0 | J25: =G25/D25 -> 0
A26: =CCSF!A3 -> 0 | B26: =CCSF!B3 -> Brooke Ashton | C26: =CCSF!C3 -> CCSF | D26: =CCSF!D3 -> 7 | E26: =CCSF!E3 -> 0 | F26: =CCSF!F3 -> 1 | G26: =CCSF!G3 -> 2 | H26: =E26/D26 -> 0 | I26: =F26/D26 -> 0.14285714 | J26: =G26/D26 -> 0.28571429
A27: =CCSF!A4 -> 0 | B27: =CCSF!B4 -> Rochelle Dewyer | C27: =CCSF!C4 -> CCSF | D27: =CCSF!D4 -> 11 | E27: =CCSF!E4 -> 0 | F27: =CCSF!F4 -> 0 | G27: =CCSF!G4 -> 1 | H27: =E27/D27 -> 0 | I27: =F27/D27 -> 0 | J27: =G27/D27 -> 0.090909091
A28: =CCSF!A5 -> 0 | B28: =CCSF!B5 -> Daniela Fiestas-Paredes | C28: =CCSF!C5 -> CCSF | D28: =CCSF!D5 -> 10 | E28: =CCSF!E5 -> 3 | F28: =CCSF!F5 -> 4 | G28: =CCSF!G5 -> 24 | H28: =E28/D28 -> 0.3 | I28: =F28/D28 -> 0.4 | J28: =G28/D28 -> 2.4
A29: =CCSF!A6 -> 0 | B29: =CCSF!B6 -> Alessandra Goldsborough | C29: =CCSF!C6 -> CCSF | D29: =CCSF!D6 -> 10 | E29: =CCSF!E6 -> 1 | F29: =CCSF!F6 -> 2 | G29: =CCSF!G6 -> 2 | H29: =E29/D29 -> 0.1 | I29: =F29/D29 -> 0.2 | J29: =G29/D29 -> 0.2
A30: =CCSF!A7 -> 0 | B30: =CCSF!B7 -> Amelia Hobbs | C30: =CCSF!C7 -> CCSF | D30: =CCSF!D7 -> 9 | E30: =CCSF!E7 -> 0 | F30: =CCSF!F7 -> 0 | G30: =CCSF!G7 -> 0 | H30: =E30/D30 -> 0 | I30: =F30/D30 -> 0 | J30: =G30/D30 -> 0
A31: =CCSF!A8 -> 0 | B31: =CCSF!B8 -> Amber Izumi | C31: =CCSF!C8 -> CCSF | D31: =CCSF!D8 -> 8 | E31: =CCSF!E8 -> 0 | F31: =CCSF!F8 -> 4 | G31: =CCSF!G8 -> 3 | H31: =E31/D31 -> 0 | I31: =F31/D31 -> 0.5 | J31: =G31/D31 -> 0.375
A32: =CCSF!A9 -> 0 | B32: =CCSF!B9 -> Ckoryna Lara | C32: =CCSF!C9 -> CCSF | D32: =CCSF!D9 -> 1 | E32: =CCSF!E9 -> 0 | F32: =CCSF!F9 -> 0 | G32: =CCSF!G9 -> 0 | H32: =E32/D32 -> 0 | I32: =F32/D32 -> 0 | J32: =G32/D32 -> 0
A33: =CCSF!A10 -> 0 | B33: =CCSF!B10 -> Erika Lugo | C33: =CCSF!C10 -> CCSF | D33: =CCSF!D10 -> 1 | E33: =CCSF!E10 -> 0 | F33: =CCSF!F10 -> 0 | G33: =CCSF!G10 -> 0 | H33: =E33/D33 -> 0 | I33: =F33/D33 -> 0 | J33: =G33/D33 -> 0
A34: =CCSF!A11 -> 0 | B34: =CCSF!B11 -> Brenda Ortiz | C34: =CCSF!C11 -> CCSF | D34: =CCSF!D11 -> 9 | E34: =CCSF!E11 -> 1 | F34: =CCSF!F11 -> 3 | G34: =CCSF!G11 -> 2 | H34: =E34/D34 -> 0.11111111 | I34: =F34/D34 -> 0.33333333 | J34: =G34/D34 -> 0.22222222
A35: =CCSF!A12 -> 0 | B35: =CCSF!B12 -> Raquel Pea | C35: =CCSF!C12 -> CCSF | D35: =CCSF!D12 -> 9 | E35: =CCSF!E12 -> 11 | F35: =CCSF!F12 -> 7 | G35: =CCSF!G12 -> 6 | H35: =E35/D35 -> 1.2222222 | I35: =F35/D35 -> 0.77777778 | J35: =G35/D35 -> 0.66666667
A36: =CCSF!A13 -> 0 | B36: =CCSF!B13 -> Breana Primitivo | C36: =CCSF!C13 -> CCSF | D36: =CCSF!D13 -> 12 | E36: =CCSF!E13 -> 0 | F36: =CCSF!F13 -> 0 | G36: =CCSF!G13 -> 1 | H36: =E36/D36 -> 0 | I36: =F36/D36 -> 0 | J36: =G36/D36 -> 0.083333333
A37: =CCSF!A14 -> 0 | B37: =CCSF!B14 -> Patricia Rivas | C37: =CCSF!C14 -> CCSF | D37: =CCSF!D14 -> 10 | E37: =CCSF!E14 -> 11 | F37: =CCSF!F14 -> 3 | G37: =CCSF!G14 -> 4 | H37: =E37/D37 -> 1.1 | I37: =F37/D37 -> 0.3 | J37: =G37/D37 -> 0.4
... A42: =CCSF!A19 -> 0 | B42: =CCSF!B19 -> Srira Zadmehran | C42: =CCSF!C19 -> CCSF | D42: =CCSF!D19 -> 7 | E42: =CCSF!E19 -> 0 | F42: =CCSF!F19 -> 0 | G42: =CCSF!G19 -> 0 | H42: =E42/D42 -> 0 | I42: =F42/D42 -> 0 | J42: =G42/D42 -> 0
A43: =CSM!A3 -> 2 | B43: =CSM!B3 -> Jessica Stafford | C43: =CSM!C3 -> CSM | D43: =CSM!D3 -> 18 | E43: =CSM!E3 -> 1 | F43: =CSM!F3 -> 5 | G43: =CSM!G3 -> 8 | H43: =E43/D43 -> 0.055555556 | I43: =F43/D43 -> 0.27777778 | J43: =G43/D43 -> 0.44444444
A44: =CSM!A4 -> 3 | B44: =CSM!B4 -> Michelle Plante | C44: =CSM!C4 -> CSM | D44: =CSM!D4 -> 22 | E44: =CSM!E4 -> 1 | F44: =CSM!F4 -> 7 | G44: =CSM!G4 -> 16 | H44: =E44/D44 -> 0.045454545 | I44: =F44/D44 -> 0.31818182 | J44: =G44/D44 -> 0.72727273
...

Sheet Coast Goal
A1: Cap # | B1: Athlete | C1: School | D1: GP | E1: GA | F1: BLK | G1: GA/G | H1: BL/G
A2: =Foothill!A32 -> 1 | B2: =Foothill!B32 -> Donya Dehnad | C2: =Foothill!C32 -> FH | D2: =Foothill!D32 -> 21 | E2: =Foothill!E32 -> 100 | F2: =Foothill!F32 -> 142 | G2: =Foothill!G32 -> 4.7619048 | H2: =Foothill!H32 -> 6.7619048
A3: =Foothill!A33 -> 1A | B3: =Foothill!B33 -> Natalie Thiel | C3: =Foothill!C33 -> FH | D3: =Foothill!D33 -> 16 | E3: =Foothill!E33 -> 36 | F3: =Foothill!F33 -> 86 | G3: =Foothill!G33 -> 2.25 | H3: =Foothill!H33 -> 5.375
A4: =Laney!A32 -> 1 | B4: =Laney!B32 -> Emma Canalin | C4: =Laney!C32 -> Laney | D4: =Laney!D32 -> 5 | E4: =Laney!E32 -> 21 | F4: =Laney!F32 -> 8 | G4: =Laney!G32 -> 4.2 | H4: =Laney!H32 -> 1.6
A5: =Laney!A33 -> 1a | B5: =Laney!B33 -> Heather Larson | C5: =Laney!C33 -> Laney | D5: =Laney!D33 -> 18 | E5: =Laney!E33 -> 212 | F5: =Laney!F33 -> 150 | G5: =Laney!G33 -> 11.777778 | H5: =Laney!H33 -> 8.3333333
A6: =Merced!A32 -> 1 | B6: =Merced!B32 -> Sydney | C6: =Merced!C32 -> MERCED | D6: =Merced!D32 -> 8 | E6: =Merced!E32 -> 73 | F6: =Merced!F32 -> 52 | G6: =Merced!G32 -> 9.125 | H6: =Merced!H32 -> 6.5
A7: =Merced!A33 -> 0 | B7: =Merced!B33 -> Brontae Gomes | C7: =Merced!C33 -> MERCED | D7: =Merced!D33 -> 1 | E7: =Merced!E33 -> 2 | F7: =Merced!F33 -> 4 | G7: =Merced!G33 -> 2 | H7: =Merced!H33 -> 4
A8: =CCSF!A32 -> 0 | B8: =CCSF!B32 -> Emily Schattenburg | C8: =CCSF!C32 -> CCSF | D8: =CCSF!D32 -> 12 | E8: =CCSF!E32 -> 157 | F8: =CCSF!F32 -> 149 | G8: =CCSF!G32 -> 13.083333 | H8: =CCSF!H32 -> 12.416667
A9: =CCSF!A33 -> 0 | B9: =CCSF!B33 -> Erika Lugo | C9: =CCSF!C33 -> CCSF | D9: =CCSF!D33 -> 1 | E9: =CCSF!E33 -> 4 | F9: =CCSF!F33 -> 4 | G9: =CCSF!G33 -> 4 | H9: =CCSF!H33 -> 4
A10: =CSM!A32 -> 1 | B10: =CSM!B32 -> Sina Gomez | C10: =CSM!C32 -> CSM | D10: =CSM!D32 -> 19 | E10: =CSM!E32 -> 122 | F10: =CSM!F32 -> 121 | G10: =CSM!G32 -> 6.4210526 | H10: =CSM!H32 -> 6.3684211
A11: =CSM!A33 -> 1A | B11: =CSM!B33 -> Shelby Mcmillan | C11: =CSM!C33 -> CSM | D11: =CSM!D33 -> 17 | E11: =CSM!E33 -> 89 | F11: =CSM!F33 -> 120 | G11: =CSM!G33 -> 5.2352941 | H11: =CSM!H33 -> 7.0588235

Sheet Foothill
A1: FIELD STATS
A2: Cap # | B2: Athlete | C2: School | D2: GP | E2: GLS | F2: AST | G2: STL | H2: G/G | I2: A/G | J2: S/G
A3: 2 | B3: Layna Auchard | C3: FH | D3: 24 | E3: 37 | F3: 12 | G3: 53 | H3: 1.5416667 | I3: 0.5 | J3: 2.2083333
A4: 3 | B4: Kerstyn Pantoja | C4: FH | D4: 24 | E4: 8 | F4: 15 | G4: 39 | H4: 0.33333333 | I4: 0.625 | J4: 1.625
A5: 4 | B5: Shannon Sullivan | C5: FH | D5: 16 | E5: 12 | F5: 5 | G5: 33 | H5: 0.75 | I5: 0.3125 | J5: 2.0625
A6: 5 | B6: Erin Hepner | C6: FH | D6: 24 | E6: 26 | F6: 8 | G6: 23 | H6: 1.0833333 | I6: 0.33333333 | J6: 0.95833333
A7: 7 | B7: Shae Boutte | C7: FH | D7: 24 | E7: 38 | F7: 5 | G7: 22 | H7: 1.5833333 | I7: 0.20833333 | J7: 0.91666667
A8: 8 | B8: Lauren Lesyna | C8: FH | D8: 24 | E8: 76 | F8: 8 | G8: 48 | H8: 3.1666667 | I8: 0.33333333 | J8: 2
A9: 9 | B9: Chase Mase | C9: FH | D9: 12 | E9: 16 | F9: 6 | G9: 3 | H9: 1.3333333 | I9: 0.5 | J9: 0.25
A10: 12 | B10: Stephanie Herrera | C10: FH | D10: 24 | E10: 27 | F10: 2 | G10: 21 | H10: 1.125 | I10: 0.083333333 | J10: 0.875
A11: 15 | B11: Analise Alforque-Acevedo | C11: FH | D11: 23 | E11: 24 | F11: 8 | G11: 33 | H11: 1.0434783 | I11: 0.34782609 | J11: 1.4347826
A12: 16 | B12: Lauren Youhanna | C12: FH | D12: 5 | E12: 9 | F12: 0 | G12: 3 | H12: 1.8 | I12: 0 | J12: 0.6
A13: 17 | B13: Samantha McClusky | C13: FH | D13: 17 | E13: 30 | F13: 6 | G13: 22 | H13: 1.7647059 | I13: 0.35294118 | J13: 1.2941176
A14: 11 | B14: Courtney Kinderman | C14: FH | D14: 14 | E14: 13 | F14: 2 | G14: 12 | H14: 0.92857143 | I14: 0.14285714 | J14: 0.85714286
H15: =E15/D15 -> #DIV/0! | I15: =F15/D15 -> #DIV/0! | J15: =G15/D15 -> #DIV/0!
H16: =E16/D16 -> #DIV/0! | I16: =F16/D16 -> #DIV/0! | J16: =G16/D16 -> #DIV/0!
H17: =E17/D17 -> #DIV/0! | I17: =F17/D17 -> #DIV/0! | J17: =G17/D17 -> #DIV/0!
H18: =E18/D18 -> #DIV/0! | I18: =F18/D18 -> #DIV/0! | J18: =G18/D18 -> #DIV/0!
H19: =E19/D19 -> #DIV/0! | I19: =F19/D19 -> #DIV/0! | J19: =G19/D19 -> #DIV/0!
H20: =E20/D20 -> #DIV/0! | I20: =F20/D20 -> #DIV/0! | J20: =G20/D20 -> #DIV/0!
H21: =E21/D21 -> #DIV/0! | I21: =F21/D21 -> #DIV/0! | J21: =G21/D21 -> #DIV/0!
H22: =E22/D22 -> #DIV/0! | I22: =F22/D22 -> #DIV/0! | J22: =G22/D22 -> #DIV/0!
H23: =E23/D23 -> #DIV/0! | I23: =F23/D23 -> #DIV/0! | J23: =G23/D23 -> #DIV/0!
H24: =E24/D24 -> #DIV/0! | I24: =F24/D24 -> #DIV/0! | J24: =G24/D24 -> #DIV/0!
H25: =E25/D25 -> #DIV/0! | I25: =F25/D25 -> #DIV/0! | J25: =G25/D25 -> #DIV/0!
H26: =E26/D26 -> #DIV/0! | I26: =F26/D26 -> #DIV/0! | J26: =G26/D26 -> #DIV/0!
... H28: =E28/D28 -> #DIV/0! | I28: =F28/D28 -> #DIV/0! | J28: =G28/D28 -> #DIV/0!
A30: GOALIE STATS
A31: Cap # | B31: Athlete | C31: School | D31: GP | E31: GA | F31: BLK | G31: GA/G | H31: BL/G
A32: 1 | B32: Donya Dehnad | C32: FH | D32: 21 | E32: 100 | F32: 142 | G32: 4.7619048 | H32: 6.7619048
A33: 1A | B33: Natalie Thiel | C33: FH | D33: 16 | E33: 36 | F33: 86 | G33: 2.25 | H33: 5.375
G34: =E34/D34 -> #DIV/0! | H34: =F34/D34 -> #DIV/0!
G35: =E35/D35 -> #DIV/0! | H35: =F35/D35 -> #DIV/0!

Sheet Las Positas
A1: FIELD STATS
A2: Cap | B2: Athlete | C2: School | D2: GP | E2: GLS | F2: AST | G2: STL | H2: G/G | I2: A/G | J2: S/G
A3: 2 | B3: Madison Suoja | C3: LPC | D3: 13 | E3: 10 | F3: 7 | G3: 9 | H3: =E3/D3 -> 0.76923077 | I3: =F3/D3 -> 0.53846154 | J3: =G3/D3 -> 0.69230769
A4: 3 | B4: Charissa Taylor | C4: LPC | D4: 23 | E4: 41 | F4: 6 | G4: 47 | H4: =E4/D4 -> 1.7826087 | I4: =F4/D4 -> 0.26086957 | J4: =G4/D4 -> 2.0434783
A5: 4 | B5: Paris Sinclair | C5: LPC | D5: 22 | E5: 12 | F5: 4 | G5: 8 | H5: =E5/D5 -> 0.54545455 | I5: =F5/D5 -> 0.18181818 | J5: =G5/D5 -> 0.36363636
A6: 5 | B6: Alexia Venema | C6: LPC | D6: 19 | E6: 11 | F6: 7 | G6: 13 | H6: =E6/D6 -> 0.57894737 | I6: =F6/D6 -> 0.36842105 | J6: =G6/D6 -> 0.68421053
A7: 6 | B7: Gina Mueller | C7: LPC | D7: 17 | E7: 0 | F7: 1 | G7: 3 | H7: =E7/D7 -> 0 | I7: =F7/D7 -> 0.058823529 | J7: =G7/D7 -> 0.17647059
A8: 7 | B8: Bailey Beanland | C8: LPC | D8: 1 | E8: 0 | F8: 0 | G8: 0 | H8: =E8/D8 -> 0 | I8: =F8/D8 -> 0 | J8: =G8/D8 -> 0
A9: 11 | B9: Rachel Will | C9: LPC | D9: 23 | E9: 11 | F9: 4 | G9: 11 | H9: =E9/D9 -> 0.47826087 | I9: =F9/D9 -> 0.17391304 | J9: =G9/D9 -> 0.47826087
A10: 12 | B10: Danielle Kennedy | C10: LPC | D10: 17 | E10: 8 | F10: 3 | G10: 11 | H10: =E10/D10 -> 0.47058824 | I10: =F10/D10 -> 0.17647059 | J10: =G10/D10 -> 0.64705882
A11: 13 | B11: Mckenna Stevulak | C11: LPC | D11: 13 | E11: 6 | F11: 6 | G11: 27 | H11: =E11/D11 -> 0.46153846 | I11: =F11/D11 -> 0.46153846 | J11: =G11/D11 -> 2.0769231
A12: 14 | B12: Lauren Cano | C12: LPC | D12: 23 | E12: 11 | F12: 18 | G12: 24 | H12: =E12/D12 -> 0.47826087 | I12: =F12/D12 -> 0.7826087 | J12: =G12/D12 -> 1.0434783
A13: 15 | B13: Jillian Eicher | C13: LPC | D13: 22 | E13: 44 | F13: 7 | G13: 17 | H13: =E13/D13 -> 2 | I13: =F13/D13 -> 0.31818182 | J13: =G13/D13 -> 0.77272727
A28: GOALIE STATS
A29: Cap # | B29: Athlete | C29: School | D29: GP | E29: GA | F29: BLK | G29: GA/G | H29: BL/G
A30: 1 | B30: Bailey Beanland | C30: LPC | D30: 23 | E30: 210 | F30: 175 | G30: =E30/D30 -> 9.1304348 | H30: =F30/E30 -> 0.83333333
A31: 1a | B31: Madison Suoja | C31: LPC | D31: 1 | E31: 0 | F31: 4 | G31: =E31/D31 -> 0 | H31: =F31/D31 -> 4

Sheet Laney
A1: FIELD STATS
A2: Cap # | B2: Athlete | C2: School | D2: GP | E2: GLS | F2: AST | G2: STL | H2: G/G | I2: A/G | J2: S/G
A3: 2 | B3: Helene Takamura | C3: Laney | D3: 16 | E3: 18 | F3: 1 | G3: 21 | H3: 1.125 | I3: 0.0625 | J3: 1.3125
A4: 3 | B4: Kathryn Vargas | C4: Laney | D4: 18 | E4: 3 | G4: 3 | H4: 0.16666667 | I4: 0 | J4: 0.16666667
A5: 4 | B5: Heather Larson | C5: Laney | D5: 1 | F5: 2 | G5: 4 | H5: 0 | I5: 2 | J5: 4
A6: 5 | B6: Isabel Moser | C6: Laney | D6: 16 | E6: 6 | F6: 1 | G6: 4 | H6: 0.375 | I6: 0.0625 | J6: 0.25
A7: 6 | B7: Anneke Moser | C7: Laney | D7: 18 | E7: 7 | F7: 3 | G7: 6 | H7: 0.38888889 | I7: 0.16666667 | J7: 0.33333333
A8: 7 | B8: Sophia Preach | C8: Laney | D8: 18 | E8: 1 | F8: 3 | G8: 3 | H8: 0.055555556 | I8: 0.16666667 | J8: 0.16666667
A9: 8 | H9: #DIV/0! | I9: #DIV/0! | J9: #DIV/0!
A10: 9 | B10: Sharon Sandoval | C10: Laney | D10: 18 | G10: 4 | H10: 0 | I10: 0 | J10: 0.22222222
A11: 10 | B11: Emma Canalin | C11: Laney | D11: 7 | E11: 10 | F11: 1 | G11: 7 | H11: 1.4285714 | I11: 0.14285714 | J11: 1
A12: 11 | B12: Jade Le | C12: Laney | D12: 18 | E12: 6 | F12: 2 | G12: 4 | H12: 0.33333333 | I12: 0.11111111 | J12: 0.22222222
A13: 12 | B13: Shannon Voong | C13: Laney | D13: 3 | H13: 0 | I13: 0 | J13: 0
A14: 13 | B14: Patricia Coppage | C14: Laney | D14: 15 | E14: 1 | F14: 1 | G14: 5 | H14: 0.066666667 | I14: 0.066666667 | J14: 0.33333333
A15: 14 | B15: Zahra Beatty-James | C15: Laney | D15: 3 | H15: 0 | I15: 0 | J15: 0
A16: 15 | B16: Maya Best | C16: Laney | D16: 1 | H16: 0 | I16: 0 | J16: 0
H17: #DIV/0! | I17: #DIV/0! | J17: #DIV/0!
H18: #DIV/0! | I18: #DIV/0! | J18: #DIV/0!
H19: #DIV/0! | I19: #DIV/0! | J19: #DIV/0!
H20: #DIV/0! | I20: #DIV/0! | J20: #DIV/0!
H21: #DIV/0! | I21: #DIV/0! | J21: #DIV/0!
H22: #DIV/0! | I22: #DIV/0! | J22: #DIV/0!
H23: #DIV/0! | I23: #DIV/0! | J23: #DIV/0!
H24: #DIV/0! | I24: #DIV/0! | J24: #DIV/0!
H25: #DIV/0! | I25: #DIV/0! | J25: #DIV/0!
H26: #DIV/0! | I26: #DIV/0! | J26: #DIV/0!
H27: #DIV/0! | I27: #DIV/0! | J27: #DIV/0!
H28: #DIV/0! | I28: #DIV/0! | J28: #DIV/0!
A30: GOALIE STATS
A31: Cap # | B31: Athlete | C31: School | D31: GP | E31: GA | F31: BLK | G31: GA/G | H31: BL/G
A32: 1 | B32: Emma Canalin | C32: Laney | D32: 5 | E32: 21 | F32: 8 | G32: 4.2 | H32: 1.6
A33: 1a | B33: Heather Larson | C33: Laney | D33: 18 | E33: 212 | F33: 150 | G33: 11.777778 | H33: 8.3333333
G34: =E34/D34 -> #DIV/0! | H34: =F34/D34 -> #DIV/0!
G35: =E35/D35 -> #DIV/0! | H35: =F35/D35 -> #DIV/0!

Sheet Merced
A1: FIELD STATS
A2: Cap # | B2: Athlete | C2: School | D2: GP | E2: GLS | F2: AST | G2: STL | H2: G/G | I2: A/G | J2: S/G
A3: 2 | B3: Kim Canisso | C3: MERCED | D3: 8 | E3: 12 | F3: 15 | G3: 18 | H3: =E3/D3 -> 1.5 | I3: =F3/D3 -> 1.875 | J3: =G3/D3 -> 2.25
A4: 3 | B4: Tiffany Fredrickson | C4: MERCED | D4: 8 | E4: 7 | F4: 11 | G4: 11 | H4: =E4/D4 -> 0.875 | I4: =F4/D4 -> 1.375 | J4: =G4/D4 -> 1.375
A5: 4 | B5: Rebekah Groteguth | C5: MERCED | D5: 8 | E5: 31 | F5: 20 | G5: 10 | H5: =E5/D5 -> 3.875 | I5: =F5/D5 -> 2.5 | J5: =G5/D5 -> 1.25
A6: 5 | B6: Sydney | C6: MERCED1 | D6: 1 | E6: 1 | H6: =E6/D6 -> 1 | I6: =F6/D6 -> 0 | J6: =G6/D6 -> 0
A7: 6 | B7: Maddie Torrence | C7: MERCED | D7: 0 | E7: 0 | F7: 0 | G7: 0 | H7: =E7/D7 -> #DIV/0! | I7: =F7/D7 -> #DIV/0! | J7: =G7/D7 -> #DIV/0!
A8: 7 | B8: Seavanna Garcia | C8: MERCED | D8: 8 | E8: 3 | F8: 0 | G8: 0 | H8: =E8/D8 -> 0.375 | I8: =F8/D8 -> 0 | J8: =G8/D8 -> 0
A9: 8 | B9: Shelia Buckingham | C9: MERCED | D9: 5 | E9: 2 | F9: 5 | G9: 2 | H9: =E9/D9 -> 0.4 | I9: =F9/D9 -> 1 | J9: =G9/D9 -> 0.4
A10: 9 | B10: Brontae Gomes | C10: MERCED | D10: 8 | E10: 15 | F10: 14 | G10: 25 | H10: =E10/D10 -> 1.875 | I10: =F10/D10 -> 1.75 | J10: =G10/D10 -> 3.125
A11: 10 | B11: Haylee Eagleton | C11: MERCED | D11: 8 | E11: 0 | F11: 5 | G11: 4 | H11: =E11/D11 -> 0 | I11: =F11/D11 -> 0.625 | J11: =G11/D11 -> 0.5
A12: 11 | B12: Anjele Kepeghian | C12: MERCED | D12: 8 | E12: 10 | F12: 7 | G12: 2 | H12: =E12/D12 -> 1.25 | I12: =F12/D12 -> 0.875 | J12: =G12/D12 -> 0.25
A13: 12 | B13: Gina Zumkehr | C13: MERCED | D13: 3 | E13: 0 | F13: 0 | G13: 0 | H13: =E13/D13 -> 0 | I13: =F13/D13 -> 0 | J13: =G13/D13 -> 0
A14: 13 | H14: =E14/D14 -> #DIV/0! | I14: =F14/D14 -> #DIV/0! | J14: =G14/D14 -> #DIV/0!
A15: 14 | B15: Kidra Avery | C15: MERCED | D15: 4 | E15: 2 | F15: 0 | G15: 0 | H15: =E15/D15 -> 0.5 | I15: =F15/D15 -> 0 | J15: =G15/D15 -> 0
A16: 15 | H16: =E16/D16 -> #DIV/0! | I16: =F16/D16 -> #DIV/0! | J16: =G16/D16 -> #DIV/0!
A17: 16 | B17: Kaylee Coca | C17: MERCED | D17: 4 | E17: 1 | F17: 1 | G17: 0 | H17: =E17/D17 -> 0.25 | I17: =F17/D17 -> 0.25 | J17: =G17/D17 -> 0
A18: 21 | B18: Nicole Goodnight | C18: MERCED | D18: 8 | E18: 18 | F18: 10 | G18: 21 | H18: =E18/D18 -> 2.25 | I18: =F18/D18 -> 1.25 | J18: =G18/D18 -> 2.625
H19: =E19/D19 -> #DIV/0! | I19: =F19/D19 -> #DIV/0! | J19: =G19/D19 -> #DIV/0!
H20: =E20/D20 -> #DIV/0! | I20: =F20/D20 -> #DIV/0! | J20: =G20/D20 -> #DIV/0!
H21: =E21/D21 -> #DIV/0! | I21: =F21/D21 -> #DIV/0! | J21: =G21/D21 -> #DIV/0!
H22: =E22/D22 -> #DIV/0! | I22: =F22/D22 -> #DIV/0! | J22: =G22/D22 -> #DIV/0!
H23: =E23/D23 -> #DIV/0! | I23: =F23/D23 -> #DIV/0! | J23: =G23/D23 -> #DIV/0!
H24: =E24/D24 -> #DIV/0! | I24: =F24/D24 -> #DIV/0! | J24: =G24/D24 -> #DIV/0!
H25: =E25/D25 -> #DIV/0! | I25: =F25/D25 -> #DIV/0! | J25: =G25/D25 -> #DIV/0!
H26: =E26/D26 -> #DIV/0! | I26: =F26/D26 -> #DIV/0! | J26: =G26/D26 -> #DIV/0!
H27: =E27/D27 -> #DIV/0! | I27: =F27/D27 -> #DIV/0! | J27: =G27/D27 -> #DIV/0!
H28: =E28/D28 -> #DIV/0! | I28: =F28/D28 -> #DIV/0! | J28: =G28/D28 -> #DIV/0!
A30: GOALIE STATS
A31: Cap # | B31: Athlete | C31: School | D31: GP | E31: GA | F31: BLK | G31: GA/G | H31: BL/G
A32: 1 | B32: Sydney | C32: MERCED | D32: 8 | E32: 73 | F32: 52 | G32: =E32/D32 -> 9.125 | H32: =F32/D32 -> 6.5
B33: Brontae Gomes | C33: MERCED | D33: 1 | E33: 2 | F33: 4 | G33: =E33/D33 -> 2 | H33: =F33/D33 -> 4
G34: =E34/D34 -> #DIV/0! | H34: =F34/D34 -> #DIV/0!
G35: =E35/D35 -> #DIV/0! | H35: =F35/D35 -> #DIV/0!

Sheet Ohlone

Sheet De Anza

Sheet Cabrillo

Sheet CCSF
A1: FIELD STATS
A2: Cap # | B2: Athlete | C2: School | D2: GP | E2: GLS | F2: AST | G2: STL | H2: G/G | I2: A/G | J2: S/G
B3: Brooke Ashton | C3: CCSF | D3: 7 | F3: 1 | G3: 2 | H3: =E3/D3 -> 0 | I3: =F3/D3 -> 0.14285714 | J3: =G3/D3 -> 0.28571429
B4: Rochelle Dewyer | C4: CCSF | D4: 11 | G4: 1 | H4: =E4/D4 -> 0 | I4: =F4/D4 -> 0 | J4: =G4/D4 -> 0.090909091
B5: Daniela Fiestas-Paredes | C5: CCSF | D5: 10 | E5: 3 | F5: 4 | G5: 24 | H5: =E5/D5 -> 0.3 | I5: =F5/D5 -> 0.4 | J5: =G5/D5 -> 2.4
B6: Alessandra Goldsborough | C6: CCSF | D6: 10 | E6: 1 | F6: 2 | G6: 2 | H6: =E6/D6 -> 0.1 | I6: =F6/D6 -> 0.2 | J6: =G6/D6 -> 0.2
B7: Amelia Hobbs | C7: CCSF | D7: 9 | H7: =E7/D7 -> 0 | I7: =F7/D7 -> 0 | J7: =G7/D7 -> 0
B8: Amber Izumi | C8: CCSF | D8: 8 | F8: 4 | G8: 3 | H8: =E8/D8 -> 0 | I8: =F8/D8 -> 0.5 | J8: =G8/D8 -> 0.375
B9: Ckoryna Lara | C9: CCSF | D9: 1 | H9: =E9/D9 -> 0 | I9: =F9/D9 -> 0 | J9: =G9/D9 -> 0
B10: Erika Lugo | C10: CCSF | D10: 1 | H10: =E10/D10 -> 0 | I10: =F10/D10 -> 0 | J10: =G10/D10 -> 0
B11: Brenda Ortiz | C11: CCSF | D11: 9 | E11: 1 | F11: 3 | G11: 2 | H11: =E11/D11 -> 0.11111111 | I11: =F11/D11 -> 0.33333333 | J11: =G11/D11 -> 0.22222222
B12: Raquel Pea | C12: CCSF | D12: 9 | E12: 11 | F12: 7 | G12: 6 | H12: =E12/D12 -> 1.2222222 | I12: =F12/D12 -> 0.77777778 | J12: =G12/D12 -> 0.66666667
B13: Breana Primitivo | C13: CCSF | D13: 12 | G13: 1 | H13: =E13/D13 -> 0 | I13: =F13/D13 -> 0 | J13: =G13/D13 -> 0.083333333
B14: Patricia Rivas | C14: CCSF | D14: 10 | E14: 11 | F14: 3 | G14: 4 | H14: =E14/D14 -> 1.1 | I14: =F14/D14 -> 0.3 | J14: =G14/D14 -> 0.4
B15: Tiffany Sainz | C15: CCSF | H15: =E15/D15 -> #DIV/0! | I15: =F15/D15 -> #DIV/0! | J15: =G15/D15 -> #DIV/0!
B16: Emily Schattenburg | C16: CCSF | D16: 7 | F16: 6 | G16: 5 | H16: =E16/D16 -> 0 | I16: =F16/D16 -> 0.85714286 | J16: =G16/D16 -> 0.71428571
B17: Natalie Taylor | C17: CCSF | D17: 12 | E17: 32 | F17: 10 | G17: 32 | H17: =E17/D17 -> 2.6666667 | I17: =F17/D17 -> 0.83333333 | J17: =G17/D17 -> 2.6666667
B18: Cynthia Tran | C18: CCSF | D18: 12 | E18: 12 | F18: 7 | G18: 8 | H18: =E18/D18 -> 1 | I18: =F18/D18 -> 0.58333333 | J18: =G18/D18 -> 0.66666667
B19: Srira Zadmehran | C19: CCSF | D19: 7 | H19: =E19/D19 -> 0 | I19: =F19/D19 -> 0 | J19: =G19/D19 -> 0
H20: =E20/D20 -> #DIV/0! | I20: =F20/D20 -> #DIV/0! | J20: =G20/D20 -> #DIV/0!
H21: =E21/D21 -> #DIV/0! | I21: =F21/D21 -> #DIV/0! | J21: =G21/D21 -> #DIV/0!
H22: =E22/D22 -> #DIV/0! | I22: =F22/D22 -> #DIV/0! | J22: =G22/D22 -> #DIV/0!
H23: =E23/D23 -> #DIV/0! | I23: =F23/D23 -> #DIV/0! | J23: =G23/D23 -> #DIV/0!
H24: =E24/D24 -> #DIV/0! | I24: =F24/D24 -> #DIV/0! | J24: =G24/D24 -> #DIV/0!
H25: =E25/D25 -> #DIV/0! | I25: =F25/D25 -> #DIV/0! | J25: =G25/D25 -> #DIV/0!
H26: =E26/D26 -> #DIV/0! | I26: =F26/D26 -> #DIV/0! | J26: =G26/D26 -> #DIV/0!
H27: =E27/D27 -> #DIV/0! | I27: =F27/D27 -> #DIV/0! | J27: =G27/D27 -> #DIV/0!
H28: =E28/D28 -> #DIV/0! | I28: =F28/D28 -> #DIV/0! | J28: =G28/D28 -> #DIV/0!
A30: GOALIE STATS
A31: Cap # | B31: Athlete | C31: School | D31: GP | E31: GA | F31: BLK | G31: GA/G | H31: BL/G
B32: Emily Schattenburg | C32: CCSF | D32: 12 | E32: 157 | F32: 149 | G32: 13.083333 | H32: 12.416667
B33: Erika Lugo | C33: CCSF | D33: 1 | E33: 4 | F33: 4 | G33: 4 | H33: 4
G34: =E34/D34 -> #DIV/0! | H34: =F34/D34 -> #DIV/0!
G35: =E35/D35 -> #DIV/0! | H35: =F35/D35 -> #DIV/0!
A37: VS LANEY SPRINTS WIN: DFP (3)

Sheet CSM
A1: FIELD STATS
A2: Cap # | B2: Athlete | C2: School | D2: GP | E2: GLS | F2: AST | G2: STL | H2: G/G | I2: A/G | J2: S/G
A3: 2 | B3: Jessica Stafford | C3: CSM | D3: 18 | E3: 1 | F3: 5 | G3: 8 | H3: 0.055555556 | I3: 0.27777778 | J3: 0.44444444
A4: 3 | B4: Michelle Plante | C4: CSM | D4: 22 | E4: 1 | F4: 7 | G4: 16 | H4: 0.045454545 | I4: 0.31818182 | J4: 0.72727273
A5: 5 | B5: Alexa Tamayo | C5: CSM | D5: 12 | E5: 1 | F5: 2 | G5: 2 | H5: 0.083333333 | I5: 0.16666667 | J5: 0.16666667
A6: 6 | B6: Vanessa Kibblewhite | C6: CSM | D6: 22 | E6: 80 | F6: 38 | G6: 51 | H6: 3.6363636 | I6: 1.7272727 | J6: 2.3181818
A7: 7 | B7: Taylor Anderson | C7: CSM | D7: 8 | E7: 2 | F7: 7 | G7: 7 | H7: 0.25 | I7: 0.875 | J7: 0.875
A8: 8 | B8: Shelby Mcmillan | C8: CSM | D8: 15 | E8: 3 | F8: 3 | G8: 7 | H8: 0.2 | I8: 0.2 | J8: 0.46666667
A9: 9 | B9: Sina Gomez | C9: CSM | D9: 18 | E9: 7 | F9: 23 | G9: 29 | H9: 0.38888889 | I9: 1.2777778 | J9: 1.6111111
A10: 10 | B10: Gretta Musayelyan | C10: CSM | D10: 13 | E10: 12 | F10: 25 | G10: 36 | H10: 0.92307692 | I10: 1.9230769 | J10: 2.7692308
A11: 11 | B11: Olivia Cosca | C11: CSM | D11: 22 | E11: 52 | F11: 51 | G11: 25 | H11: 2.3636364 | I11: 2.3181818 | J11: 1.1363636
A12: 13 | B12: Morgan Smith | C12: CSM | D12: 18 | E12: 49 | F12: 36 | G12: 42 | H12: 2.7222222 | I12: 2 | J12: 2.3333333
H13: =E13/D13 -> #DIV/0! | I13: =F13/D13 -> #DIV/0! | J13: =G13/D13 -> #DIV/0!
H14: =E14/D14 -> #DIV/0! | I14: =F14/D14 -> #DIV/0! | J14: =G14/D14 -> #DIV/0!
H15: =E15/D15 -> #DIV/0! | I15: =F15/D15 -> #DIV/0! | J15: =G15/D15 -> #DIV/0!
H16: =E16/D16 -> #DIV/0! | I16: =F16/D16 -> #DIV/0! | J16: =G16/D16 -> #DIV/0!
H17: =E17/D17 -> #DIV/0! | I17: =F17/D17 -> #DIV/0! | J17: =G17/D17 -> #DIV/0!
H18: =E18/D18 -> #DIV/0! | I18: =F18/D18 -> #DIV/0! | J18: =G18/D18 -> #DIV/0!
H19: =E19/D19 -> #DIV/0! | I19: =F19/D19 -> #DIV/0! | J19: =G19/D19 -> #DIV/0!
H20: =E20/D20 -> #DIV/0! | I20: =F20/D20 -> #DIV/0! | J20: =G20/D20 -> #DIV/0!
H21: =E21/D21 -> #DIV/0! | I21: =F21/D21 -> #DIV/0! | J21: =G21/D21 -> #DIV/0!
H22: =E22/D22 -> #DIV/0! | I22: =F22/D22 -> #DIV/0! | J22: =G22/D22 -> #DIV/0!
H23: =E23/D23 -> #DIV/0! | I23: =F23/D23 -> #DIV/0! | J23: =G23/D23 -> #DIV/0!
H24: =E24/D24 -> #DIV/0! | I24: =F24/D24 -> #DIV/0! | J24: =G24/D24 -> #DIV/0!
... H28: =E28/D28 -> #DIV/0! | I28: =F28/D28 -> #DIV/0! | J28: =G28/D28 -> #DIV/0!
A30: GOALIE STATS
A31: Cap # | B31: Athlete | C31: School | D31: GP | E31: GA | F31: BLK | G31: GA/G | H31: BL/G
A32: 1 | B32: Sina Gomez | C32: CSM | D32: 19 | E32: 122 | F32: 121 | G32: 6.4210526 | H32: 6.3684211
A33: 1A | B33: Shelby Mcmillan | C33: CSM | D33: 17 | E33: 89 | F33: 120 | G33: 5.2352941 | H33: 7.0588235
G34: =E34/D34 -> #DIV/0! | H34: =F34/D34 -> #DIV/0!
G35: =E35/D35 -> #DIV/0! | H35: =F35/D35 -> #DIV/0!

Sheet W Valley
