Workbook

Sheet Field Leaders
A1: Big 8 Women's Water Polo Leaders
A2: Name | B2: Team | C2: GP | D2: Goals | E2: G/G | F2: Name | G2: Team | H2: GP | I2: Asst | J2: A/G | K2: Name | L2: Team | M2: GP | N2: Steals | O2: S/G
A3: ='Big 8 Field'!B3 -> Megan Dietrich | B3: ='Big 8 Field'!C3 -> DVC | C3: ='Big 8 Field'!D3 -> 25 | D3: ='Big 8 Field'!E3 -> 85 | E3: ='Big 8 Field'!H3 -> 3.4 | F3: ='Big 8 Field'!B9 -> Charlotte Demoulin | G3: ='Big 8 Field'!C9 -> DVC | H3: ='Big 8 Field'!D9 -> 25 | I3: ='Big 8 Field'!F9 -> 46 | J3: ='Big 8 Field'!I9 -> 1.84 | K3: ='Big 8 Field'!B3 -> Megan Dietrich | L3: ='Big 8 Field'!C3 -> DVC | M3: ='Big 8 Field'!D3 -> 25 | N3: ='Big 8 Field'!G3 -> 52 | O3: ='Big 8 Field'!J3 -> 2.08
A4: =SJD!B11 -> Lauren Plunkett | B4: ='Big 8 Field'!C45 -> SJD | C4: ='Big 8 Field'!D45 -> 28 | D4: ='Big 8 Field'!E45 -> 80 | E4: =D4/C4 -> 2.8571429 | F4: ='Big 8 Field'!B45 -> Lauren Plunkett | G4: ='Big 8 Field'!C45 -> SJD | H4: ='Big 8 Field'!D45 -> 28 | I4: ='Big 8 Field'!F45 -> 40 | J4: =I4/H4 -> 1.4285714 | K4: =ARC!B9 -> Rya Minow | L4: =ARC!C9 -> ARC | M4: =ARC!D9 -> 19 | N4: =ARC!G9 -> 45 | O4: =N4/M4 -> 2.3684211
A5: ='Big 8 Field'!B24 -> Kallee Olivas | B5: ='Big 8 Field'!C24 -> FCC | C5: ='Big 8 Field'!D24 -> 22 | D5: ='Big 8 Field'!E24 -> 70 | E5: ='Big 8 Field'!H24 -> 3.1818182 | F5: ='Big 8 Field'!B46 -> Dallyce Marglon | G5: ='Big 8 Field'!C46 -> SJD | H5: ='Big 8 Field'!D46 -> 28 | I5: ='Big 8 Field'!F46 -> 36 | J5: =I5/H5 -> 1.2857143 | K5: ='Big 8 Field'!B45 -> Lauren Plunkett | L5: ='Big 8 Field'!C45 -> SJD | M5: ='Big 8 Field'!D45 -> 28 | N5: ='Big 8 Field'!G45 -> 45 | O5: =N5/M5 -> 1.6071429
A6: ='Big 8 Field'!B8 -> Hannah Dillon | B6: ='Big 8 Field'!C8 -> DVC | C6: ='Big 8 Field'!D8 -> 25 | D6: ='Big 8 Field'!E8 -> 59 | E6: ='Big 8 Field'!H8 -> 2.36 | F6: ='Big 8 Field'!B42 -> Molly Bria | G6: ='Big 8 Field'!C42 -> SJD | H6: ='Big 8 Field'!D42 -> 28 | I6: ='Big 8 Field'!F42 -> 31 | J6: =I6/H6 -> 1.1071429 | K6: ='Big 8 Field'!B14 -> Beverly Ayers | L6: ='Big 8 Field'!C14 -> DVC | M6: ='Big 8 Field'!D14 -> 25 | N6: ='Big 8 Field'!G14 -> 33 | O6: ='Big 8 Field'!J14 -> 1.32
A7: ='Big 8 Field'!B9 -> Charlotte Demoulin | B7: ='Big 8 Field'!C9 -> DVC | C7: ='Big 8 Field'!D9 -> 25 | D7: ='Big 8 Field'!E9 -> 52 | E7: ='Big 8 Field'!H9 -> 2.08 | F7: ='Big 8 Field'!B26 -> Alyssa Alvarez | G7: ='Big 8 Field'!C26 -> Sierra | H7: ='Big 8 Field'!D26 -> 22 | I7: ='Big 8 Field'!F26 -> 28 | J7: ='Big 8 Field'!I26 -> 1.2727273 | K7: ='Big 8 Field'!B42 -> Molly Bria | L7: ='Big 8 Field'!C42 -> SJD | M7: ='Big 8 Field'!D42 -> 28 | N7: ='Big 8 Field'!G42 -> 31 | O7: =N7/M7 -> 1.1071429
A8: =ARC!B8 -> Sacannah Liffring | B8: =ARC!C8 -> ARC | C8: =ARC!D8 -> 19 | D8: =ARC!E8 -> 46 | E8: =D8/C8 -> 2.4210526 | F8: ='Big 8 Field'!B40 -> Cassidy Waters | G8: ='Big 8 Field'!C40 -> SJD | H8: ='Big 8 Field'!D40 -> 28 | I8: ='Big 8 Field'!F40 -> 27 | J8: =I8/H8 -> 0.96428571 | K8: ='Big 8 Field'!B32 -> Alexis Williams | L8: ='Big 8 Field'!C32 -> Sierra | M8: ='Big 8 Field'!D32 -> 22 | N8: ='Big 8 Field'!G32 -> 28 | O8: ='Big 8 Field'!J32 -> 1.2727273
A9: ='Big 8 Field'!B34 -> Shelby Parker | B9: ='Big 8 Field'!C34 -> Sierra | C9: ='Big 8 Field'!D34 -> 22 | D9: ='Big 8 Field'!E34 -> 45 | E9: ='Big 8 Field'!H34 -> 2.0454545 | F9: ='Big 8 Field'!B5 -> Ruby Personius | G9: ='Big 8 Field'!C5 -> DVC | H9: ='Big 8 Field'!D5 -> 25 | I9: ='Big 8 Field'!F5 -> 26 | J9: ='Big 8 Field'!I5 -> 1.04 | K9: =ARC!B4 -> Lily Van Rees | L9: =ARC!C4 -> ARC | M9: =ARC!D4 -> 19 | N9: =ARC!G4 -> 27 | O9: =N9/M9 -> 1.4210526
A10: =SJD!B3 -> Brittany Smith | B10: ='Big 8 Field'!C37 -> SJD | C10: ='Big 8 Field'!D37 -> 28 | D10: ='Big 8 Field'!E37 -> 45 | E10: =D10/C10 -> 1.6071429 | F10: ='Big 8 Field'!B3 -> Megan Dietrich | G10: ='Big 8 Field'!C3 -> DVC | H10: ='Big 8 Field'!D3 -> 25 | I10: ='Big 8 Field'!F3 -> 25 | J10: ='Big 8 Field'!I3 -> 1 | K10: ='Big 8 Field'!B28 -> Hannah Frech | L10: ='Big 8 Field'!C28 -> Sierra | M10: ='Big 8 Field'!D28 -> 22 | N10: ='Big 8 Field'!G28 -> 26 | O10: ='Big 8 Field'!J28 -> 1.1818182
A11: ='Big 8 Field'!B16 -> Athena Keobounnam | B11: ='Big 8 Field'!C16 -> FCC | C11: ='Big 8 Field'!D16 -> 22 | D11: ='Big 8 Field'!E16 -> 44 | E11: ='Big 8 Field'!H16 -> 2 | F11: ='Big 8 Field'!B28 -> Hannah Frech | G11: ='Big 8 Field'!C28 -> Sierra | H11: ='Big 8 Field'!D28 -> 22 | I11: ='Big 8 Field'!F28 -> 23 | J11: ='Big 8 Field'!I28 -> 1.0454545 | K11: ='Big 8 Field'!B40 -> Cassidy Waters | L11: ='Big 8 Field'!C40 -> SJD | M11: ='Big 8 Field'!D40 -> 28 | N11: ='Big 8 Field'!G40 -> 26 | O11: =N11/M11 -> 0.92857143
A12: ='Big 8 Field'!B20 -> Ashlee Gibbs | B12: ='Big 8 Field'!C20 -> FCC | C12: ='Big 8 Field'!D20 -> 19 | D12: ='Big 8 Field'!E20 -> 43 | E12: ='Big 8 Field'!H20 -> 2.2631579 | F12: ='Big 8 Field'!B49 -> Brooke Mahoney | G12: ='Big 8 Field'!C49 -> SJD | H12: ='Big 8 Field'!D49 -> 28 | I12: ='Big 8 Field'!F49 -> 22 | J12: =I12/H12 -> 0.78571429 | K12: ='Big 8 Field'!B2 -> Alyssa Jenkins | L12: ='Big 8 Field'!C2 -> DVC | M12: ='Big 8 Field'!D2 -> 25 | N12: ='Big 8 Field'!G2 -> 25 | O12: ='Big 8 Field'!J2 -> 1
A13: ='Big 8 Field'!B27 -> Alexa Negrete | B13: ='Big 8 Field'!C27 -> Sierra | C13: ='Big 8 Field'!D27 -> 22 | D13: ='Big 8 Field'!E27 -> 41 | E13: ='Big 8 Field'!H27 -> 1.8636364 | F13: =Sac!B7 -> Kaitlyn Snow | G13: =Sac!C7 -> SCC | H13: =Sac!D7 -> 17 | I13: =Sac!F7 -> 20 | J13: =I13/H13 -> 1.1764706 | K13: =ARC!B8 -> Sacannah Liffring | L13: =ARC!C8 -> ARC | M13: =ARC!D8 -> 19 | N13: =ARC!G8 -> 24 | O13: =N13/M13 -> 1.2631579
A14: ='Big 8 Field'!B28 -> Hannah Frech | B14: ='Big 8 Field'!C28 -> Sierra | C14: ='Big 8 Field'!D28 -> 22 | D14: ='Big 8 Field'!E28 -> 39 | E14: ='Big 8 Field'!H28 -> 1.7727273 | F14: ='Big 8 Field'!B2 -> Alyssa Jenkins | G14: ='Big 8 Field'!C2 -> DVC | H14: ='Big 8 Field'!D2 -> 25 | I14: ='Big 8 Field'!F2 -> 19 | J14: ='Big 8 Field'!I2 -> 0.76 | K14: ='Big 8 Field'!B49 -> Brooke Mahoney | L14: ='Big 8 Field'!C49 -> SJD | M14: ='Big 8 Field'!D49 -> 28 | N14: ='Big 8 Field'!G49 -> 24 | O14: =N14/M14 -> 0.85714286
A15: ='Big 8 Field'!B33 -> Dennae Wiecyznski | B15: ='Big 8 Field'!C33 -> Sierra | C15: ='Big 8 Field'!D33 -> 22 | D15: ='Big 8 Field'!E33 -> 35 | E15: ='Big 8 Field'!H33 -> 1.5909091 | F15: ='Big 8 Field'!B7 -> Sarah Ward | G15: ='Big 8 Field'!C7 -> DVC | H15: ='Big 8 Field'!D7 -> 25 | I15: ='Big 8 Field'!F7 -> 19 | J15: ='Big 8 Field'!I7 -> 0.76 | K15: ='Big 8 Field'!B8 -> Hannah Dillon | L15: ='Big 8 Field'!C8 -> DVC | M15: ='Big 8 Field'!D8 -> 25 | N15: ='Big 8 Field'!G8 -> 24 | O15: ='Big 8 Field'!J8 -> 0.96
A16: ='Big 8 Field'!B35 -> Sydnee Chambers | B16: ='Big 8 Field'!C35 -> Sierra | C16: ='Big 8 Field'!D35 -> 19 | D16: ='Big 8 Field'!E35 -> 34 | E16: ='Big 8 Field'!H35 -> 1.7894737 | F16: ='Big 8 Field'!B38 -> Katelyn Traut | G16: ='Big 8 Field'!C38 -> SJD | H16: ='Big 8 Field'!D38 -> 26 | I16: ='Big 8 Field'!F38 -> 19 | J16: =I16/H16 -> 0.73076923 | K16: ='Big 8 Field'!B27 -> Alexa Negrete | L16: ='Big 8 Field'!C27 -> Sierra | M16: ='Big 8 Field'!D27 -> 22 | N16: ='Big 8 Field'!G27 -> 23 | O16: ='Big 8 Field'!J27 -> 1.0454545
A17: ='Big 8 Field'!B5 -> Ruby Personius | B17: ='Big 8 Field'!C5 -> DVC | C17: ='Big 8 Field'!D5 -> 25 | D17: ='Big 8 Field'!E5 -> 34 | E17: ='Big 8 Field'!H5 -> 1.36 | F17: ='Big 8 Field'!B27 -> Alexa Negrete | G17: ='Big 8 Field'!C27 -> Sierra | H17: ='Big 8 Field'!D27 -> 22 | I17: ='Big 8 Field'!F27 -> 18 | J17: ='Big 8 Field'!I27 -> 0.81818182 | K17: =ARC!B7 -> Chelsea Fry | L17: =ARC!C7 -> ARC | M17: =ARC!D7 -> 19 | N17: =ARC!G7 -> 23 | O17: =N17/M17 -> 1.2105263
A18: =Sac!B7 -> Kaitlyn Snow | B18: =Sac!C7 -> SCC | C18: =Sac!D7 -> 17 | D18: =Sac!E7 -> 33 | E18: ='Big 8 Field'!H34 -> 2.0454545 | F18: ='Big 8 Field'!B32 -> Alexis Williams | G18: ='Big 8 Field'!C32 -> Sierra | H18: ='Big 8 Field'!D32 -> 22 | I18: ='Big 8 Field'!F32 -> 17 | J18: ='Big 8 Field'!I32 -> 0.77272727 | K18: ='Big 8 Field'!B46 -> Dallyce Marglon | L18: ='Big 8 Field'!C46 -> SJD | M18: ='Big 8 Field'!D46 -> 28 | N18: ='Big 8 Field'!G46 -> 23 | O18: =N18/M18 -> 0.82142857
A19: =ARC!B3 -> Haley Dutton | B19: =ARC!C3 -> ARC | C19: =ARC!D3 -> 19 | D19: =ARC!E3 -> 33 | E19: =D19/C19 -> 1.7368421 | F19: ='Big 8 Field'!B34 -> Shelby Parker | G19: ='Big 8 Field'!C34 -> Sierra | H19: ='Big 8 Field'!D34 -> 22 | I19: ='Big 8 Field'!F34 -> 17 | J19: ='Big 8 Field'!I34 -> 0.77272727 | K19: ='Big 8 Field'!B38 -> Katelyn Traut | L19: ='Big 8 Field'!C38 -> SJD | M19: ='Big 8 Field'!D38 -> 26 | N19: ='Big 8 Field'!G38 -> 23 | O19: =N19/M19 -> 0.88461538
A20: =SJD!B16 -> Brooke Mahoney | B20: ='Big 8 Field'!C49 -> SJD | C20: ='Big 8 Field'!D49 -> 28 | D20: ='Big 8 Field'!E49 -> 33 | E20: =D20/C20 -> 1.1785714 | F20: ='Big 8 Field'!B39 -> Madison Hulse | G20: ='Big 8 Field'!C39 -> SJD | H20: ='Big 8 Field'!D39 -> 27 | I20: ='Big 8 Field'!F39 -> 17 | J20: =I20/H20 -> 0.62962963 | K20: ='Big 8 Field'!B33 -> Dennae Wiecyznski | L20: ='Big 8 Field'!C33 -> Sierra | M20: ='Big 8 Field'!D33 -> 22 | N20: ='Big 8 Field'!G33 -> 21 | O20: ='Big 8 Field'!J33 -> 0.95454545
A21: ='Big 8 Field'!B7 -> Sarah Ward | B21: ='Big 8 Field'!C7 -> DVC | C21: ='Big 8 Field'!D7 -> 25 | D21: ='Big 8 Field'!E7 -> 33 | E21: ='Big 8 Field'!H7 -> 1.32 | F21: ='Big 8 Field'!B14 -> Beverly Ayers | G21: ='Big 8 Field'!C14 -> DVC | H21: ='Big 8 Field'!D14 -> 25 | I21: ='Big 8 Field'!F14 -> 16 | J21: ='Big 8 Field'!I14 -> 0.64 | K21: ='Big 8 Field'!B36 -> Elise Welch | L21: ='Big 8 Field'!C36 -> Sierra | M21: ='Big 8 Field'!D36 -> 22 | N21: ='Big 8 Field'!G36 -> 21 | O21: ='Big 8 Field'!J36 -> 0.95454545
A22: =ARC!B6 -> Haley Cates | B22: =ARC!C6 -> ARC | C22: =ARC!D6 -> 19 | D22: =ARC!E6 -> 29 | E22: =D22/C22 -> 1.5263158 | F22: =ARC!B4 -> Lily Van Rees | G22: =ARC!C4 -> ARC | H22: =ARC!D4 -> 19 | I22: =ARC!F4 -> 15 | J22: =I22/H22 -> 0.78947368 | K22: ='Big 8 Field'!B26 -> Alyssa Alvarez | L22: ='Big 8 Field'!C26 -> Sierra | M22: ='Big 8 Field'!D26 -> 22 | N22: ='Big 8 Field'!G26 -> 20 | O22: ='Big 8 Field'!J26 -> 0.90909091
A23: ='Big 8 Field'!B14 -> Beverly Ayers | B23: ='Big 8 Field'!C14 -> DVC | C23: ='Big 8 Field'!D14 -> 25 | D23: ='Big 8 Field'!E14 -> 29 | E23: ='Big 8 Field'!H14 -> 1.16 | F23: =ARC!B9 -> Rya Minow | G23: =ARC!C9 -> ARC | H23: =ARC!D9 -> 19 | I23: =ARC!F9 -> 13 | J23: =I23/H23 -> 0.68421053 | K23: ='Big 8 Field'!B34 -> Shelby Parker | L23: ='Big 8 Field'!C34 -> Sierra | M23: ='Big 8 Field'!D34 -> 22 | N23: ='Big 8 Field'!G34 -> 19 | O23: ='Big 8 Field'!J34 -> 0.86363636
A24: =SJD!B12 -> Dallyce Marglon | B24: ='Big 8 Field'!C46 -> SJD | C24: ='Big 8 Field'!D46 -> 28 | D24: ='Big 8 Field'!E46 -> 28 | E24: =D24/C24 -> 1 | F24: =Sac!B6 -> Stephanie Trevino | G24: =Sac!C6 -> SCC | H24: =Sac!D6 -> 17 | I24: =Sac!F6 -> 12 | J24: =I24/H24 -> 0.70588235 | K24: =ARC!B6 -> Haley Cates | L24: =ARC!C6 -> ARC | M24: =ARC!D6 -> 19 | N24: =ARC!G6 -> 19 | O24: =N24/M24 -> 1
A25: =SJD!B8 -> Molly Bria | B25: ='Big 8 Field'!C42 -> SJD | C25: ='Big 8 Field'!D42 -> 28 | D25: ='Big 8 Field'!E42 -> 25 | E25: =D25/C25 -> 0.89285714 | F25: =ARC!B8 -> Sacannah Liffring | G25: =ARC!C8 -> ARC | H25: =ARC!D8 -> 19 | I25: =ARC!F8 -> 12 | J25: =I25/H25 -> 0.63157895 | K25: =ARC!B3 -> Haley Dutton | L25: =ARC!C3 -> ARC | M25: =ARC!D3 -> 19 | N25: =ARC!G3 -> 18 | O25: =N25/M25 -> 0.94736842
A26: =SJD!B6 -> Cassidy Waters | B26: ='Big 8 Field'!C40 -> SJD | C26: ='Big 8 Field'!D40 -> 28 | D26: ='Big 8 Field'!E40 -> 24 | E26: =D26/C26 -> 0.85714286 | F26: ='Big 8 Field'!B35 -> Sydnee Chambers | G26: ='Big 8 Field'!C35 -> Sierra | H26: ='Big 8 Field'!D35 -> 19 | I26: ='Big 8 Field'!F35 -> 11 | J26: ='Big 8 Field'!I35 -> 0.57894737 | K26: ='Big 8 Field'!B5 -> Ruby Personius | L26: ='Big 8 Field'!C5 -> DVC | M26: ='Big 8 Field'!D5 -> 25 | N26: ='Big 8 Field'!G5 -> 17 | O26: ='Big 8 Field'!J5 -> 0.68
A27: =ARC!B5 -> Hannah Zari | B27: =ARC!C5 -> ARC | C27: =ARC!D5 -> 19 | D27: =ARC!E5 -> 23 | E27: =D27/C27 -> 1.2105263 | F27: =Sac!B8 -> Samantha Garcia | G27: =Sac!C8 -> SCC | H27: =Sac!D8 -> 12 | I27: =Sac!F8 -> 10 | J27: =I27/H27 -> 0.83333333 | K27: ='Big 8 Field'!B7 -> Sarah Ward | L27: ='Big 8 Field'!C7 -> DVC | M27: ='Big 8 Field'!D7 -> 25 | N27: ='Big 8 Field'!G7 -> 15 | O27: ='Big 8 Field'!J7 -> 0.6
A28: =Sac!B10 -> Elizabeth Oliphint | B28: =Sac!C10 -> SCC | C28: =Sac!D10 -> 9 | D28: =Sac!E10 -> 22 | E28: ='Big 8 Field'!H37 -> 1.6071429 | F28: =ARC!B7 -> Chelsea Fry | G28: =ARC!C7 -> ARC | H28: =ARC!D7 -> 19 | I28: =ARC!F7 -> 10 | J28: =I28/H28 -> 0.52631579 | K28: ='Big 8 Field'!B29 -> Natalie Allin | L28: ='Big 8 Field'!C29 -> Sierra | M28: ='Big 8 Field'!D29 -> 15 | N28: ='Big 8 Field'!G29 -> 14 | O28: ='Big 8 Field'!J29 -> 0.93333333
A29: ='Big 8 Field'!B17 -> Saylene Servin | B29: ='Big 8 Field'!C17 -> FCC | C29: ='Big 8 Field'!D17 -> 22 | D29: ='Big 8 Field'!E17 -> 22 | E29: ='Big 8 Field'!H17 -> 1 | F29: =Sac!B3 -> Morgan Hunter | G29: =Sac!C3 -> SCC | H29: =Sac!D3 -> 17 | I29: =Sac!F3 -> 9 | J29: =I29/H29 -> 0.52941176 | K29: =Sac!B7 -> Kaitlyn Snow | L29: =Sac!C7 -> SCC | M29: =Sac!D7 -> 17 | N29: =Sac!G7 -> 13 | O29: =N29/M29 -> 0.76470588
A30: =SJD!B5 -> Madison Hulse | B30: ='Big 8 Field'!C39 -> SJD | C30: ='Big 8 Field'!D39 -> 27 | D30: ='Big 8 Field'!E39 -> 20 | E30: =D30/C30 -> 0.74074074 | F30: =Sac!B10 -> Elizabeth Oliphint | G30: =Sac!C10 -> SCC | H30: =Sac!D10 -> 9 | I30: =Sac!F10 -> 9 | J30: =I30/H30 -> 1 | K30: =ARC!B11 -> Lewis | L30: =ARC!C11 -> ARC | M30: =ARC!D11 -> 19 | N30: =ARC!G11 -> 13 | O30: =N30/M30 -> 0.68421053
A31: =SJD!B4 -> Katelyn Traut | B31: ='Big 8 Field'!C38 -> SJD | C31: ='Big 8 Field'!D38 -> 26 | D31: ='Big 8 Field'!E38 -> 19 | E31: =D31/C31 -> 0.73076923 | F31: ='Big 8 Field'!B4 -> Jackie Carlisle | G31: ='Big 8 Field'!C4 -> DVC | H31: ='Big 8 Field'!D4 -> 16 | I31: ='Big 8 Field'!F4 -> 8 | J31: ='Big 8 Field'!I4 -> 0.5 | K31: ='Big 8 Field'!B9 -> Charlotte Demoulin | L31: ='Big 8 Field'!C9 -> DVC | M31: ='Big 8 Field'!D9 -> 25 | N31: ='Big 8 Field'!G9 -> 13 | O31: ='Big 8 Field'!J9 -> 0.52
A32: =SJD!B7 -> Tahnee Trew | B32: ='Big 8 Field'!C41 -> SJD | C32: ='Big 8 Field'!D41 -> 24 | D32: ='Big 8 Field'!E41 -> 19 | E32: =D32/C32 -> 0.79166667 | F32: =ARC!B3 -> Haley Dutton | G32: =ARC!C3 -> ARC | H32: =ARC!D3 -> 19 | I32: =ARC!F3 -> 8 | J32: =I32/H32 -> 0.42105263 | K32: ='Big 8 Field'!B31 -> Katy Suggs | L32: ='Big 8 Field'!C31 -> Sierra | M32: ='Big 8 Field'!D31 -> 22 | N32: ='Big 8 Field'!G31 -> 12 | O32: ='Big 8 Field'!J31 -> 0.54545455
A33: ='Big 8 Field'!B25 -> Emily Pratt | B33: ='Big 8 Field'!C25 -> FCC | C33: ='Big 8 Field'!D25 -> 22 | D33: ='Big 8 Field'!E25 -> 19 | E33: ='Big 8 Field'!H25 -> 0.86363636 | F33: ='Big 8 Field'!B17 -> Saylene Servin | G33: ='Big 8 Field'!C17 -> FCC | H33: ='Big 8 Field'!D17 -> 22 | I33: ='Big 8 Field'!F17 -> 8 | J33: ='Big 8 Field'!I17 -> 0.36363636 | K33: ='Big 8 Field'!B35 -> Sydnee Chambers | L33: ='Big 8 Field'!C35 -> Sierra | M33: ='Big 8 Field'!D35 -> 19 | N33: ='Big 8 Field'!G35 -> 11 | O33: ='Big 8 Field'!J35 -> 0.57894737
A34: =ARC!B9 -> Rya Minow | B34: =ARC!C9 -> ARC | C34: =ARC!D9 -> 19 | D34: =ARC!E9 -> 18 | E34: =D34/C34 -> 0.94736842 | F34: ='Big 8 Field'!B8 -> Hannah Dillon | G34: ='Big 8 Field'!C8 -> DVC | H34: ='Big 8 Field'!D8 -> 25 | I34: ='Big 8 Field'!F8 -> 7 | J34: ='Big 8 Field'!I8 -> 0.28 | K34: =ARC!B10 -> Kat Bailey | L34: =ARC!C10 -> ARC | M34: =ARC!D10 -> 19 | N34: =ARC!G10 -> 11 | O34: =N34/M34 -> 0.57894737
A35: ='Big 8 Field'!B23 -> Kylie Gill | B35: ='Big 8 Field'!C23 -> FCC | C35: ='Big 8 Field'!D23 -> 22 | D35: ='Big 8 Field'!E23 -> 18 | E35: ='Big 8 Field'!H23 -> 0.81818182 | F35: ='Big 8 Field'!B33 -> Dennae Wiecyznski | G35: ='Big 8 Field'!C33 -> Sierra | H35: ='Big 8 Field'!D33 -> 22 | I35: ='Big 8 Field'!F33 -> 7 | J35: ='Big 8 Field'!I33 -> 0.31818182 | K35: ='Big 8 Field'!B6 -> Zoe Fredette | L35: ='Big 8 Field'!C6 -> DVC | M35: ='Big 8 Field'!D6 -> 21 | N35: ='Big 8 Field'!G6 -> 10 | O35: ='Big 8 Field'!J6 -> 0.47619048
A36: ='Big 8 Field'!B26 -> Alyssa Alvarez | B36: ='Big 8 Field'!C26 -> Sierra | C36: ='Big 8 Field'!D26 -> 22 | D36: ='Big 8 Field'!E26 -> 17 | E36: ='Big 8 Field'!H26 -> 0.77272727 | F36: ='Big 8 Field'!B31 -> Katy Suggs | G36: ='Big 8 Field'!C31 -> Sierra | H36: ='Big 8 Field'!D31 -> 22 | I36: ='Big 8 Field'!F31 -> 7 | J36: ='Big 8 Field'!I31 -> 0.31818182 | K36: =ARC!B5 -> Hannah Zari | L36: =ARC!C5 -> ARC | M36: =ARC!D5 -> 19 | N36: =ARC!G5 -> 9 | O36: =N36/M36 -> 0.47368421
A37: ='Big 8 Field'!B2 -> Alyssa Jenkins | B37: ='Big 8 Field'!C2 -> DVC | C37: ='Big 8 Field'!D2 -> 25 | D37: ='Big 8 Field'!E2 -> 16 | E37: ='Big 8 Field'!H2 -> 0.64 | F37: ='Big 8 Field'!B37 -> Brittany Smith | G37: ='Big 8 Field'!C37 -> SJD | H37: ='Big 8 Field'!D37 -> 28 | I37: ='Big 8 Field'!F37 -> 7 | J37: =I37/H37 -> 0.25 | K37: ='Big 8 Field'!B39 -> Madison Hulse | L37: ='Big 8 Field'!C39 -> SJD | M37: ='Big 8 Field'!D39 -> 27 | N37: ='Big 8 Field'!G39 -> 9 | O37: =N37/M37 -> 0.33333333
A38: ='Big 8 Field'!B6 -> Zoe Fredette | B38: ='Big 8 Field'!C6 -> DVC | C38: ='Big 8 Field'!D6 -> 21 | D38: ='Big 8 Field'!E6 -> 16 | E38: ='Big 8 Field'!H6 -> 0.76190476 | F38: ='Big 8 Field'!B36 -> Elise Welch | G38: ='Big 8 Field'!C36 -> Sierra | H38: ='Big 8 Field'!D36 -> 22 | I38: ='Big 8 Field'!F36 -> 6 | J38: ='Big 8 Field'!I36 -> 0.27272727 | K38: ='Big 8 Field'!B41 -> Tahnee Trew | L38: ='Big 8 Field'!C41 -> SJD | M38: ='Big 8 Field'!D41 -> 24 | N38: ='Big 8 Field'!G41 -> 9 | O38: =N38/M38 -> 0.375
A39: ='Big 8 Field'!B12 -> Caroline Lovett | B39: ='Big 8 Field'!C12 -> DVC | C39: ='Big 8 Field'!D12 -> 20 | D39: ='Big 8 Field'!E12 -> 16 | E39: ='Big 8 Field'!H12 -> 0.8 | F39: =ARC!B6 -> Haley Cates | G39: =ARC!C6 -> ARC | H39: =ARC!D6 -> 19 | I39: =ARC!F6 -> 6 | J39: =I39/H39 -> 0.31578947 | K39: ='Big 8 Field'!B4 -> Jackie Carlisle | L39: ='Big 8 Field'!C4 -> DVC | M39: ='Big 8 Field'!D4 -> 16 | N39: ='Big 8 Field'!G4 -> 8 | O39: ='Big 8 Field'!J4 -> 0.5
A40: ='Big 8 Field'!B32 -> Alexis Williams | B40: ='Big 8 Field'!C32 -> Sierra | C40: ='Big 8 Field'!D32 -> 22 | D40: ='Big 8 Field'!E32 -> 14 | E40: ='Big 8 Field'!H32 -> 0.63636364 | F40: ='Big 8 Field'!B50 -> Megan Jessen | G40: ='Big 8 Field'!C50 -> SJD | H40: ='Big 8 Field'!D50 -> 13 | I40: ='Big 8 Field'!F50 -> 6 | J40: =I40/H40 -> 0.46153846 | K40: ='Big 8 Field'!B10 -> Julia Mes | L40: ='Big 8 Field'!C10 -> DVC | M40: ='Big 8 Field'!D10 -> 17 | N40: ='Big 8 Field'!G10 -> 8 | O40: ='Big 8 Field'!J10 -> 0.47058824
A41: ='Big 8 Field'!B10 -> Julia Mes | B41: ='Big 8 Field'!C10 -> DVC | C41: ='Big 8 Field'!D10 -> 17 | D41: ='Big 8 Field'!E10 -> 13 | E41: ='Big 8 Field'!H10 -> 0.76470588 | F41: =Sac!B9 -> Megan Mierczynski | G41: =Sac!C9 -> SCC | H41: =Sac!D9 -> 17 | I41: =Sac!F9 -> 5 | J41: =I41/H41 -> 0.29411765 | K41: ='Big 8 Field'!B47 -> Sabrina Vincent | L41: ='Big 8 Field'!C47 -> SJD | M41: ='Big 8 Field'!D47 -> 20 | N41: ='Big 8 Field'!G47 -> 6 | O41: =N41/M41 -> 0.3
A42: ='Big 8 Field'!B13 -> Courtney Railton | B42: ='Big 8 Field'!C13 -> DVC | C42: ='Big 8 Field'!D13 -> 20 | D42: ='Big 8 Field'!E13 -> 13 | E42: ='Big 8 Field'!H13 -> 0.65 | F42: ='Big 8 Field'!B29 -> Natalie Allin | G42: ='Big 8 Field'!C29 -> Sierra | H42: ='Big 8 Field'!D29 -> 15 | I42: ='Big 8 Field'!F29 -> 5 | J42: ='Big 8 Field'!I29 -> 0.33333333 | K42: ='Big 8 Field'!B43 -> Courtney Myers | L42: ='Big 8 Field'!C43 -> SJD | M42: ='Big 8 Field'!D43 -> 8 | N42: ='Big 8 Field'!G43 -> 6 | O42: =N42/M42 -> 0.75
A43: ='Big 8 Field'!B4 -> Jackie Carlisle | B43: ='Big 8 Field'!C4 -> DVC | C43: ='Big 8 Field'!D4 -> 16 | D43: ='Big 8 Field'!E4 -> 12 | E43: ='Big 8 Field'!H4 -> 0.75 | F43: =Sac!B4 -> Rachel Perard | G43: =Sac!C4 -> SCC | H43: =Sac!D4 -> 17 | I43: =Sac!F4 -> 5 | J43: =I43/H43 -> 0.29411765 | K43: ='Big 8 Field'!B19 -> Daniell Mask | L43: ='Big 8 Field'!C19 -> FCC | M43: ='Big 8 Field'!D19 -> 16 | N43: ='Big 8 Field'!G19 -> 6 | O43: ='Big 8 Field'!J19 -> 0.375
A44: =SJD!B17 -> Megan Jessen | B44: ='Big 8 Field'!C50 -> SJD | C44: ='Big 8 Field'!D50 -> 13 | D44: ='Big 8 Field'!E50 -> 12 | E44: =D44/C44 -> 0.92307692 | F44: ='Big 8 Field'!B30 -> Brittney Hemphill | G44: ='Big 8 Field'!C30 -> Sierra | H44: ='Big 8 Field'!D30 -> 22 | I44: ='Big 8 Field'!F30 -> 5 | J44: ='Big 8 Field'!I30 -> 0.22727273 | K44: =Sac!B6 -> Stephanie Trevino | L44: =Sac!C6 -> SCC | M44: =Sac!D6 -> 17 | N44: =Sac!G6 -> 5 | O44: =N44/M44 -> 0.29411765
A45: =ARC!B4 -> Lily Van Rees | B45: =ARC!C4 -> ARC | C45: =ARC!D4 -> 19 | D45: =ARC!E4 -> 11 | E45: =D45/C45 -> 0.57894737 | F45: ='Big 8 Field'!B41 -> Tahnee Trew | G45: ='Big 8 Field'!C41 -> SJD | H45: ='Big 8 Field'!D41 -> 24 | I45: ='Big 8 Field'!F41 -> 5 | J45: =I45/H45 -> 0.20833333 | K45: =Sac!B8 -> Samantha Garcia | L45: =Sac!C8 -> SCC | M45: =Sac!D8 -> 12 | N45: =Sac!G8 -> 5 | O45: =N45/M45 -> 0.41666667
A46: =ARC!B7 -> Chelsea Fry | B46: =ARC!C7 -> ARC | C46: =ARC!D7 -> 19 | D46: =ARC!E7 -> 11 | E46: =D46/C46 -> 0.57894737 | F46: ='Big 8 Field'!B47 -> Sabrina Vincent | G46: ='Big 8 Field'!C47 -> SJD | H46: ='Big 8 Field'!D47 -> 20 | I46: ='Big 8 Field'!F47 -> 5 | J46: =I46/H46 -> 0.25 | K46: ='Big 8 Field'!B12 -> Caroline Lovett | L46: ='Big 8 Field'!C12 -> DVC | M46: ='Big 8 Field'!D12 -> 20 | N46: ='Big 8 Field'!G12 -> 5 | O46: ='Big 8 Field'!J12 -> 0.25
A47: =SJD!B14 -> Sabrina Vincent | B47: ='Big 8 Field'!C47 -> SJD | C47: ='Big 8 Field'!D47 -> 20 | D47: ='Big 8 Field'!E47 -> 11 | E47: =D47/C47 -> 0.55 | F47: ='Big 8 Field'!B19 -> Daniell Mask | G47: ='Big 8 Field'!C19 -> FCC | H47: ='Big 8 Field'!D19 -> 16 | I47: ='Big 8 Field'!F19 -> 5 | J47: ='Big 8 Field'!I19 -> 0.3125 | K47: ='Big 8 Field'!B30 -> Brittney Hemphill | L47: ='Big 8 Field'!C30 -> Sierra | M47: ='Big 8 Field'!D30 -> 22 | N47: ='Big 8 Field'!G30 -> 4 | O47: ='Big 8 Field'!J30 -> 0.18181818
A48: =Sac!B6 -> Stephanie Trevino | B48: =Sac!C6 -> SCC | C48: =Sac!D6 -> 17 | D48: =Sac!E6 -> 10 | E48: ='Big 8 Field'!H33 -> 1.5909091 | F48: =Sac!B5 -> Mairead Maclean | G48: =Sac!C5 -> SCC | H48: =Sac!D5 -> 17 | I48: =Sac!F5 -> 4 | J48: =I48/H48 -> 0.23529412 | K48: =Sac!B3 -> Morgan Hunter | L48: =Sac!C3 -> SCC | M48: =Sac!D3 -> 17 | N48: =Sac!G3 -> 4 | O48: =N48/M48 -> 0.23529412
A49: ='Big 8 Field'!B21 -> Elizabeth Tornero | B49: ='Big 8 Field'!C21 -> FCC | C49: ='Big 8 Field'!D21 -> 21 | D49: ='Big 8 Field'!E21 -> 9 | E49: ='Big 8 Field'!H21 -> 0.42857143 | F49: ='Big 8 Field'!B12 -> Caroline Lovett | G49: ='Big 8 Field'!C12 -> DVC | H49: ='Big 8 Field'!D12 -> 20 | I49: ='Big 8 Field'!F12 -> 3 | J49: ='Big 8 Field'!I12 -> 0.15 | K49: ='Big 8 Field'!B44 -> Katelyn Stewart | L49: ='Big 8 Field'!C44 -> SJD | M49: ='Big 8 Field'!D44 -> 12 | N49: ='Big 8 Field'!G44 -> 4 | O49: =N49/M49 -> 0.33333333
A50: =SJD!B15 -> Julia Kim | B50: ='Big 8 Field'!C48 -> SJD | C50: ='Big 8 Field'!D48 -> 12 | D50: ='Big 8 Field'!E48 -> 8 | E50: =D50/C50 -> 0.66666667 | F50: =ARC!B5 -> Hannah Zari | G50: =ARC!C5 -> ARC | H50: =ARC!D5 -> 19 | I50: =ARC!F5 -> 3 | J50: =I50/H50 -> 0.15789474 | K50: ='Big 8 Field'!B50 -> Megan Jessen | L50: ='Big 8 Field'!C50 -> SJD | M50: ='Big 8 Field'!D50 -> 13 | N50: ='Big 8 Field'!G50 -> 4 | O50: =N50/M50 -> 0.30769231
A51: =Sac!B8 -> Samantha Garcia | B51: =Sac!C8 -> SCC | C51: =Sac!D8 -> 12 | D51: =Sac!E8 -> 7 | E51: ='Big 8 Field'!H35 -> 1.7894737 | F51: ='Big 8 Field'!B44 -> Katelyn Stewart | G51: ='Big 8 Field'!C44 -> SJD | H51: ='Big 8 Field'!D44 -> 12 | I51: ='Big 8 Field'!F44 -> 2 | J51: =I51/H51 -> 0.16666667 | K51: =Sac!B11 -> Jessy Potch | L51: =Sac!C11 -> SCC | M51: =Sac!D11 -> 17 | N51: =Sac!G11 -> 3 | O51: =N51/M51 -> 0.17647059
A52: ='Big 8 Field'!B36 -> Elise Welch | B52: ='Big 8 Field'!C36 -> Sierra | C52: ='Big 8 Field'!D36 -> 22 | D52: ='Big 8 Field'!E36 -> 6 | E52: ='Big 8 Field'!H36 -> 0.27272727 | F52: ='Big 8 Field'!B13 -> Courtney Railton | G52: ='Big 8 Field'!C13 -> DVC | H52: ='Big 8 Field'!D13 -> 20 | I52: ='Big 8 Field'!F13 -> 2 | J52: ='Big 8 Field'!I13 -> 0.1 | K52: =Sac!B12 -> Adelia Aranza | L52: =Sac!C12 -> SCC | M52: =Sac!D12 -> 15 | N52: =Sac!G12 -> 3 | O52: =N52/M52 -> 0.2
A53: ='Big 8 Field'!B19 -> Daniell Mask | B53: ='Big 8 Field'!C19 -> FCC | C53: ='Big 8 Field'!D19 -> 16 | D53: ='Big 8 Field'!E19 -> 6 | E53: ='Big 8 Field'!H19 -> 0.375 | F53: ='Big 8 Field'!B10 -> Julia Mes | G53: ='Big 8 Field'!C10 -> DVC | H53: ='Big 8 Field'!D10 -> 17 | I53: ='Big 8 Field'!F10 -> 2 | J53: ='Big 8 Field'!I10 -> 0.11764706 | K53: =Sac!B10 -> Elizabeth Oliphint | L53: =Sac!C10 -> SCC | M53: =Sac!D10 -> 9 | N53: =Sac!G10 -> 3 | O53: =N53/M53 -> 0.33333333
A54: ='Big 8 Field'!B22 -> Cypress Lealaimatafao | B54: ='Big 8 Field'!C22 -> FCC | C54: ='Big 8 Field'!D22 -> 17 | D54: ='Big 8 Field'!E22 -> 6 | E54: ='Big 8 Field'!H22 -> 0.35294118 | F54: ='Big 8 Field'!B6 -> Zoe Fredette | G54: ='Big 8 Field'!C6 -> DVC | H54: ='Big 8 Field'!D6 -> 21 | I54: ='Big 8 Field'!F6 -> 2 | J54: ='Big 8 Field'!I6 -> 0.095238095 | K54: ='Big 8 Field'!B37 -> Brittany Smith | L54: ='Big 8 Field'!C37 -> SJD | M54: ='Big 8 Field'!D37 -> 28 | N54: ='Big 8 Field'!G37 -> 3 | O54: =N54/M54 -> 0.10714286
A55: =SJD!B9 -> Courtney Myers | B55: ='Big 8 Field'!C43 -> SJD | C55: ='Big 8 Field'!D43 -> 8 | D55: ='Big 8 Field'!E43 -> 5 | E55: =D55/C55 -> 0.625 | F55: ='Big 8 Field'!B48 -> Julia Kim | G55: ='Big 8 Field'!C48 -> SJD | H55: ='Big 8 Field'!D48 -> 12 | I55: ='Big 8 Field'!F48 -> 2 | J55: =I55/H55 -> 0.16666667 | K55: ='Big 8 Field'!B13 -> Courtney Railton | L55: ='Big 8 Field'!C13 -> DVC | M55: ='Big 8 Field'!D13 -> 20 | N55: ='Big 8 Field'!G13 -> 2 | O55: ='Big 8 Field'!J13 -> 0.1
A56: ='Big 8 Field'!B31 -> Katy Suggs | B56: ='Big 8 Field'!C31 -> Sierra | C56: ='Big 8 Field'!D31 -> 22 | D56: ='Big 8 Field'!E31 -> 5 | E56: ='Big 8 Field'!H31 -> 0.22727273 | F56: =ARC!B11 -> Lewis | G56: =ARC!C11 -> ARC | H56: =ARC!D11 -> 19 | I56: =ARC!F11 -> 2 | J56: =I56/H56 -> 0.10526316 | K56: ='Big 8 Field'!B17 -> Saylene Servin | L56: ='Big 8 Field'!C17 -> FCC | M56: ='Big 8 Field'!D17 -> 22 | N56: ='Big 8 Field'!G17 -> 2 | O56: ='Big 8 Field'!J17 -> 0.090909091
A57: =Sac!B5 -> Mairead Maclean | B57: =Sac!C5 -> SCC | C57: =Sac!D5 -> 17 | D57: =Sac!E5 -> 5 | E57: ='Big 8 Field'!H32 -> 0.63636364 | F57: ='Big 8 Field'!B23 -> Kylie Gill | G57: ='Big 8 Field'!C23 -> FCC | H57: ='Big 8 Field'!D23 -> 22 | I57: ='Big 8 Field'!F23 -> 2 | J57: ='Big 8 Field'!I23 -> 0.090909091 | K57: ='Big 8 Field'!B23 -> Kylie Gill | L57: ='Big 8 Field'!C23 -> FCC | M57: ='Big 8 Field'!D23 -> 22 | N57: ='Big 8 Field'!G23 -> 2 | O57: ='Big 8 Field'!J23 -> 0.090909091
A58: =Sac!B3 -> Morgan Hunter | B58: =Sac!C3 -> SCC | C58: =Sac!D3 -> 17 | D58: =Sac!E3 -> 5 | E58: ='Big 8 Field'!H30 -> 0.18181818 | F58: ='Big 8 Field'!B24 -> Kallee Olivas | G58: ='Big 8 Field'!C24 -> FCC | H58: ='Big 8 Field'!D24 -> 22 | I58: ='Big 8 Field'!F24 -> 2 | J58: ='Big 8 Field'!I24 -> 0.090909091 | K58: ='Big 8 Field'!B24 -> Kallee Olivas | L58: ='Big 8 Field'!C24 -> FCC | M58: ='Big 8 Field'!D24 -> 22 | N58: ='Big 8 Field'!G24 -> 2 | O58: ='Big 8 Field'!J24 -> 0.090909091
A59: =SJD!B10 -> Katelyn Stewart | B59: ='Big 8 Field'!C44 -> SJD | C59: ='Big 8 Field'!D44 -> 12 | D59: ='Big 8 Field'!E44 -> 4 | E59: =D59/C59 -> 0.33333333 | F59: ='Big 8 Field'!B15 -> Katie Van Tuyl | G59: ='Big 8 Field'!C15 -> DVC | H59: ='Big 8 Field'!D15 -> 2 | I59: ='Big 8 Field'!F15 -> 1 | J59: ='Big 8 Field'!I15 -> 0.5 | K59: ='Big 8 Field'!B48 -> Julia Kim | L59: ='Big 8 Field'!C48 -> SJD | M59: ='Big 8 Field'!D48 -> 12 | N59: ='Big 8 Field'!G48 -> 1 | O59: =N59/M59 -> 0.083333333
A60: ='Big 8 Field'!B30 -> Brittney Hemphill | B60: ='Big 8 Field'!C30 -> Sierra | C60: ='Big 8 Field'!D30 -> 22 | D60: ='Big 8 Field'!E30 -> 4 | E60: ='Big 8 Field'!H30 -> 0.18181818 | F60: =ARC!B10 -> Kat Bailey | G60: =ARC!C10 -> ARC | H60: =ARC!D10 -> 19 | I60: =ARC!F10 -> 1 | J60: =I60/H60 -> 0.052631579 | K60: ='Big 8 Field'!B15 -> Katie Van Tuyl | L60: ='Big 8 Field'!C15 -> DVC | M60: ='Big 8 Field'!D15 -> 2 | N60: ='Big 8 Field'!G15 -> 1 | O60: ='Big 8 Field'!J15 -> 0.5
A61: ='Big 8 Field'!B18 -> Paige Powers | B61: ='Big 8 Field'!C18 -> FCC | C61: ='Big 8 Field'!D18 -> 22 | D61: ='Big 8 Field'!E18 -> 3 | E61: ='Big 8 Field'!H18 -> 0.13636364 | F61: ='Big 8 Field'!B43 -> Courtney Myers | G61: ='Big 8 Field'!C43 -> SJD | H61: ='Big 8 Field'!D43 -> 8 | I61: ='Big 8 Field'!F43 -> 0 | J61: =I61/H61 -> 0 | K61: =Sac!B4 -> Rachel Perard | L61: =Sac!C4 -> SCC | M61: =Sac!D4 -> 17 | N61: =Sac!G4 -> 1 | O61: =N61/M61 -> 0.058823529
A62: =ARC!B10 -> Kat Bailey | B62: =ARC!C10 -> ARC | C62: =ARC!D10 -> 19 | D62: =ARC!E10 -> 2 | E62: =D62/C62 -> 0.10526316 | F62: ='Big 8 Field'!B11 -> Jasmine Dickerson | G62: ='Big 8 Field'!C11 -> DVC | H62: ='Big 8 Field'!D11 -> 0 | I62: ='Big 8 Field'!F11 -> 0 | J62: ='Big 8 Field'!I11 -> #DIV/0! | K62: =Sac!B5 -> Mairead Maclean | L62: =Sac!C5 -> SCC | M62: =Sac!D5 -> 17 | N62: =Sac!G5 -> 1 | O62: =N62/M62 -> 0.058823529
A63: =Sac!B4 -> Rachel Perard | B63: =Sac!C4 -> SCC | C63: =Sac!D4 -> 17 | D63: =Sac!E4 -> 1 | E63: ='Big 8 Field'!H31 -> 0.22727273 | F63: ='Big 8 Field'!B16 -> Athena Keobounnam | G63: ='Big 8 Field'!C16 -> FCC | H63: ='Big 8 Field'!D16 -> 22 | I63: ='Big 8 Field'!F16 -> 0 | J63: ='Big 8 Field'!I16 -> 0 | K63: ='Big 8 Field'!B16 -> Athena Keobounnam | L63: ='Big 8 Field'!C16 -> FCC | M63: ='Big 8 Field'!D16 -> 22 | N63: ='Big 8 Field'!G16 -> 1 | O63: ='Big 8 Field'!J16 -> 0.045454545
A64: =Sac!B9 -> Megan Mierczynski | B64: =Sac!C9 -> SCC | C64: =Sac!D9 -> 17 | D64: =Sac!E9 -> 1 | E64: ='Big 8 Field'!H36 -> 0.27272727 | F64: ='Big 8 Field'!B18 -> Paige Powers | G64: ='Big 8 Field'!C18 -> FCC | H64: ='Big 8 Field'!D18 -> 22 | I64: ='Big 8 Field'!F18 -> 0 | J64: ='Big 8 Field'!I18 -> 0 | K64: ='Big 8 Field'!B18 -> Paige Powers | L64: ='Big 8 Field'!C18 -> FCC | M64: ='Big 8 Field'!D18 -> 22 | N64: ='Big 8 Field'!G18 -> 1 | O64: ='Big 8 Field'!J18 -> 0.045454545
A65: ='Big 8 Field'!B11 -> Jasmine Dickerson | B65: ='Big 8 Field'!C11 -> DVC | C65: ='Big 8 Field'!D11 -> 0 | D65: ='Big 8 Field'!E11 -> 0 | E65: ='Big 8 Field'!H11 -> #DIV/0! | F65: ='Big 8 Field'!B20 -> Ashlee Gibbs | G65: ='Big 8 Field'!C20 -> FCC | H65: ='Big 8 Field'!D20 -> 19 | I65: ='Big 8 Field'!F20 -> 0 | J65: ='Big 8 Field'!I20 -> 0 | K65: ='Big 8 Field'!B20 -> Ashlee Gibbs | L65: ='Big 8 Field'!C20 -> FCC | M65: ='Big 8 Field'!D20 -> 19 | N65: ='Big 8 Field'!G20 -> 1 | O65: ='Big 8 Field'!J20 -> 0.052631579
A66: =Sac!B12 -> Adelia Aranza | B66: =Sac!C12 -> SCC | C66: =Sac!D12 -> 15 | D66: =Sac!E12 -> 0 | E66: ='Big 8 Field'!H39 -> 0.74074074 | F66: ='Big 8 Field'!B21 -> Elizabeth Tornero | G66: ='Big 8 Field'!C21 -> FCC | H66: ='Big 8 Field'!D21 -> 21 | I66: ='Big 8 Field'!F21 -> 0 | J66: ='Big 8 Field'!I21 -> 0 | K66: ='Big 8 Field'!B25 -> Emily Pratt | L66: ='Big 8 Field'!C25 -> FCC | M66: ='Big 8 Field'!D25 -> 22 | N66: ='Big 8 Field'!G25 -> 1 | O66: ='Big 8 Field'!J25 -> 0.045454545
A67: =Sac!B11 -> Jessy Potch | B67: =Sac!C11 -> SCC | C67: =Sac!D11 -> 17 | D67: =Sac!E11 -> 0 | E67: ='Big 8 Field'!H38 -> 0.73076923 | F67: ='Big 8 Field'!B22 -> Cypress Lealaimatafao | G67: ='Big 8 Field'!C22 -> FCC | H67: ='Big 8 Field'!D22 -> 17 | I67: ='Big 8 Field'!F22 -> 0 | J67: ='Big 8 Field'!I22 -> 0 | K67: ='Big 8 Field'!B11 -> Jasmine Dickerson | L67: ='Big 8 Field'!C11 -> DVC | M67: ='Big 8 Field'!D11 -> 0 | N67: ='Big 8 Field'!G11 -> 0 | O67: ='Big 8 Field'!J11 -> #DIV/0!
A68: ='Big 8 Field'!B15 -> Katie Van Tuyl | B68: ='Big 8 Field'!C15 -> DVC | C68: ='Big 8 Field'!D15 -> 2 | D68: ='Big 8 Field'!E15 -> 0 | E68: ='Big 8 Field'!H15 -> 0 | F68: ='Big 8 Field'!B25 -> Emily Pratt | G68: ='Big 8 Field'!C25 -> FCC | H68: ='Big 8 Field'!D25 -> 22 | I68: ='Big 8 Field'!F25 -> 0 | J68: ='Big 8 Field'!I25 -> 0 | K68: ='Big 8 Field'!B21 -> Elizabeth Tornero | L68: ='Big 8 Field'!C21 -> FCC | M68: ='Big 8 Field'!D21 -> 21 | N68: ='Big 8 Field'!G21 -> 0 | O68: ='Big 8 Field'!J21 -> 0
A69: ='Big 8 Field'!B29 -> Natalie Allin | B69: ='Big 8 Field'!C29 -> Sierra | C69: ='Big 8 Field'!D29 -> 15 | D69: ='Big 8 Field'!E29 -> 0 | E69: ='Big 8 Field'!H29 -> 0 | F69: =Sac!B11 -> Jessy Potch | G69: =Sac!C11 -> SCC | H69: =Sac!D11 -> 17 | I69: =Sac!F11 -> 0 | J69: =I69/H69 -> 0 | K69: ='Big 8 Field'!B22 -> Cypress Lealaimatafao | L69: ='Big 8 Field'!C22 -> FCC | M69: ='Big 8 Field'!D22 -> 17 | N69: ='Big 8 Field'!G22 -> 0 | O69: ='Big 8 Field'!J22 -> 0
A70: =ARC!B11 -> Lewis | B70: =ARC!C11 -> ARC | C70: =ARC!D11 -> 19 | D70: =ARC!E11 -> 0 | E70: =D70/C70 -> 0 | F70: =Sac!B12 -> Adelia Aranza | G70: =Sac!C12 -> SCC | H70: =Sac!D12 -> 15 | I70: =Sac!F12 -> 0 | J70: =I70/H70 -> 0 | K70: =Sac!B9 -> Megan Mierczynski | L70: =Sac!C9 -> SCC | M70: =Sac!D9 -> 17 | N70: =Sac!G9 -> 0 | O70: =N70/M70 -> 0

Sheet Goalie Leaders
A1: Big 8 Women's Water Polo Goalie Leaders
A2: Athlete | B2: Team | C2: GP | D2: GA | E2: GA/G | G2: Athlete | H2: Team | I2: GP | J2: Blocks | K2: BL/G
A3: ='Big 8 Goal'!B2 -> Courtney McDougal | B3: ='Big 8 Goal'!C2 -> DVC | C3: ='Big 8 Goal'!D2 -> 16 | D3: ='Big 8 Goal'!E2 -> 27 | E3: =D3/C3 -> 1.6875 | G3: ='Big 8 Goal'!B11 -> Karleigh Goss | H3: ='Big 8 Goal'!C11 -> SJD | I3: ='Big 8 Goal'!D11 -> 19 | J3: ='Big 8 Goal'!F11 -> 146 | K3: =J3/I3 -> 7.6842105
A4: ='Big 8 Goal'!B9 -> Liz Halva | B4: ='Big 8 Goal'!C9 -> SJD | C4: ='Big 8 Goal'!D9 -> 7 | D4: ='Big 8 Goal'!E9 -> 15 | E4: =D4/C4 -> 2.1428571 | G4: ='Big 8 Goal'!B3 -> Katie Ramm | H4: ='Big 8 Goal'!C3 -> DVC | I4: ='Big 8 Goal'!D3 -> 20 | J4: ='Big 8 Goal'!F3 -> 136 | K4: =J4/I4 -> 6.8
A5: ='Big 8 Goal'!B4 -> Katie Van Tuyl | B5: ='Big 8 Goal'!C4 -> DVC | C5: ='Big 8 Goal'!D4 -> 11 | D5: ='Big 8 Goal'!E4 -> 26 | E5: =D5/C5 -> 2.3636364 | G5: ='Big 8 Goal'!B10 -> Shelby Stephens | H5: ='Big 8 Goal'!C10 -> SJD | I5: ='Big 8 Goal'!D10 -> 10 | J5: ='Big 8 Goal'!F10 -> 62 | K5: =J5/I5 -> 6.2
A6: ='Big 8 Goal'!B3 -> Katie Ramm | B6: ='Big 8 Goal'!C3 -> DVC | C6: ='Big 8 Goal'!D3 -> 20 | D6: ='Big 8 Goal'!E3 -> 67 | E6: =D6/C6 -> 3.35 | G6: ='Big 8 Goal'!B8 -> Natalie Allin | H6: ='Big 8 Goal'!C8 -> Sierra | I6: ='Big 8 Goal'!D8 -> 20 | J6: ='Big 8 Goal'!F8 -> 121 | K6: =J6/I6 -> 6.05
A7: ='Big 8 Goal'!B10 -> Shelby Stephens | B7: ='Big 8 Goal'!C10 -> SJD | C7: ='Big 8 Goal'!D10 -> 10 | D7: ='Big 8 Goal'!E10 -> 41 | E7: =D7/C7 -> 4.1 | G7: =ARC!B33 -> Lewis | H7: =ARC!C33 -> ARC | I7: =ARC!D33 -> 19 | J7: =ARC!F33 -> 104 | K7: =J7/I7 -> 5.4736842
A8: =Fresno!B18 -> Paige Powers | B8: =Fresno!C18 -> FCC | C8: =Fresno!D18 -> 11 | D8: =Fresno!E18 -> 49 | E8: =D8/C8 -> 4.4545455 | G8: =Fresno!B18 -> Paige Powers | H8: =Fresno!C5 -> FCC | I8: =Fresno!D18 -> 11 | J8: =Fresno!F18 -> 49 | K8: =J8/I8 -> 4.4545455
A9: ='Big 8 Goal'!B7 -> Sarah Fisk | B9: ='Big 8 Goal'!C7 -> Sierra | C9: ='Big 8 Goal'!D7 -> 10 | D9: ='Big 8 Goal'!E7 -> 52 | E9: =D9/C9 -> 5.2 | G9: ='Big 8 Goal'!B9 -> Liz Halva | H9: ='Big 8 Goal'!C9 -> SJD | I9: ='Big 8 Goal'!D9 -> 7 | J9: ='Big 8 Goal'!F9 -> 31 | K9: =J9/I9 -> 4.4285714
A10: ='Big 8 Goal'!B11 -> Karleigh Goss | B10: ='Big 8 Goal'!C11 -> SJD | C10: ='Big 8 Goal'!D11 -> 19 | D10: ='Big 8 Goal'!E11 -> 128 | E10: =D10/C10 -> 6.7368421 | G10: =Fresno!B17 -> Daniell Mask | H10: =Fresno!C4 -> FCC | I10: =Fresno!D17 -> 20 | J10: =Fresno!F17 -> 85 | K10: =J10/I10 -> 4.25
A11: =Sac!B17 -> Adelia Aranza | B11: =Sac!C17 -> SCC | C11: =Sac!D17 -> 15 | D11: =Sac!E17 -> 102 | E11: =D11/C11 -> 6.8 | G11: =Sac!B17 -> Adelia Aranza | H11: =Sac!C17 -> SCC | I11: =Sac!D17 -> 15 | J11: =Sac!F17 -> 57 | K11: =J11/I11 -> 3.8
A12: ='Big 8 Goal'!B8 -> Natalie Allin | B12: ='Big 8 Goal'!C8 -> Sierra | C12: ='Big 8 Goal'!D8 -> 20 | D12: ='Big 8 Goal'!E8 -> 155 | E12: =D12/C12 -> 7.75 | G12: ='Big 8 Goal'!B4 -> Katie Van Tuyl | H12: ='Big 8 Goal'!C4 -> DVC | I12: ='Big 8 Goal'!D4 -> 11 | J12: ='Big 8 Goal'!F4 -> 39 | K12: =J12/I12 -> 3.5454545
A13: =Sac!B16 -> Jessy potch | B13: =Sac!C16 -> SCC | C13: =Sac!D16 -> 15 | D13: =Sac!E16 -> 118 | E13: =D13/C13 -> 7.8666667 | G13: ='Big 8 Goal'!B2 -> Courtney McDougal | H13: ='Big 8 Goal'!C2 -> DVC | I13: ='Big 8 Goal'!D2 -> 16 | J13: ='Big 8 Goal'!F2 -> 56 | K13: =J13/I13 -> 3.5
A14: =Fresno!B17 -> Daniell Mask | B14: =Fresno!C17 -> FCC | C14: =Fresno!D17 -> 20 | D14: =Fresno!E17 -> 166 | E14: =D14/C14 -> 8.3 | G14: ='Big 8 Goal'!B7 -> Sarah Fisk | H14: ='Big 8 Goal'!C7 -> Sierra | I14: ='Big 8 Goal'!D7 -> 10 | J14: ='Big 8 Goal'!F7 -> 33 | K14: =J14/I14 -> 3.3
A15: =ARC!B33 -> Lewis | B15: =ARC!C33 -> ARC | C15: =ARC!D33 -> 19 | D15: =ARC!E33 -> 181 | E15: =D15/C15 -> 9.5263158 | G15: =Sac!B16 -> Jessy potch | H15: =Sac!C16 -> SCC | I15: =Sac!D16 -> 15 | J15: =Sac!F16 -> 39 | K15: =J15/I15 -> 2.6

Sheet Big 8 Field
A1: Cap # | B1: Athlete | C1: School | D1: GP | E1: GLS | F1: AST | G1: STL | H1: G/G | I1: A/G | J1: S/G
A2: =DVC!A3 -> 2 | B2: =DVC!B3 -> Alyssa Jenkins | C2: =DVC!C3 -> DVC | D2: =DVC!D3 -> 25 | E2: =DVC!E3 -> 16 | F2: =DVC!F3 -> 19 | G2: =DVC!G3 -> 25 | H2: =E2/D2 -> 0.64 | I2: =F2/D2 -> 0.76 | J2: =G2/D2 -> 1
A3: =DVC!A4 -> 3 | B3: =DVC!B4 -> Megan Dietrich | C3: =DVC!C4 -> DVC | D3: =DVC!D4 -> 25 | E3: =DVC!E4 -> 85 | F3: =DVC!F4 -> 25 | G3: =DVC!G4 -> 52 | H3: =E3/D3 -> 3.4 | I3: =F3/D3 -> 1 | J3: =G3/D3 -> 2.08
A4: =DVC!A5 -> 4 | B4: =DVC!B5 -> Jackie Carlisle | C4: =DVC!C5 -> DVC | D4: =DVC!D5 -> 16 | E4: =DVC!E5 -> 12 | F4: =DVC!F5 -> 8 | G4: =DVC!G5 -> 8 | H4: =E4/D4 -> 0.75 | I4: =F4/D4 -> 0.5 | J4: =G4/D4 -> 0.5
A5: =DVC!A6 -> 5 | B5: =DVC!B6 -> Ruby Personius | C5: =DVC!C6 -> DVC | D5: =DVC!D6 -> 25 | E5: =DVC!E6 -> 34 | F5: =DVC!F6 -> 26 | G5: =DVC!G6 -> 17 | H5: =E5/D5 -> 1.36 | I5: =F5/D5 -> 1.04 | J5: =G5/D5 -> 0.68
A6: =DVC!A7 -> 6 | B6: =DVC!B7 -> Zoe Fredette | C6: =DVC!C7 -> DVC | D6: =DVC!D7 -> 21 | E6: =DVC!E7 -> 16 | F6: =DVC!F7 -> 2 | G6: =DVC!G7 -> 10 | H6: =E6/D6 -> 0.76190476 | I6: =F6/D6 -> 0.095238095 | J6: =G6/D6 -> 0.47619048
A7: =DVC!A8 -> 7 | B7: =DVC!B8 -> Sarah Ward | C7: =DVC!C8 -> DVC | D7: =DVC!D8 -> 25 | E7: =DVC!E8 -> 33 | F7: =DVC!F8 -> 19 | G7: =DVC!G8 -> 15 | H7: =E7/D7 -> 1.32 | I7: =F7/D7 -> 0.76 | J7: =G7/D7 -> 0.6
A8: =DVC!A9 -> 8 | B8: =DVC!B9 -> Hannah Dillon | C8: =DVC!C9 -> DVC | D8: =DVC!D9 -> 25 | E8: =DVC!E9 -> 59 | F8: =DVC!F9 -> 7 | G8: =DVC!G9 -> 24 | H8: =E8/D8 -> 2.36 | I8: =F8/D8 -> 0.28 | J8: =G8/D8 -> 0.96
A9: =DVC!A11 -> 10 | B9: =DVC!B11 -> Charlotte Demoulin | C9: =DVC!C11 -> DVC | D9: =DVC!D11 -> 25 | E9: =DVC!E11 -> 52 | F9: =DVC!F11 -> 46 | G9: =DVC!G11 -> 13 | H9: =E9/D9 -> 2.08 | I9: =F9/D9 -> 1.84 | J9: =G9/D9 -> 0.52
A10: =DVC!A12 -> 11 | B10: =DVC!B12 -> Julia Mes | C10: =DVC!C12 -> DVC | D10: =DVC!D12 -> 17 | E10: =DVC!E12 -> 13 | F10: =DVC!F12 -> 2 | G10: =DVC!G12 -> 8 | H10: =E10/D10 -> 0.76470588 | I10: =F10/D10 -> 0.11764706 | J10: =G10/D10 -> 0.47058824
A11: =DVC!A13 -> 12 | B11: =DVC!B13 -> Jasmine Dickerson | C11: =DVC!C13 -> DVC | D11: =DVC!D13 -> 0 | E11: =DVC!E13 -> 0 | F11: =DVC!F13 -> 0 | G11: =DVC!G13 -> 0 | H11: =E11/D11 -> #DIV/0! | I11: =F11/D11 -> #DIV/0! | J11: =G11/D11 -> #DIV/0!
A12: =DVC!A14 -> 13 | B12: =DVC!B14 -> Caroline Lovett | C12: =DVC!C14 -> DVC | D12: =DVC!D14 -> 20 | E12: =DVC!E14 -> 16 | F12: =DVC!F14 -> 3 | G12: =DVC!G14 -> 5 | H12: =E12/D12 -> 0.8 | I12: =F12/D12 -> 0.15 | J12: =G12/D12 -> 0.25
A13: =DVC!A15 -> 14 | B13: =DVC!B15 -> Courtney Railton | C13: =DVC!C15 -> DVC | D13: =DVC!D15 -> 20 | E13: =DVC!E15 -> 13 | F13: =DVC!F15 -> 2 | G13: =DVC!G15 -> 2 | H13: =E13/D13 -> 0.65 | I13: =F13/D13 -> 0.1 | J13: =G13/D13 -> 0.1
A14: =DVC!A16 -> 15 | B14: =DVC!B16 -> Beverly Ayers | C14: =DVC!C16 -> DVC | D14: =DVC!D16 -> 25 | E14: =DVC!E16 -> 29 | F14: =DVC!F16 -> 16 | G14: =DVC!G16 -> 33 | H14: =E14/D14 -> 1.16 | I14: =F14/D14 -> 0.64 | J14: =G14/D14 -> 1.32
A15: =DVC!A18 -> 17 | B15: =DVC!B18 -> Katie Van Tuyl | C15: =DVC!C18 -> DVC | D15: =DVC!D18 -> 2 | E15: =DVC!E18 -> 0 | F15: =DVC!F18 -> 1 | G15: =DVC!G18 -> 1 | H15: =E15/D15 -> 0 | I15: =F15/D15 -> 0.5 | J15: =G15/D15 -> 0.5
A16: =Fresno!A4 -> 2 | B16: =Fresno!B4 -> Athena Keobounnam | C16: =Fresno!C4 -> FCC | D16: =Fresno!D4 -> 22 | E16: =Fresno!E4 -> 44 | F16: =Fresno!F4 -> 0 | G16: =Fresno!G4 -> 1 | H16: =E16/D16 -> 2 | I16: =F16/D16 -> 0 | J16: =G16/D16 -> 0.045454545
A17: =Fresno!A5 -> 3 | B17: =Fresno!B5 -> Saylene Servin | C17: =Fresno!C5 -> FCC | D17: =Fresno!D5 -> 22 | E17: =Fresno!E5 -> 22 | F17: =Fresno!F5 -> 8 | G17: =Fresno!G5 -> 2 | H17: =E17/D17 -> 1 | I17: =F17/D17 -> 0.36363636 | J17: =G17/D17 -> 0.090909091
A18: =Fresno!A6 -> 4 | B18: =Fresno!B6 -> Paige Powers | C18: =Fresno!C6 -> FCC | D18: =Fresno!D6 -> 22 | E18: =Fresno!E6 -> 3 | F18: =Fresno!F6 -> 0 | G18: =Fresno!G6 -> 1 | H18: =E18/D18 -> 0.13636364 | I18: =F18/D18 -> 0 | J18: =G18/D18 -> 0.045454545
A19: =Fresno!A7 -> 5 | B19: =Fresno!B7 -> Daniell Mask | C19: =Fresno!C7 -> FCC | D19: =Fresno!D7 -> 16 | E19: =Fresno!E7 -> 6 | F19: =Fresno!F7 -> 5 | G19: =Fresno!G7 -> 6 | H19: =E19/D19 -> 0.375 | I19: =F19/D19 -> 0.3125 | J19: =G19/D19 -> 0.375
A20: =Fresno!A8 -> 6 | B20: =Fresno!B8 -> Ashlee Gibbs | C20: =Fresno!C8 -> FCC | D20: =Fresno!D8 -> 19 | E20: =Fresno!E8 -> 43 | F20: =Fresno!F8 -> 0 | G20: =Fresno!G8 -> 1 | H20: =E20/D20 -> 2.2631579 | I20: =F20/D20 -> 0 | J20: =G20/D20 -> 0.052631579
A21: =Fresno!A9 -> 7 | B21: =Fresno!B9 -> Elizabeth Tornero | C21: =Fresno!C9 -> FCC | D21: =Fresno!D9 -> 21 | E21: =Fresno!E9 -> 9 | F21: =Fresno!F9 -> 0 | G21: =Fresno!G9 -> 0 | H21: =E21/D21 -> 0.42857143 | I21: =F21/D21 -> 0 | J21: =G21/D21 -> 0
A22: =Fresno!A10 -> 10 | B22: =Fresno!B10 -> Cypress Lealaimatafao | C22: =Fresno!C10 -> FCC | D22: =Fresno!D10 -> 17 | E22: =Fresno!E10 -> 6 | F22: =Fresno!F10 -> 0 | G22: =Fresno!G10 -> 0 | H22: =E22/D22 -> 0.35294118 | I22: =F22/D22 -> 0 | J22: =G22/D22 -> 0
A23: =Fresno!A11 -> 13 | B23: =Fresno!B11 -> Kylie Gill | C23: =Fresno!C11 -> FCC | D23: =Fresno!D11 -> 22 | E23: =Fresno!E11 -> 18 | F23: =Fresno!F11 -> 2 | G23: =Fresno!G11 -> 2 | H23: =E23/D23 -> 0.81818182 | I23: =F23/D23 -> 0.090909091 | J23: =G23/D23 -> 0.090909091
A24: =Fresno!A12 -> 15 | B24: =Fresno!B12 -> Kallee Olivas | C24: =Fresno!C12 -> FCC | D24: =Fresno!D12 -> 22 | E24: =Fresno!E12 -> 70 | F24: =Fresno!F12 -> 2 | G24: =Fresno!G12 -> 2 | H24: =E24/D24 -> 3.1818182 | I24: =F24/D24 -> 0.090909091 | J24: =G24/D24 -> 0.090909091
A25: =Fresno!A13 -> 22 | B25: =Fresno!B13 -> Emily Pratt | C25: =Fresno!C13 -> FCC | D25: =Fresno!D13 -> 22 | E25: =Fresno!E13 -> 19 | F25: =Fresno!F13 -> 0 | G25: =Fresno!G13 -> 1 | H25: =E25/D25 -> 0.86363636 | I25: =F25/D25 -> 0 | J25: =G25/D25 -> 0.045454545
A26: =Sierra!A3 -> 2 | B26: =Sierra!B3 -> Alyssa Alvarez | C26: =Sierra!C3 -> Sierra | D26: =Sierra!D3 -> 22 | E26: =Sierra!E3 -> 17 | F26: =Sierra!F3 -> 28 | G26: =Sierra!G3 -> 20 | H26: =E26/D26 -> 0.77272727 | I26: =F26/D26 -> 1.2727273 | J26: =G26/D26 -> 0.90909091
A27: =Sierra!A4 -> 3 | B27: =Sierra!B4 -> Alexa Negrete | C27: =Sierra!C4 -> Sierra | D27: =Sierra!D4 -> 22 | E27: =Sierra!E4 -> 41 | F27: =Sierra!F4 -> 18 | G27: =Sierra!G4 -> 23 | H27: =E27/D27 -> 1.8636364 | I27: =F27/D27 -> 0.81818182 | J27: =G27/D27 -> 1.0454545
A28: =Sierra!A5 -> 4 | B28: =Sierra!B5 -> Hannah Frech | C28: =Sierra!C5 -> Sierra | D28: =Sierra!D5 -> 22 | E28: =Sierra!E5 -> 39 | F28: =Sierra!F5 -> 23 | G28: =Sierra!G5 -> 26 | H28: =E28/D28 -> 1.7727273 | I28: =F28/D28 -> 1.0454545 | J28: =G28/D28 -> 1.1818182
A29: =Sierra!A6 -> 5 | B29: =Sierra!B6 -> Natalie Allin | C29: =Sierra!C6 -> Sierra | D29: =Sierra!D6 -> 15 | E29: =Sierra!E6 -> 0 | F29: =Sierra!F6 -> 5 | G29: =Sierra!G6 -> 14 | H29: =E29/D29 -> 0 | I29: =F29/D29 -> 0.33333333 | J29: =G29/D29 -> 0.93333333
A30: =Sierra!A7 -> 8 | B30: =Sierra!B7 -> Brittney Hemphill | C30: =Sierra!C7 -> Sierra | D30: =Sierra!D7 -> 22 | E30: =Sierra!E7 -> 4 | F30: =Sierra!F7 -> 5 | G30: =Sierra!G7 -> 4 | H30: =E30/D30 -> 0.18181818 | I30: =F30/D30 -> 0.22727273 | J30: =G30/D30 -> 0.18181818
A31: =Sierra!A8 -> 10 | B31: =Sierra!B8 -> Katy Suggs | C31: =Sierra!C8 -> Sierra | D31: =Sierra!D8 -> 22 | E31: =Sierra!E8 -> 5 | F31: =Sierra!F8 -> 7 | G31: =Sierra!G8 -> 12 | H31: =E31/D31 -> 0.22727273 | I31: =F31/D31 -> 0.31818182 | J31: =G31/D31 -> 0.54545455
A32: =Sierra!A9 -> 13 | B32: =Sierra!B9 -> Alexis Williams | C32: =Sierra!C9 -> Sierra | D32: =Sierra!D9 -> 22 | E32: =Sierra!E9 -> 14 | F32: =Sierra!F9 -> 17 | G32: =Sierra!G9 -> 28 | H32: =E32/D32 -> 0.63636364 | I32: =F32/D32 -> 0.77272727 | J32: =G32/D32 -> 1.2727273
A33: =Sierra!A10 -> 14 | B33: =Sierra!B10 -> Dennae Wiecyznski | C33: =Sierra!C10 -> Sierra | D33: =Sierra!D10 -> 22 | E33: =Sierra!E10 -> 35 | F33: =Sierra!F10 -> 7 | G33: =Sierra!G10 -> 21 | H33: =E33/D33 -> 1.5909091 | I33: =F33/D33 -> 0.31818182 | J33: =G33/D33 -> 0.95454545
A34: =Sierra!A11 -> 15 | B34: =Sierra!B11 -> Shelby Parker | C34: =Sierra!C11 -> Sierra | D34: =Sierra!D11 -> 22 | E34: =Sierra!E11 -> 45 | F34: =Sierra!F11 -> 17 | G34: =Sierra!G11 -> 19 | H34: =E34/D34 -> 2.0454545 | I34: =F34/D34 -> 0.77272727 | J34: =G34/D34 -> 0.86363636
A35: =Sierra!A12 -> 16 | B35: =Sierra!B12 -> Sydnee Chambers | C35: =Sierra!C12 -> Sierra | D35: =Sierra!D12 -> 19 | E35: =Sierra!E12 -> 34 | F35: =Sierra!F12 -> 11 | G35: =Sierra!G12 -> 11 | H35: =E35/D35 -> 1.7894737 | I35: =F35/D35 -> 0.57894737 | J35: =G35/D35 -> 0.57894737
A36: =Sierra!A13 -> 21 | B36: =Sierra!B13 -> Elise Welch | C36: =Sierra!C13 -> Sierra | D36: =Sierra!D13 -> 22 | E36: =Sierra!E13 -> 6 | F36: =Sierra!F13 -> 6 | G36: =Sierra!G13 -> 21 | H36: =E36/D36 -> 0.27272727 | I36: =F36/D36 -> 0.27272727 | J36: =G36/D36 -> 0.95454545
A37: =SJD!A3 -> 2 | B37: =SJD!B3 -> Brittany Smith | C37: =SJD!C3 -> SJD | D37: =SJD!D3 -> 28 | E37: =SJD!E3 -> 45 | F37: =SJD!F3 -> 7 | G37: =SJD!G3 -> 3 | H37: =E37/D37 -> 1.6071429 | I37: =F37/E37 -> 0.15555556 | J37: =G37/F37 -> 0.42857143
A38: =SJD!A4 -> 3 | B38: =SJD!B4 -> Katelyn Traut | C38: =SJD!C4 -> SJD | D38: =SJD!D4 -> 26 | E38: =SJD!E4 -> 19 | F38: =SJD!F4 -> 19 | G38: =SJD!G4 -> 23 | H38: =E38/D38 -> 0.73076923 | I38: =F38/E38 -> 1 | J38: =G38/F38 -> 1.2105263
A39: =SJD!A5 -> 4 | B39: =SJD!B5 -> Madison Hulse | C39: =SJD!C5 -> SJD | D39: =SJD!D5 -> 27 | E39: =SJD!E5 -> 20 | F39: =SJD!F5 -> 17 | G39: =SJD!G5 -> 9 | H39: =E39/D39 -> 0.74074074 | I39: =F39/E39 -> 0.85 | J39: =G39/F39 -> 0.52941176
A40: =SJD!A6 -> 5 | B40: =SJD!B6 -> Cassidy Waters | C40: =SJD!C6 -> SJD | D40: =SJD!D6 -> 28 | E40: =SJD!E6 -> 24 | F40: =SJD!F6 -> 27 | G40: =SJD!G6 -> 26 | H40: =E40/D40 -> 0.85714286 | I40: =F40/E40 -> 1.125 | J40: =G40/F40 -> 0.96296296
A41: =SJD!A7 -> 6 | B41: =SJD!B7 -> Tahnee Trew | C41: =SJD!C7 -> SJD | D41: =SJD!D7 -> 24 | E41: =SJD!E7 -> 19 | F41: =SJD!F7 -> 5 | G41: =SJD!G7 -> 9 | H41: =E41/D41 -> 0.79166667 | I41: =F41/E41 -> 0.26315789 | J41: =G41/F41 -> 1.8
A42: =SJD!A8 -> 7 | B42: =SJD!B8 -> Molly Bria | C42: =SJD!C8 -> SJD | D42: =SJD!D8 -> 28 | E42: =SJD!E8 -> 25 | F42: =SJD!F8 -> 31 | G42: =SJD!G8 -> 31 | H42: =E42/D42 -> 0.89285714 | I42: =F42/E42 -> 1.24 | J42: =G42/F42 -> 1
A43: =SJD!A9 -> 8 | B43: =SJD!B9 -> Courtney Myers | C43: =SJD!C9 -> SJD | D43: =SJD!D9 -> 8 | E43: =SJD!E9 -> 5 | F43: =SJD!F9 -> 0 | G43: =SJD!G9 -> 6 | H43: =E43/D43 -> 0.625 | I43: =F43/E43 -> 0 | J43: =G43/F43 -> #DIV/0!
A44: =SJD!A10 -> 9 | B44: =SJD!B10 -> Katelyn Stewart | C44: =SJD!C10 -> SJD | D44: =SJD!D10 -> 12 | E44: =SJD!E10 -> 4 | F44: =SJD!F10 -> 2 | G44: =SJD!G10 -> 4 | H44: =E44/D44 -> 0.33333333 | I44: =F44/E44 -> 0.5 | J44: =G44/F44 -> 2
A45: =SJD!A11 -> 10 | B45: =SJD!B11 -> Lauren Plunkett | C45: =SJD!C11 -> SJD | D45: =SJD!D11 -> 28 | E45: =SJD!E11 -> 80 | F45: =SJD!F11 -> 40 | G45: =SJD!G11 -> 45 | H45: =E45/D45 -> 2.8571429 | I45: =F45/E45 -> 0.5 | J45: =G45/F45 -> 1.125
A46: =SJD!A12 -> 11 | B46: =SJD!B12 -> Dallyce Marglon | C46: =SJD!C12 -> SJD | D46: =SJD!D12 -> 28 | E46: =SJD!E12 -> 28 | F46: =SJD!F12 -> 36 | G46: =SJD!G12 -> 23 | H46: =E46/D46 -> 1 | I46: =F46/E46 -> 1.2857143 | J46: =G46/F46 -> 0.63888889
A47: =SJD!A14 -> 13 | B47: =SJD!B14 -> Sabrina Vincent | C47: =SJD!C14 -> SJD | D47: =SJD!D14 -> 20 | E47: =SJD!E14 -> 11 | F47: =SJD!F14 -> 5 | G47: =SJD!G14 -> 6 | H47: =E47/D47 -> 0.55 | I47: =F47/E47 -> 0.45454545 | J47: =G47/F47 -> 1.2
A48: =SJD!A15 -> 14 | B48: =SJD!B15 -> Julia Kim | C48: =SJD!C15 -> SJD | D48: =SJD!D15 -> 12 | E48: =SJD!E15 -> 8 | F48: =SJD!F15 -> 2 | G48: =SJD!G15 -> 1 | H48: =E48/D48 -> 0.66666667 | I48: =F48/E48 -> 0.25 | J48: =G48/F48 -> 0.5
A49: =SJD!A16 -> 15 | B49: =SJD!B16 -> Brooke Mahoney | C49: =SJD!C16 -> SJD | D49: =SJD!D16 -> 28 | E49: =SJD!E16 -> 33 | F49: =SJD!F16 -> 22 | G49: =SJD!G16 -> 24 | H49: =E49/D49 -> 1.1785714 | I49: =F49/E49 -> 0.66666667 | J49: =G49/F49 -> 1.0909091
A50: =SJD!A17 -> 16 | B50: =SJD!B17 -> Megan Jessen | C50: =SJD!C17 -> SJD | D50: =SJD!D17 -> 13 | E50: =SJD!E17 -> 12 | F50: =SJD!F17 -> 6 | G50: =SJD!G17 -> 4 | H50: =E50/D50 -> 0.92307692 | I50: =F50/E50 -> 0.5 | J50: =G50/F50 -> 0.66666667
A51: =Sac!A3 -> 2 | B51: =Sac!B3 -> Morgan Hunter | C51: =Sac!C3 -> SCC | D51: =Sac!D3 -> 17 | E51: =Sac!E3 -> 5 | F51: =Sac!F3 -> 9 | G51: =Sac!G3 -> 4 | H51: =E51/D51 -> 0.29411765 | I51: =F51/E51 -> 1.8 | J51: =G51/F51 -> 0.44444444
A52: =Sac!A4 -> 3 | B52: =Sac!B4 -> Rachel Perard | C52: =Sac!C4 -> SCC | D52: =Sac!D4 -> 17 | E52: =Sac!E4 -> 1 | F52: =Sac!F4 -> 5 | G52: =Sac!G4 -> 1 | H52: =E52/D52 -> 0.058823529 | I52: =F52/E52 -> 5 | J52: =G52/F52 -> 0.2
A53: =Sac!A5 -> 4 | B53: =Sac!B5 -> Mairead Maclean | C53: =Sac!C5 -> SCC | D53: =Sac!D5 -> 17 | E53: =Sac!E5 -> 5 | F53: =Sac!F5 -> 4 | G53: =Sac!G5 -> 1 | H53: =E53/D53 -> 0.29411765 | I53: =F53/E53 -> 0.8 | J53: =G53/F53 -> 0.25
A54: =Sac!A6 -> 6 | B54: =Sac!B6 -> Stephanie Trevino | C54: =Sac!C6 -> SCC | D54: =Sac!D6 -> 17 | E54: =Sac!E6 -> 10 | F54: =Sac!F6 -> 12 | G54: =Sac!G6 -> 5 | H54: =E54/D54 -> 0.58823529 | I54: =F54/E54 -> 1.2 | J54: =G54/F54 -> 0.41666667
A55: =Sac!A7 -> 7 | B55: =Sac!B7 -> Kaitlyn Snow | C55: =Sac!C7 -> SCC | D55: =Sac!D7 -> 17 | E55: =Sac!E7 -> 33 | F55: =Sac!F7 -> 20 | G55: =Sac!G7 -> 13 | H55: =E55/D55 -> 1.9411765 | I55: =F55/E55 -> 0.60606061 | J55: =G55/F55 -> 0.65
A56: =Sac!A8 -> 9 | B56: =Sac!B8 -> Samantha Garcia | C56: =Sac!C8 -> SCC | D56: =Sac!D8 -> 12 | E56: =Sac!E8 -> 7 | F56: =Sac!F8 -> 10 | G56: =Sac!G8 -> 5 | H56: =E56/D56 -> 0.58333333 | I56: =F56/E56 -> 1.4285714 | J56: =G56/F56 -> 0.5
A57: =Sac!A9 -> 10 | B57: =Sac!B9 -> Megan Mierczynski | C57: =Sac!C9 -> SCC | D57: =Sac!D9 -> 17 | E57: =Sac!E9 -> 1 | F57: =Sac!F9 -> 5 | G57: =Sac!G9 -> 0 | H57: =E57/D57 -> 0.058823529 | I57: =F57/E57 -> 5 | J57: =G57/F57 -> 0
A58: =Sac!A10 -> 11 | B58: =Sac!B10 -> Elizabeth Oliphint | C58: =Sac!C10 -> SCC | D58: =Sac!D10 -> 9 | E58: =Sac!E10 -> 22 | F58: =Sac!F10 -> 9 | G58: =Sac!G10 -> 3 | H58: =E58/D58 -> 2.4444444 | I58: =F58/E58 -> 0.40909091 | J58: =G58/F58 -> 0.33333333
A59: =Sac!A11 -> 12 | B59: =Sac!B11 -> Jessy Potch | C59: =Sac!C11 -> SCC | D59: =Sac!D11 -> 17 | E59: =Sac!E11 -> 0 | F59: =Sac!F11 -> 0 | G59: =Sac!G11 -> 3 | H59: =E59/D59 -> 0 | I59: =F59/E59 -> #DIV/0! | J59: =G59/F59 -> #DIV/0!
A60: =Sac!A12 -> 15 | B60: =Sac!B12 -> Adelia Aranza | C60: =Sac!C12 -> SCC | D60: =Sac!D12 -> 15 | E60: =Sac!E12 -> 0 | F60: =Sac!F12 -> 0 | G60: =Sac!G12 -> 3 | H60: =E60/D60 -> 0 | I60: =F60/E60 -> #DIV/0! | J60: =G60/F60 -> #DIV/0!
A61: =ARC!A3 -> 4 | B61: =ARC!B3 -> Haley Dutton | C61: =ARC!C3 -> ARC | D61: =ARC!D3 -> 19 | E61: =ARC!E3 -> 33 | F61: =ARC!F3 -> 8 | G61: =ARC!G3 -> 18 | H61: =ARC!H3 -> 1.7368421 | ... J61: =ARC!J3 -> 0.94736842
A62: =ARC!A4 -> 6 | B62: =ARC!B4 -> Lily Van Rees | C62: =ARC!C4 -> ARC | D62: =ARC!D4 -> 19 | E62: =ARC!E4 -> 11 | F62: =ARC!F4 -> 15 | G62: =ARC!G4 -> 27 | H62: =ARC!H4 -> 0.57894737 | ... J62: =ARC!J4 -> 1.4210526
A63: =ARC!A5 -> 7 | B63: =ARC!B5 -> Hannah Zari | C63: =ARC!C5 -> ARC | D63: =ARC!D5 -> 19 | E63: =ARC!E5 -> 23 | F63: =ARC!F5 -> 3 | G63: =ARC!G5 -> 9 | H63: =ARC!H5 -> 1.2105263 | ... J63: =ARC!J5 -> 0.47368421
A64: =ARC!A6 -> 8 | B64: =ARC!B6 -> Haley Cates | C64: =ARC!C6 -> ARC | D64: =ARC!D6 -> 19 | E64: =ARC!E6 -> 29 | F64: =ARC!F6 -> 6 | G64: =ARC!G6 -> 19 | H64: =ARC!H6 -> 1.5263158 | ... J64: =ARC!J6 -> 1
A65: =ARC!A7 -> 9 | B65: =ARC!B7 -> Chelsea Fry | C65: =ARC!C7 -> ARC | D65: =ARC!D7 -> 19 | E65: =ARC!E7 -> 11 | F65: =ARC!F7 -> 10 | G65: =ARC!G7 -> 23 | H65: =ARC!H7 -> 0.57894737 | ... J65: =ARC!J7 -> 1.2105263
A66: =ARC!A8 -> 10 | B66: =ARC!B8 -> Sacannah Liffring | C66: =ARC!C8 -> ARC | D66: =ARC!D8 -> 19 | E66: =ARC!E8 -> 46 | F66: =ARC!F8 -> 12 | G66: =ARC!G8 -> 24 | H66: =ARC!H8 -> 2.4210526 | ... J66: =ARC!J8 -> 1.2631579
A67: =ARC!A9 -> 11 | B67: =ARC!B9 -> Rya Minow | C67: =ARC!C9 -> ARC | D67: =ARC!D9 -> 19 | E67: =ARC!E9 -> 18 | F67: =ARC!F9 -> 13 | G67: =ARC!G9 -> 45 | H67: =ARC!H9 -> 0.94736842 | ... J67: =ARC!J9 -> 2.3684211
A68: =ARC!A10 -> 13 | B68: =ARC!B10 -> Kat Bailey | C68: =ARC!C10 -> ARC | D68: =ARC!D10 -> 19 | E68: =ARC!E10 -> 2 | F68: =ARC!F10 -> 1 | G68: =ARC!G10 -> 11 | H68: =ARC!H10 -> 0.10526316 | ... J68: =ARC!J10 -> 0.57894737
A69: =ARC!A11 -> 1 | B69: =ARC!B11 -> Lewis | C69: =ARC!C11 -> ARC | D69: =ARC!D11 -> 19 | E69: =ARC!E11 -> 0 | F69: =ARC!F11 -> 2 | G69: =ARC!G11 -> 13 | H69: =ARC!H11 -> 0 | ... J69: =ARC!J11 -> 0.68421053

Sheet Big 8 Goal
A1: Cap # | B1: Athlete | C1: School | D1: GP | E1: GA | F1: BLK | G1: GA/G | H1: BL/G
A2: =DVC!A32 -> 1 | B2: =DVC!B32 -> Courtney McDougal | C2: =DVC!C32 -> DVC | D2: =DVC!D32 -> 16 | E2: =DVC!E32 -> 27 | F2: =DVC!F32 -> 56 | G2: =E2/D2 -> 1.6875 | H2: =F2/E2 -> 2.0740741
A3: =DVC!A33 -> 1 | B3: =DVC!B33 -> Katie Ramm | C3: =DVC!C33 -> DVC | D3: =DVC!D33 -> 20 | E3: =DVC!E33 -> 67 | F3: =DVC!F33 -> 136 | G3: =E3/D3 -> 3.35 | H3: =F3/E3 -> 2.0298507
A4: =DVC!A34 -> 1 | B4: =DVC!B34 -> Katie Van Tuyl | C4: =DVC!C34 -> DVC | D4: =DVC!D34 -> 11 | E4: =DVC!E34 -> 26 | F4: =DVC!F34 -> 39 | G4: =E4/D4 -> 2.3636364 | H4: =F4/E4 -> 1.5
A5: =Fresno!#REF! -> #REF! | B5: =Fresno!#REF! -> #REF! | C5: =Fresno!#REF! -> #REF! | D5: =Fresno!#REF! -> #REF! | E5: =Fresno!#REF! -> #REF! | F5: =Fresno!#REF! -> #REF! | G5: =E5/D5 -> #REF! | H5: =F5/E5 -> #REF!
A6: =Fresno!#REF! -> #REF! | B6: =Fresno!#REF! -> #REF! | C6: =Fresno!#REF! -> #REF! | D6: =Fresno!#REF! -> #REF! | E6: =Fresno!#REF! -> #REF! | F6: =Fresno!#REF! -> #REF! | G6: =E6/D6 -> #REF! | H6: =F6/E6 -> #REF!
A7: =Sierra!A33 -> 1 | B7: =Sierra!B33 -> Sarah Fisk | C7: =Sierra!C33 -> Sierra | D7: =Sierra!D33 -> 10 | E7: =Sierra!E33 -> 52 | F7: =Sierra!F33 -> 33 | G7: =E7/D7 -> 5.2 | H7: =F7/E7 -> 0.63461538
A8: =Sierra!A34 -> 1A | B8: =Sierra!B34 -> Natalie Allin | C8: =Sierra!C34 -> Sierra | D8: =Sierra!D34 -> 20 | E8: =Sierra!E34 -> 155 | F8: =Sierra!F34 -> 121 | G8: =E8/D8 -> 7.75 | H8: =F8/E8 -> 0.78064516
A9: =SJD!A32 -> 1 | B9: =SJD!B32 -> Liz Halva | C9: =SJD!C32 -> SJD | D9: =SJD!D32 -> 7 | E9: =SJD!E32 -> 15 | F9: =SJD!F32 -> 31 | G9: =SJD!G32 -> 2.6666667 | H9: =SJD!H32 -> 1.5
A10: =SJD!A33 -> 1A | B10: =SJD!B33 -> Shelby Stephens | C10: =SJD!C33 -> SJD | D10: =SJD!D33 -> 10 | E10: =SJD!E33 -> 41 | F10: =SJD!F33 -> 62 | G10: =SJD!G33 -> 2.1111111 | H10: =SJD!H33 -> 1.5
A11: =SJD!A34 -> 1B | B11: =SJD!B34 -> Karleigh Goss | C11: =SJD!C34 -> SJD | D11: =SJD!D34 -> 19 | E11: =SJD!E34 -> 128 | F11: =SJD!F34 -> 146 | G11: =SJD!G34 -> 2.2413793 | H11: =SJD!H34 -> 1.7241379
A12: =ARC!A33 -> 1 | B12: =ARC!B33 -> Lewis | C12: =ARC!C33 -> ARC | D12: =ARC!D33 -> 19 | E12: =ARC!E33 -> 181 | F12: =ARC!F33 -> 104 | G12: =ARC!G33 -> 9.5263158 | H12: =ARC!H33 -> 5.4736842

Sheet DVC
A1: FIELD STATS
A2: Cap # | B2: Athlete | C2: School | D2: GP | E2: GLS | F2: AST | G2: STL | H2: G/G | I2: A/G | J2: S/G
A3: 2 | B3: Alyssa Jenkins | C3: DVC | D3: 25 | E3: 16 | F3: 19 | G3: 25 | H3: 7 | I3: 0.80952381 | J3: 0.9047619
A4: 3 | B4: Megan Dietrich | C4: DVC | D4: 25 | E4: 85 | F4: 25 | G4: 52 | H4: 19 | I4: 1 | J4: 2.0952381
A5: 4 | B5: Jackie Carlisle | C5: DVC | D5: 16 | E5: 12 | F5: 8 | G5: 8 | H5: 17 | I5: 0.5 | J5: 0.5
A6: 5 | B6: Ruby Personius | C6: DVC | D6: 25 | E6: 34 | F6: 26 | G6: 17 | H6: 27 | I6: 0.9047619 | J6: 0.76190476
A7: 6 | B7: Zoe Fredette | C7: DVC | D7: 21 | E7: 16 | F7: 2 | G7: 10 | H7: 5 | I7: 0.11764706 | J7: 0.47058824
A8: 7 | B8: Sarah Ward | C8: DVC | D8: 25 | E8: 33 | F8: 19 | G8: 15 | H8: 31 | I8: 0.76190476 | J8: 0.66666667
A9: 8 | B9: Hannah Dillon | C9: DVC | D9: 25 | E9: 59 | F9: 7 | G9: 24 | H9: 0 | I9: 0.33333333 | J9: 1
A10: 9 | H10: #DIV/0! | I10: #DIV/0! | J10: #DIV/0!
A11: 10 | B11: Charlotte Demoulin | C11: DVC | D11: 25 | E11: 52 | F11: 46 | G11: 13 | H11: 2 | I11: 1.8571429 | J11: 0.38095238
A12: 11 | B12: Julia Mes | C12: DVC | D12: 17 | E12: 13 | F12: 2 | G12: 8 | H12: 0.92857143 | I12: 0.14285714 | J12: 0.5
A13: 12 | B13: Jasmine Dickerson | C13: DVC | H13: #DIV/0! | I13: #DIV/0! | J13: #DIV/0!
A14: 13 | B14: Caroline Lovett | C14: DVC | D14: 20 | E14: 16 | F14: 3 | G14: 5 | H14: 0.70588235 | I14: 0.17647059 | J14: 0.29411765
A15: 14 | B15: Courtney Railton | C15: DVC | D15: 20 | E15: 13 | F15: 2 | G15: 2 | H15: 0.58823529 | I15: 0.11764706 | J15: 0.11764706
A16: 15 | B16: Beverly Ayers | C16: DVC | D16: 25 | E16: 29 | F16: 16 | G16: 33 | H16: 1 | I16: 0.47619048 | J16: 1.2857143
A17: 16 | H17: #DIV/0! | I17: #DIV/0! | J17: #DIV/0!
A18: 17 | B18: Katie Van Tuyl | C18: DVC | D18: 2 | F18: 1 | G18: 1 | H18: 0 | I18: 0.5 | J18: 0.5
A19: 18 | H19: =E19/D19 -> #DIV/0! | I19: =F19/D19 -> #DIV/0! | J19: =G19/D19 -> #DIV/0!
H20: =E20/D20 -> #DIV/0! | I20: =F20/D20 -> #DIV/0! | J20: =G20/D20 -> #DIV/0!
H21: =E21/D21 -> #DIV/0! | I21: =F21/D21 -> #DIV/0! | J21: =G21/D21 -> #DIV/0!
H22: =E22/D22 -> #DIV/0! | I22: =F22/D22 -> #DIV/0! | J22: =G22/D22 -> #DIV/0!
H23: =E23/D23 -> #DIV/0! | I23: =F23/D23 -> #DIV/0! | J23: =G23/D23 -> #DIV/0!
H24: =E24/D24 -> #DIV/0! | I24: =F24/D24 -> #DIV/0! | J24: =G24/D24 -> #DIV/0!
H25: =E25/D25 -> #DIV/0! | I25: =F25/D25 -> #DIV/0! | J25: =G25/D25 -> #DIV/0!
H26: =E26/D26 -> #DIV/0! | I26: =F26/D26 -> #DIV/0! | J26: =G26/D26 -> #DIV/0!
H27: =E27/D27 -> #DIV/0! | I27: =F27/D27 -> #DIV/0! | J27: =G27/D27 -> #DIV/0!
H28: =E28/D28 -> #DIV/0! | I28: =F28/D28 -> #DIV/0! | J28: =G28/D28 -> #DIV/0!
A30: GOALIE STATS
A31: Cap # | B31: Athlete | C31: School | D31: GP | E31: GA | F31: BLK | G31: GA/G | H31: BL/G
A32: 1 | B32: Courtney McDougal | C32: DVC | D32: 16 | E32: 27 | F32: 56 | G32: 1.6875 | H32: 3.5
A33: 1 | B33: Katie Ramm | C33: DVC | D33: 20 | E33: 67 | F33: 136 | G33: 3.35 | H33: 6.8
A34: 1 | B34: Katie Van Tuyl | C34: DVC | D34: 11 | E34: 26 | F34: 39 | G34: 2.3636364 | H34: 3.5454545
G35: =E35/D35 -> #DIV/0! | H35: =F35/D35 -> #DIV/0!

Sheet SJD
A1: FIELD STATS
A2: Cap # | B2: Athlete | C2: School | D2: GP | E2: GLS | F2: AST | G2: STL | H2: G/G | I2: A/G | J2: S/G
A3: 2 | B3: Brittany Smith | C3: SJD | D3: 28 | E3: 45 | F3: 7 | G3: 3 | H3: =E3/D3 -> 1.6071429 | I3: =F3/E3 -> 0.15555556 | J3: =G3/F3 -> 0.42857143
A4: 3 | B4: Katelyn Traut | C4: SJD | D4: 26 | E4: 19 | F4: 19 | G4: 23 | H4: =E4/D4 -> 0.73076923 | I4: =F4/E4 -> 1 | J4: =G4/F4 -> 1.2105263
A5: 4 | B5: Madison Hulse | C5: SJD | D5: 27 | E5: 20 | F5: 17 | G5: 9 | H5: =E5/D5 -> 0.74074074 | I5: =F5/E5 -> 0.85 | J5: =G5/F5 -> 0.52941176
A6: 5 | B6: Cassidy Waters | C6: SJD | D6: 28 | E6: 24 | F6: 27 | G6: 26 | H6: =E6/D6 -> 0.85714286 | I6: =F6/E6 -> 1.125 | J6: =G6/F6 -> 0.96296296
A7: 6 | B7: Tahnee Trew | C7: SJD | D7: 24 | E7: 19 | F7: 5 | G7: 9 | H7: =E7/D7 -> 0.79166667 | I7: =F7/E7 -> 0.26315789 | J7: =G7/F7 -> 1.8
A8: 7 | B8: Molly Bria | C8: SJD | D8: 28 | E8: 25 | F8: 31 | G8: 31 | H8: =E8/D8 -> 0.89285714 | I8: =F8/E8 -> 1.24 | J8: =G8/F8 -> 1
A9: 8 | B9: Courtney Myers | C9: SJD | D9: 8 | E9: 5 | F9: 0 | G9: 6 | H9: =E9/D9 -> 0.625 | I9: =F9/E9 -> 0 | J9: =G9/F9 -> #DIV/0!
A10: 9 | B10: Katelyn Stewart | C10: SJD | D10: 12 | E10: 4 | F10: 2 | G10: 4 | H10: =E10/D10 -> 0.33333333 | I10: =F10/E10 -> 0.5 | J10: =G10/F10 -> 2
A11: 10 | B11: Lauren Plunkett | C11: SJD | D11: 28 | E11: 80 | F11: 40 | G11: 45 | H11: =E11/D11 -> 2.8571429 | I11: =F11/E11 -> 0.5 | J11: =G11/F11 -> 1.125
A12: 11 | B12: Dallyce Marglon | C12: SJD | D12: 28 | E12: 28 | F12: 36 | G12: 23 | H12: =E12/D12 -> 1 | I12: =F12/E12 -> 1.2857143 | J12: =G12/F12 -> 0.63888889
A13: 12 | B13: Christina Imeri | C13: SJD | E13: 0 | F13: 0 | G13: 0 | H13: =E13/D13 -> #DIV/0! | I13: =F13/E13 -> #DIV/0! | J13: =G13/F13 -> #DIV/0!
A14: 13 | B14: Sabrina Vincent | C14: SJD | D14: 20 | E14: 11 | F14: 5 | G14: 6 | H14: =E14/D14 -> 0.55 | I14: =F14/E14 -> 0.45454545 | J14: =G14/F14 -> 1.2
A15: 14 | B15: Julia Kim | C15: SJD | D15: 12 | E15: 8 | F15: 2 | G15: 1 | H15: =E15/D15 -> 0.66666667 | I15: =F15/E15 -> 0.25 | J15: =G15/F15 -> 0.5
A16: 15 | B16: Brooke Mahoney | C16: SJD | D16: 28 | E16: 33 | F16: 22 | G16: 24 | H16: =E16/D16 -> 1.1785714 | I16: =F16/E16 -> 0.66666667 | J16: =G16/F16 -> 1.0909091
A17: 16 | B17: Megan Jessen | C17: SJD | D17: 13 | E17: 12 | F17: 6 | G17: 4 | H17: =E17/D17 -> 0.92307692 | I17: =F17/E17 -> 0.5 | J17: =G17/F17 -> 0.66666667
H18: #DIV/0! | I18: #DIV/0! | J18: #DIV/0!
H19: #DIV/0! | I19: #DIV/0! | J19: #DIV/0!
H20: #DIV/0! | I20: #DIV/0! | J20: #DIV/0!
H21: #DIV/0! | I21: #DIV/0! | J21: #DIV/0!
H22: #DIV/0! | I22: #DIV/0! | J22: #DIV/0!
H23: #DIV/0! | I23: #DIV/0! | J23: #DIV/0!
H24: #DIV/0! | I24: #DIV/0! | J24: #DIV/0!
H25: #DIV/0! | I25: #DIV/0! | J25: #DIV/0!
H26: #DIV/0! | I26: #DIV/0! | J26: #DIV/0!
H27: #DIV/0! | I27: #DIV/0! | J27: #DIV/0!
H28: #DIV/0! | I28: #DIV/0! | J28: #DIV/0!
A30: GOALIE STATS
A31: Cap # | B31: Athlete | C31: School | D31: GP | E31: GA | F31: BLK | G31: GA/G | H31: BL/G
A32: 1 | B32: Liz Halva | C32: SJD | D32: 7 | E32: 15 | F32: 31 | G32: 2.6666667 | H32: 1.5
A33: 1A | B33: Shelby Stephens | C33: SJD | D33: 10 | E33: 41 | F33: 62 | G33: 2.1111111 | H33: 1.5
A34: 1B | B34: Karleigh Goss | C34: SJD | D34: 19 | E34: 128 | F34: 146 | G34: 2.2413793 | H34: 1.7241379
G35: #DIV/0! | H35: #DIV/0!

Sheet ARC
A1: FIELD STATS
A2: Cap # | B2: Athlete | C2: School | D2: GP | E2: GLS | F2: AST | G2: STL | H2: G/G | I2: A/G | J2: S/G
A3: 4 | B3: Haley Dutton | C3: ARC | D3: 19 | E3: 33 | F3: 8 | G3: 18 | H3: =E3/D3 -> 1.7368421 | I3: =F3/D3 -> 0.42105263 | J3: =G3/D3 -> 0.94736842
A4: 6 | B4: Lily Van Rees | C4: ARC | D4: 19 | E4: 11 | F4: 15 | G4: 27 | H4: =E4/D4 -> 0.57894737 | I4: =F4/D4 -> 0.78947368 | J4: =G4/D4 -> 1.4210526
A5: 7 | B5: Hannah Zari | C5: ARC | D5: 19 | E5: 23 | F5: 3 | G5: 9 | H5: =E5/D5 -> 1.2105263 | I5: =F5/D5 -> 0.15789474 | J5: =G5/D5 -> 0.47368421
A6: 8 | B6: Haley Cates | C6: ARC | D6: 19 | E6: 29 | F6: 6 | G6: 19 | H6: =E6/D6 -> 1.5263158 | I6: =F6/D6 -> 0.31578947 | J6: =G6/D6 -> 1
A7: 9 | B7: Chelsea Fry | C7: ARC | D7: 19 | E7: 11 | F7: 10 | G7: 23 | H7: =E7/D7 -> 0.57894737 | I7: =F7/D7 -> 0.52631579 | J7: =G7/D7 -> 1.2105263
A8: 10 | B8: Sacannah Liffring | C8: ARC | D8: 19 | E8: 46 | F8: 12 | G8: 24 | H8: =E8/D8 -> 2.4210526 | I8: =F8/D8 -> 0.63157895 | J8: =G8/D8 -> 1.2631579
A9: 11 | B9: Rya Minow | C9: ARC | D9: 19 | E9: 18 | F9: 13 | G9: 45 | H9: =E9/D9 -> 0.94736842 | I9: =F9/D9 -> 0.68421053 | J9: =G9/D9 -> 2.3684211
A10: 13 | B10: Kat Bailey | C10: ARC | D10: 19 | E10: 2 | F10: 1 | G10: 11 | H10: =E10/D10 -> 0.10526316 | I10: =F10/D10 -> 0.052631579 | J10: =G10/D10 -> 0.57894737
A11: 1 | B11: Lewis | C11: ARC | D11: 19 | E11: 0 | F11: 2 | G11: 13 | H11: =E11/D11 -> 0 | I11: =F11/D11 -> 0.10526316 | J11: =G11/D11 -> 0.68421053
H14: #DIV/0! | I14: #DIV/0! | J14: #DIV/0!
H15: #DIV/0! | I15: #DIV/0! | J15: #DIV/0!
H16: #DIV/0! | I16: #DIV/0! | J16: #DIV/0!
H17: #DIV/0! | I17: #DIV/0! | J17: #DIV/0!
H18: #DIV/0! | I18: #DIV/0! | J18: #DIV/0!
H19: #DIV/0! | I19: #DIV/0! | J19: #DIV/0!
H20: #DIV/0! | I20: #DIV/0! | J20: #DIV/0!
H21: #DIV/0! | I21: #DIV/0! | J21: #DIV/0!
H22: #DIV/0! | I22: #DIV/0! | J22: #DIV/0!
H23: #DIV/0! | I23: #DIV/0! | J23: #DIV/0!
H24: #DIV/0! | I24: #DIV/0! | J24: #DIV/0!
H25: #DIV/0! | I25: #DIV/0! | J25: #DIV/0!
... H29: #DIV/0! | I29: #DIV/0! | J29: #DIV/0!
A31: GOALIE STATS
A32: Cap # | B32: Athlete | C32: School | D32: GP | E32: GA | F32: BLK | G32: GA/G | H32: BL/G
A33: 1 | B33: Lewis | C33: ARC | D33: 19 | E33: =13+5+17+13+8+8+11+4+9+9+4+5+4+4+13+16+10+16+12 -> 181 | F33: 104 | G33: =E33/D33 -> 9.5263158 | H33: =F33/D33 -> 5.4736842
G35: #DIV/0! | H35: #DIV/0!
G36: #DIV/0! | H36: #DIV/0!

Sheet SRJC

Sheet Fresno
A1: Fresno City College
A2: FIELD STATS
A3: Cap # | B3: Athlete | C3: School | D3: GP | E3: GLS | F3: AST | G3: STL | H3: G/G | I3: A/G | J3: S/G
A4: 2 | B4: Athena Keobounnam | C4: FCC | D4: 22 | E4: 44 | G4: 1 | H4: =E4/D4 -> 2 | I4: =F4/D4 -> 0 | J4: =G4/D4 -> 0.045454545
A5: 3 | B5: Saylene Servin | C5: FCC | D5: 22 | E5: 22 | F5: 8 | G5: 2 | H5: =E5/D5 -> 1 | I5: =F5/D5 -> 0.36363636 | J5: =G5/D5 -> 0.090909091
A6: 4 | B6: Paige Powers | C6: FCC | D6: 22 | E6: 3 | G6: 1 | H6: =E6/D6 -> 0.13636364 | I6: =F6/D6 -> 0 | J6: =G6/D6 -> 0.045454545
A7: 5 | B7: Daniell Mask | C7: FCC | D7: 16 | E7: 6 | F7: 5 | G7: 6 | H7: =E7/D7 -> 0.375 | I7: =F7/D7 -> 0.3125 | J7: =G7/D7 -> 0.375
A8: 6 | B8: Ashlee Gibbs | C8: FCC | D8: 19 | E8: 43 | G8: 1 | H8: =E8/D8 -> 2.2631579 | I8: =F8/D8 -> 0 | J8: =G8/D8 -> 0.052631579
A9: 7 | B9: Elizabeth Tornero | C9: FCC | D9: 21 | E9: 9 | H9: =E9/D9 -> 0.42857143 | I9: =F9/D9 -> 0 | J9: =G9/D9 -> 0
A10: 10 | B10: Cypress Lealaimatafao | C10: FCC | D10: 17 | E10: 6 | H10: =E10/D10 -> 0.35294118 | I10: =F10/D10 -> 0 | J10: =G10/D10 -> 0
A11: 13 | B11: Kylie Gill | C11: FCC | D11: 22 | E11: 18 | F11: 2 | G11: 2 | H11: =E11/D11 -> 0.81818182 | I11: =F11/D11 -> 0.090909091 | J11: =G11/D11 -> 0.090909091
A12: 15 | B12: Kallee Olivas | C12: FCC | D12: 22 | E12: 70 | F12: 2 | G12: 2 | H12: =E12/D12 -> 3.1818182 | I12: =F12/D12 -> 0.090909091 | J12: =G12/D12 -> 0.090909091
A13: 22 | B13: Emily Pratt | C13: FCC | D13: 22 | E13: 19 | G13: 1 | H13: =E13/D13 -> 0.86363636 | I13: =F13/D13 -> 0 | J13: =G13/D13 -> 0.045454545
A15: GOALIE STATS
A16: Cap # | B16: Athlete | C16: School | D16: GP | E16: GA | F16: BLK | G16: GA/G | H16: BL/G
A17: 1 | B17: Daniell Mask | C17: FCC | D17: 20 | E17: 166 | F17: 85 | G17: 8.3 | H17: 4.25
A18: 1A | B18: Paige Powers | C18: FCC | D18: 11 | E18: 49 | F18: 49 | G18: 4.4545455 | H18: 4.4545455

Sheet Sierra
A1: FIELD STATS
A2: Cap # | B2: Athlete | C2: School | D2: GP | E2: GLS | F2: AST | G2: STL | H2: G/G | I2: A/G | J2: S/G
A3: 2 | B3: Alyssa Alvarez | C3: Sierra | D3: 22 | E3: 17 | F3: 28 | G3: 20 | H3: =E3/D3 -> 0.77272727 | I3: =F3/D3 -> 1.2727273 | J3: =G3/D3 -> 0.90909091
A4: 3 | B4: Alexa Negrete | C4: Sierra | D4: 22 | E4: 41 | F4: 18 | G4: 23 | H4: =E4/D4 -> 1.8636364 | I4: =F4/D4 -> 0.81818182 | J4: =G4/D4 -> 1.0454545
A5: 4 | B5: Hannah Frech | C5: Sierra | D5: 22 | E5: 39 | F5: 23 | G5: 26 | H5: =E5/D5 -> 1.7727273 | I5: =F5/D5 -> 1.0454545 | J5: =G5/D5 -> 1.1818182
A6: 5 | B6: Natalie Allin | C6: Sierra | D6: 15 | E6: 0 | F6: 5 | G6: 14 | H6: =E6/D6 -> 0 | I6: =F6/D6 -> 0.33333333 | J6: =G6/D6 -> 0.93333333
A7: 8 | B7: Brittney Hemphill | C7: Sierra | D7: 22 | E7: 4 | F7: 5 | G7: 4 | H7: =E7/D7 -> 0.18181818 | I7: =F7/D7 -> 0.22727273 | J7: =G7/D7 -> 0.18181818
A8: 10 | B8: Katy Suggs | C8: Sierra | D8: 22 | E8: 5 | F8: 7 | G8: 12 | H8: =E8/D8 -> 0.22727273 | I8: =F8/D8 -> 0.31818182 | J8: =G8/D8 -> 0.54545455
A9: 13 | B9: Alexis Williams | C9: Sierra | D9: 22 | E9: 14 | F9: 17 | G9: 28 | H9: =E9/D9 -> 0.63636364 | I9: =F9/D9 -> 0.77272727 | J9: =G9/D9 -> 1.2727273
A10: 14 | B10: Dennae Wiecyznski | C10: Sierra | D10: 22 | E10: 35 | F10: 7 | G10: 21 | H10: =E10/D10 -> 1.5909091 | I10: =F10/D10 -> 0.31818182 | J10: =G10/D10 -> 0.95454545
A11: 15 | B11: Shelby Parker | C11: Sierra | D11: 22 | E11: 45 | F11: 17 | G11: 19 | H11: =E11/D11 -> 2.0454545 | I11: =F11/D11 -> 0.77272727 | J11: =G11/D11 -> 0.86363636
A12: 16 | B12: Sydnee Chambers | C12: Sierra | D12: 19 | E12: 34 | F12: 11 | G12: 11 | H12: =E12/D12 -> 1.7894737 | I12: =F12/D12 -> 0.57894737 | J12: =G12/D12 -> 0.57894737
A13: 21 | B13: Elise Welch | C13: Sierra | D13: 22 | E13: 6 | F13: 6 | G13: 21 | H13: =E13/D13 -> 0.27272727 | I13: =F13/D13 -> 0.27272727 | J13: =G13/D13 -> 0.95454545
H14: #DIV/0! | I14: #DIV/0! | J14: #DIV/0!
H15: #DIV/0! | I15: #DIV/0! | J15: #DIV/0!
H16: #DIV/0! | I16: #DIV/0! | J16: #DIV/0!
H17: #DIV/0! | I17: #DIV/0! | J17: #DIV/0!
H18: #DIV/0! | I18: #DIV/0! | J18: #DIV/0!
H19: #DIV/0! | I19: #DIV/0! | J19: #DIV/0!
H20: #DIV/0! | I20: #DIV/0! | J20: #DIV/0!
H21: #DIV/0! | I21: #DIV/0! | J21: #DIV/0!
H22: #DIV/0! | I22: #DIV/0! | J22: #DIV/0!
H23: #DIV/0! | I23: #DIV/0! | J23: #DIV/0!
H24: #DIV/0! | I24: #DIV/0! | J24: #DIV/0!
H25: #DIV/0! | I25: #DIV/0! | J25: #DIV/0!
... H29: #DIV/0! | I29: #DIV/0! | J29: #DIV/0!
A31: GOALIE STATS
A32: Cap # | B32: Athlete | C32: School | D32: GP | E32: GA | F32: BLK | G32: GA/G | H32: BL/G
A33: 1 | B33: Sarah Fisk | C33: Sierra | D33: 10 | E33: 52 | F33: 33 | G33: 5.2 | H33: 3.3
A34: 1A | B34: Natalie Allin | C34: Sierra | D34: 20 | E34: 155 | F34: 121 | G34: 6.2 | H34: 4.7333333
G35: #DIV/0! | H35: #DIV/0!
G36: #DIV/0! | H36: #DIV/0!

Sheet Modesto

Sheet Sac
A1: FIELD STATS
A2: Cap # | B2: Athlete | C2: School | D2: GP | E2: GLS | F2: AST | G2: STL | H2: G/G | I2: A/G | J2: S/G
A3: 2 | B3: Morgan Hunter | C3: SCC | D3: 17 | E3: 5 | F3: 9 | G3: 4 | H3: =E3/D3 -> 0.29411765 | I3: =F3/D3 -> 0.52941176 | J3: =G3/D3 -> 0.23529412
A4: 3 | B4: Rachel Perard | C4: SCC | D4: 17 | E4: 1 | F4: 5 | G4: 1 | H4: =E4/D4 -> 0.058823529 | I4: =F4/D4 -> 0.29411765 | J4: =G4/D4 -> 0.058823529
A5: 4 | B5: Mairead Maclean | C5: SCC | D5: 17 | E5: 5 | F5: 4 | G5: 1 | H5: =E5/D5 -> 0.29411765 | I5: =F5/D5 -> 0.23529412 | J5: =G5/D5 -> 0.058823529
A6: 6 | B6: Stephanie Trevino | C6: SCC | D6: 17 | E6: 10 | F6: 12 | G6: 5 | H6: =E6/D6 -> 0.58823529 | I6: =F6/D6 -> 0.70588235 | J6: =G6/D6 -> 0.29411765
A7: 7 | B7: Kaitlyn Snow | C7: SCC | D7: 17 | E7: 33 | F7: 20 | G7: 13 | H7: =E7/D7 -> 1.9411765 | I7: =F7/D7 -> 1.1764706 | J7: =G7/D7 -> 0.76470588
A8: 9 | B8: Samantha Garcia | C8: SCC | D8: 12 | E8: 7 | F8: 10 | G8: 5 | H8: =E8/D8 -> 0.58333333 | I8: =F8/D8 -> 0.83333333 | J8: =G8/D8 -> 0.41666667
A9: 10 | B9: Megan Mierczynski | C9: SCC | D9: 17 | E9: 1 | F9: 5 | H9: =E9/D9 -> 0.058823529 | I9: =F9/D9 -> 0.29411765 | J9: =G9/D9 -> 0
A10: 11 | B10: Elizabeth Oliphint | C10: SCC | D10: 9 | E10: 22 | F10: 9 | G10: 3 | H10: =E10/D10 -> 2.4444444 | I10: =F10/D10 -> 1 | J10: =G10/D10 -> 0.33333333
A11: 12 | B11: Jessy Potch | C11: SCC | D11: 17 | G11: 3 | H11: =E11/D11 -> 0 | I11: =F11/D11 -> 0 | J11: =G11/D11 -> 0.17647059
A12: 15 | B12: Adelia Aranza | C12: SCC | D12: 15 | G12: 3 | H12: =E12/D12 -> 0 | I12: =F12/D12 -> 0 | J12: =G12/D12 -> 0.2
B15: Athlete | C15: School | D15: GP | E15: GA | F15: BLK | G15: GA/G | H15: BL/G
A16: 1 | B16: Jessy potch | C16: SCC | D16: 15 | E16: 118 | F16: 39 | G16: 7.8666667 | H16: 2.6
A17: 1A | B17: Adelia Aranza | C17: SCC | D17: 15 | E17: 102 | F17: 57 | G17: 6.8 | H17: 3.8
