Workbook

Sheet Field Leaders
A2: Name | B2: Team | C2: GP | D2: Goals | E2: G/G | G2: Name | H2: Team | I2: GP | J2: Assists | K2: A/G | M2: Name | N2: Team | O2: GP | P2: Steals | Q2: S/G
A3: ='S.J. Delta'!B3 -> Revay | B3: ='S.J. Delta'!C3 -> SJD | C3: ='S.J. Delta'!D3 -> 23 | D3: ='S.J. Delta'!E3 -> 234 | E3: =D3/C3 -> 10.173913 | G3: ='S.J. Delta'!B7 -> Halva | H3: ='S.J. Delta'!C7 -> SJD | I3: ='S.J. Delta'!D7 -> 21 | J3: ='S.J. Delta'!F7 -> 43 | K3: =J3/I3 -> 2.047619 | M3: ='S.J. Delta'!B7 -> Halva | N3: ='S.J. Delta'!C7 -> SJD | O3: ='S.J. Delta'!D7 -> 21 | P3: ='S.J. Delta'!G7 -> 64 | Q3: =P3/O3 -> 3.047619
A4: ='Big 8 Field'!B20 -> Blake Philips | B4: ='Big 8 Field'!C20 -> MJC | C4: ='Big 8 Field'!D20 -> 5 | D4: ='Big 8 Field'!E20 -> 18 | E4: =D4/C4 -> 3.6 | G4: ='Big 8 Field'!B18 -> Mitchell Moreda | H4: ='Big 8 Field'!C18 -> MJC | I4: ='Big 8 Field'!D18 -> 5 | J4: ='Big 8 Field'!F18 -> 9 | K4: =J4/I4 -> 1.8 | M4: ='Big 8 Field'!B14 -> Tommy Baier | N4: ='Big 8 Field'!C14 -> DVC | O4: ='Big 8 Field'!D14 -> 6 | P4: ='Big 8 Field'!G14 -> 10 | Q4: =P4/O4 -> 1.6666667
A5: ='S.J. Delta'!B7 -> Halva | B5: ='S.J. Delta'!C7 -> SJD | C5: ='S.J. Delta'!D7 -> 21 | D5: ='S.J. Delta'!E7 -> 57 | E5: =D5/C5 -> 2.7142857 | G5: ='S.J. Delta'!B10 -> Puccinelli | H5: ='S.J. Delta'!C10 -> SJD | I5: ='S.J. Delta'!D10 -> 22 | J5: ='S.J. Delta'!F10 -> 30 | K5: =J5/I5 -> 1.3636364 | M5: ='Big 8 Field'!B19 -> Kyle Swisegood | N5: ='Big 8 Field'!C19 -> MJC | O5: ='Big 8 Field'!D19 -> 5 | P5: ='Big 8 Field'!G19 -> 8 | Q5: =P5/O5 -> 1.6
A6: ='S.J. Delta'!B10 -> Puccinelli | B6: ='S.J. Delta'!C10 -> SJD | C6: ='S.J. Delta'!D10 -> 22 | D6: ='S.J. Delta'!E10 -> 58 | E6: =D6/C6 -> 2.6363636 | G6: ='S.J. Delta'!B9 -> Beutel | H6: ='S.J. Delta'!C9 -> SJD | I6: ='S.J. Delta'!D9 -> 23 | J6: ='S.J. Delta'!F9 -> 30 | K6: =J6/I6 -> 1.3043478 | M6: ='Big 8 Field'!B22 -> Kody Kamastra | N6: ='Big 8 Field'!C22 -> MJC | O6: ='Big 8 Field'!D22 -> 5 | P6: ='Big 8 Field'!G22 -> 8 | Q6: =P6/O6 -> 1.6
A7: ='S.J. Delta'!B5 -> Morrissey | B7: ='S.J. Delta'!C5 -> SJD | C7: ='S.J. Delta'!D5 -> 23 | D7: ='S.J. Delta'!E5 -> 60 | E7: =D7/C7 -> 2.6086957 | G7: ='Big 8 Field'!B22 -> Kody Kamastra | H7: ='Big 8 Field'!C22 -> MJC | I7: ='Big 8 Field'!D22 -> 5 | J7: ='Big 8 Field'!F22 -> 6 | K7: =J7/I7 -> 1.2 | M7: ='S.J. Delta'!B10 -> Puccinelli | N7: ='S.J. Delta'!C10 -> SJD | O7: ='S.J. Delta'!D10 -> 22 | P7: ='S.J. Delta'!G10 -> 29 | Q7: =P7/O7 -> 1.3181818
A8: ='Big 8 Field'!B11 -> Lucas Criado Martinez | B8: ='Big 8 Field'!C11 -> DVC | C8: ='Big 8 Field'!D11 -> 24 | D8: ='Big 8 Field'!E11 -> 55 | E8: =D8/C8 -> 2.2916667 | G8: ='S.J. Delta'!B8 -> Vernon | H8: ='S.J. Delta'!C8 -> SJD | I8: ='S.J. Delta'!D8 -> 15 | J8: ='S.J. Delta'!F8 -> 17 | K8: =J8/I8 -> 1.1333333 | M8: ='S.J. Delta'!B12 -> Torres | N8: ='S.J. Delta'!C12 -> SJD | O8: ='S.J. Delta'!D12 -> 22 | P8: ='S.J. Delta'!G12 -> 29 | Q8: =P8/O8 -> 1.3181818
A9: ='Big 8 Field'!B18 -> Mitchell Moreda | B9: ='Big 8 Field'!C18 -> MJC | C9: ='Big 8 Field'!D18 -> 5 | D9: ='Big 8 Field'!E18 -> 11 | E9: =D9/C9 -> 2.2 | G9: ='S.J. Delta'!B6 -> Dornbush | H9: ='S.J. Delta'!C6 -> SJD | I9: ='S.J. Delta'!D6 -> 21 | J9: ='S.J. Delta'!F6 -> 23 | K9: =J9/I9 -> 1.0952381 | M9: ='S.J. Delta'!B9 -> Beutel | N9: ='S.J. Delta'!C9 -> SJD | O9: ='S.J. Delta'!D9 -> 23 | P9: ='S.J. Delta'!G9 -> 29 | Q9: =P9/O9 -> 1.2608696
A10: ='Big 8 Field'!B17 -> Chad Nunes | B10: ='Big 8 Field'!C17 -> MJC | C10: ='Big 8 Field'!D17 -> 5 | D10: ='Big 8 Field'!E17 -> 10 | E10: =D10/C10 -> 2 | G10: ='S.J. Delta'!B5 -> Morrissey | H10: ='S.J. Delta'!C5 -> SJD | I10: ='S.J. Delta'!D5 -> 23 | J10: ='S.J. Delta'!F5 -> 24 | K10: =J10/I10 -> 1.0434783 | M10: ='Big 8 Field'!B18 -> Mitchell Moreda | N10: ='Big 8 Field'!C18 -> MJC | O10: ='Big 8 Field'!D18 -> 5 | P10: ='Big 8 Field'!G18 -> 6 | Q10: =P10/O10 -> 1.2
A11: ='Big 8 Field'!B35 -> Austin Dyer | B11: ='Big 8 Field'!C35 -> Sierra | C11: ='Big 8 Field'!D35 -> 15 | D11: ='Big 8 Field'!E35 -> 28 | E11: =D11/C11 -> 1.8666667 | G11: ='Big 8 Field'!B32 -> Kyle Bare | H11: ='Big 8 Field'!C32 -> Sierra | I11: ='Big 8 Field'!D32 -> 15 | J11: ='Big 8 Field'!F32 -> 15 | K11: =J11/I11 -> 1 | M11: ='Big 8 Field'!B37 -> Heath Faulkner | N11: ='Big 8 Field'!C37 -> Sierra | O11: ='Big 8 Field'!D37 -> 15 | P11: ='Big 8 Field'!G37 -> 17 | Q11: =P11/O11 -> 1.1333333
A12: ='Big 8 Field'!B14 -> Tommy Baier | B12: ='Big 8 Field'!C14 -> DVC | C12: ='Big 8 Field'!D14 -> 6 | D12: ='Big 8 Field'!E14 -> 11 | E12: =D12/C12 -> 1.8333333 | G12: ='Big 8 Field'!B24 -> Matt Cadrett | H12: ='Big 8 Field'!C24 -> MJC | I12: ='Big 8 Field'!D24 -> 5 | J12: ='Big 8 Field'!F24 -> 5 | K12: =J12/I12 -> 1 | M12: ='S.J. Delta'!B8 -> Vernon | N12: ='S.J. Delta'!C8 -> SJD | O12: ='S.J. Delta'!D8 -> 15 | P12: ='S.J. Delta'!G8 -> 17 | Q12: =P12/O12 -> 1.1333333
A13: ='Big 8 Field'!B12 -> Felipe Alterthum | B13: ='Big 8 Field'!C12 -> DVC | C13: ='Big 8 Field'!D12 -> 24 | D13: ='Big 8 Field'!E12 -> 41 | E13: =D13/C13 -> 1.7083333 | G13: ='Big 8 Field'!B14 -> Tommy Baier | H13: ='Big 8 Field'!C14 -> DVC | I13: ='Big 8 Field'!D14 -> 6 | J13: ='Big 8 Field'!F14 -> 6 | K13: =J13/I13 -> 1 | M13: ='Big 8 Field'!B12 -> Felipe Alterthum | N13: ='Big 8 Field'!C12 -> DVC | O13: ='Big 8 Field'!D12 -> 24 | P13: ='Big 8 Field'!G12 -> 26 | Q13: =P13/O13 -> 1.0833333
A14: ='Big 8 Field'!B37 -> Heath Faulkner | B14: ='Big 8 Field'!C37 -> Sierra | C14: ='Big 8 Field'!D37 -> 15 | D14: ='Big 8 Field'!E37 -> 23 | E14: =D14/C14 -> 1.5333333 | G14: ='S.J. Delta'!B11 -> Williamson | H14: ='S.J. Delta'!C11 -> SJD | I14: ='S.J. Delta'!D11 -> 21 | J14: ='S.J. Delta'!F11 -> 17 | K14: =J14/I14 -> 0.80952381 | M14: ='Big 8 Field'!B35 -> Austin Dyer | N14: ='Big 8 Field'!C35 -> Sierra | O14: ='Big 8 Field'!D35 -> 15 | P14: ='Big 8 Field'!G35 -> 14 | Q14: =P14/O14 -> 0.93333333
A15: ='Big 8 Field'!B3 -> Zac Hudson | B15: ='Big 8 Field'!C3 -> DVC | C15: ='Big 8 Field'!D3 -> 24 | D15: ='Big 8 Field'!E3 -> 35 | E15: =D15/C15 -> 1.4583333 | G15: ='Big 8 Field'!B43 -> Noah Miller | H15: ='Big 8 Field'!C43 -> Sierra | I15: ='Big 8 Field'!D43 -> 15 | J15: ='Big 8 Field'!F43 -> 12 | K15: =J15/I15 -> 0.8 | M15: ='Big 8 Field'!B16 -> Drew Pitcher | N15: ='Big 8 Field'!C16 -> DVC | O15: ='Big 8 Field'!D16 -> 24 | P15: ='Big 8 Field'!G16 -> 22 | Q15: =P15/O15 -> 0.91666667
A16: ='S.J. Delta'!B9 -> Beutel | B16: ='S.J. Delta'!C9 -> SJD | C16: ='S.J. Delta'!D9 -> 23 | D16: ='S.J. Delta'!E9 -> 33 | E16: =D16/C16 -> 1.4347826 | G16: ='S.J. Delta'!B3 -> Revay | H16: ='S.J. Delta'!C3 -> SJD | I16: ='S.J. Delta'!D3 -> 23 | J16: ='S.J. Delta'!F3 -> 17 | K16: =J16/I16 -> 0.73913043 | M16: ='Big 8 Field'!B9 -> Andras Telegdy | N16: ='Big 8 Field'!C9 -> DVC | O16: ='Big 8 Field'!D9 -> 23 | P16: ='Big 8 Field'!G9 -> 21 | Q16: =P16/O16 -> 0.91304348
A17: ='Big 8 Field'!B9 -> Andras Telegdy | B17: ='Big 8 Field'!C9 -> DVC | C17: ='Big 8 Field'!D9 -> 23 | D17: ='Big 8 Field'!E9 -> 32 | E17: =D17/C17 -> 1.3913043 | G17: ='Big 8 Field'!B37 -> Heath Faulkner | H17: ='Big 8 Field'!C37 -> Sierra | I17: ='Big 8 Field'!D37 -> 15 | J17: ='Big 8 Field'!F37 -> 11 | K17: =J17/I17 -> 0.73333333 | M17: ='Big 8 Field'!B13 -> Roy Campbell | N17: ='Big 8 Field'!C13 -> DVC | O17: ='Big 8 Field'!D13 -> 24 | P17: ='Big 8 Field'!G13 -> 21 | Q17: =P17/O17 -> 0.875
A18: ='Big 8 Field'!B41 -> Chase Milhous | B18: ='Big 8 Field'!C41 -> Sierra | C18: ='Big 8 Field'!D41 -> 15 | D18: ='Big 8 Field'!E41 -> 19 | E18: =D18/C18 -> 1.2666667 | G18: ='Big 8 Field'!B42 -> Evan Pugh | H18: ='Big 8 Field'!C42 -> Sierra | I18: ='Big 8 Field'!D42 -> 15 | J18: ='Big 8 Field'!F42 -> 11 | K18: =J18/I18 -> 0.73333333 | M18: ='S.J. Delta'!B5 -> Morrissey | N18: ='S.J. Delta'!C5 -> SJD | O18: ='S.J. Delta'!D5 -> 23 | P18: ='S.J. Delta'!G5 -> 19 | Q18: =P18/O18 -> 0.82608696
A19: ='Big 8 Field'!B21 -> CJ Cossey | B19: ='Big 8 Field'!C21 -> MJC | C19: ='Big 8 Field'!D21 -> 5 | D19: ='Big 8 Field'!E21 -> 6 | E19: =D19/C19 -> 1.2 | G19: ='Big 8 Field'!B44 -> Stetson Wheeler | H19: ='Big 8 Field'!C44 -> Sierra | I19: ='Big 8 Field'!D44 -> 15 | J19: ='Big 8 Field'!F44 -> 11 | K19: =J19/I19 -> 0.73333333 | M19: ='Big 8 Field'!B17 -> Chad Nunes | N19: ='Big 8 Field'!C17 -> MJC | O19: ='Big 8 Field'!D17 -> 5 | P19: ='Big 8 Field'!G17 -> 4 | Q19: =P19/O19 -> 0.8
A20: ='Big 8 Field'!B32 -> Kyle Bare | B20: ='Big 8 Field'!C32 -> Sierra | C20: ='Big 8 Field'!D32 -> 15 | D20: ='Big 8 Field'!E32 -> 15 | E20: =D20/C20 -> 1 | G20: ='S.J. Delta'!B12 -> Torres | H20: ='S.J. Delta'!C12 -> SJD | I20: ='S.J. Delta'!D12 -> 22 | J20: ='S.J. Delta'!F12 -> 16 | K20: =J20/I20 -> 0.72727273 | M20: ='Big 8 Field'!B42 -> Evan Pugh | N20: ='Big 8 Field'!C42 -> Sierra | O20: ='Big 8 Field'!D42 -> 15 | P20: ='Big 8 Field'!G42 -> 12 | Q20: =P20/O20 -> 0.8
A21: ='Big 8 Field'!B42 -> Evan Pugh | B21: ='Big 8 Field'!C42 -> Sierra | C21: ='Big 8 Field'!D42 -> 15 | D21: ='Big 8 Field'!E42 -> 15 | E21: =D21/C21 -> 1 | G21: ='Big 8 Field'!B12 -> Felipe Alterthum | H21: ='Big 8 Field'!C12 -> DVC | I21: ='Big 8 Field'!D12 -> 24 | J21: ='Big 8 Field'!F12 -> 17 | K21: =J21/I21 -> 0.70833333 | M21: ='Big 8 Field'!B11 -> Lucas Criado Martinez | N21: ='Big 8 Field'!C11 -> DVC | O21: ='Big 8 Field'!D11 -> 24 | P21: ='Big 8 Field'!G11 -> 19 | Q21: =P21/O21 -> 0.79166667
A22: ='S.J. Delta'!B6 -> Dornbush | B22: ='S.J. Delta'!C6 -> SJD | C22: ='S.J. Delta'!D6 -> 21 | D22: ='S.J. Delta'!E6 -> 21 | E22: =D22/C22 -> 1 | G22: ='Big 8 Field'!B11 -> Lucas Criado Martinez | H22: ='Big 8 Field'!C11 -> DVC | I22: ='Big 8 Field'!D11 -> 24 | J22: ='Big 8 Field'!F11 -> 16 | K22: =J22/I22 -> 0.66666667 | M22: ='S.J. Delta'!B11 -> Williamson | N22: ='S.J. Delta'!C11 -> SJD | O22: ='S.J. Delta'!D11 -> 21 | P22: ='S.J. Delta'!G11 -> 15 | Q22: =P22/O22 -> 0.71428571
A23: ='Big 8 Field'!B22 -> Kody Kamastra | B23: ='Big 8 Field'!C22 -> MJC | C23: ='Big 8 Field'!D22 -> 5 | D23: ='Big 8 Field'!E22 -> 5 | E23: =D23/C23 -> 1 | G23: ='Big 8 Field'!B7 -> Daniel Martin Sanchez | H23: ='Big 8 Field'!C7 -> DVC | I23: ='Big 8 Field'!D7 -> 24 | J23: ='Big 8 Field'!F7 -> 16 | K23: =J23/I23 -> 0.66666667 | M23: ='Big 8 Field'!B2 -> Paul Siebenaler | N23: ='Big 8 Field'!C2 -> DVC | O23: ='Big 8 Field'!D2 -> 24 | P23: ='Big 8 Field'!G2 -> 17 | Q23: =P23/O23 -> 0.70833333
A24: ='Big 8 Field'!B33 -> Tyler Nielsen | B24: ='Big 8 Field'!C33 -> Sierra | C24: ='Big 8 Field'!D33 -> 15 | D24: ='Big 8 Field'!E33 -> 14 | E24: =D24/C24 -> 0.93333333 | G24: ='Big 8 Field'!B9 -> Andras Telegdy | H24: ='Big 8 Field'!C9 -> DVC | I24: ='Big 8 Field'!D9 -> 23 | J24: ='Big 8 Field'!F9 -> 15 | K24: =J24/I24 -> 0.65217391 | M24: ='S.J. Delta'!B3 -> Revay | N24: ='S.J. Delta'!C3 -> SJD | O24: ='S.J. Delta'!D3 -> 23 | P24: ='S.J. Delta'!G3 -> 16 | Q24: =P24/O24 -> 0.69565217
A25: ='Big 8 Field'!B13 -> Roy Campbell | B25: ='Big 8 Field'!C13 -> DVC | C25: ='Big 8 Field'!D13 -> 24 | D25: ='Big 8 Field'!E13 -> 22 | E25: =D25/C25 -> 0.91666667 | G25: ='S.J. Delta'!B15 -> Richey | H25: ='S.J. Delta'!C15 -> SJD | I25: ='S.J. Delta'!D15 -> 22 | J25: ='S.J. Delta'!F15 -> 14 | K25: =J25/I25 -> 0.63636364 | M25: ='Big 8 Field'!B5 -> Bryce Reade | N25: ='Big 8 Field'!C5 -> DVC | O25: ='Big 8 Field'!D5 -> 24 | P25: ='Big 8 Field'!G5 -> 15 | Q25: =P25/O25 -> 0.625
A26: ='Big 8 Field'!B4 -> Nemanja Pljevancic | B26: ='Big 8 Field'!C4 -> DVC | C26: ='Big 8 Field'!D4 -> 23 | D26: ='Big 8 Field'!E4 -> 21 | E26: =D26/C26 -> 0.91304348 | G26: ='Big 8 Field'!B35 -> Austin Dyer | H26: ='Big 8 Field'!C35 -> Sierra | I26: ='Big 8 Field'!D35 -> 15 | J26: ='Big 8 Field'!F35 -> 8 | K26: =J26/I26 -> 0.53333333 | M26: ='Big 8 Field'!B3 -> Zac Hudson | N26: ='Big 8 Field'!C3 -> DVC | O26: ='Big 8 Field'!D3 -> 24 | P26: ='Big 8 Field'!G3 -> 15 | Q26: =P26/O26 -> 0.625
A27: ='Big 8 Field'!B16 -> Drew Pitcher | B27: ='Big 8 Field'!C16 -> DVC | C27: ='Big 8 Field'!D16 -> 24 | D27: ='Big 8 Field'!E16 -> 21 | E27: =D27/C27 -> 0.875 | G27: ='S.J. Delta'!B13 -> Bria | H27: ='S.J. Delta'!C13 -> SJD | I27: ='S.J. Delta'!D13 -> 20 | J27: ='S.J. Delta'!F13 -> 10 | K27: =J27/I27 -> 0.5 | M27: ='Big 8 Field'!B28 -> Marcelino Ramirez | N27: ='Big 8 Field'!C28 -> MJC | O27: ='Big 8 Field'!D28 -> 5 | P27: ='Big 8 Field'!G28 -> 3 | Q27: =P27/O27 -> 0.6
A28: ='S.J. Delta'!B12 -> Torres | B28: ='S.J. Delta'!C12 -> SJD | C28: ='S.J. Delta'!D12 -> 22 | D28: ='S.J. Delta'!E12 -> 19 | E28: =D28/C28 -> 0.86363636 | G28: ='Big 8 Field'!B38 -> Adam Rodgers | H28: ='Big 8 Field'!C38 -> Sierra | I28: ='Big 8 Field'!D38 -> 15 | J28: ='Big 8 Field'!F38 -> 7 | K28: =J28/I28 -> 0.46666667 | M28: ='Big 8 Field'!B41 -> Chase Milhous | N28: ='Big 8 Field'!C41 -> Sierra | O28: ='Big 8 Field'!D41 -> 15 | P28: ='Big 8 Field'!G41 -> 9 | Q28: =P28/O28 -> 0.6
A29: ='Big 8 Field'!B38 -> Adam Rodgers | B29: ='Big 8 Field'!C38 -> Sierra | C29: ='Big 8 Field'!D38 -> 15 | D29: ='Big 8 Field'!E38 -> 10 | E29: =D29/C29 -> 0.66666667 | G29: ='Big 8 Field'!B17 -> Chad Nunes | H29: ='Big 8 Field'!C17 -> MJC | I29: ='Big 8 Field'!D17 -> 5 | J29: ='Big 8 Field'!F17 -> 2 | K29: =J29/I29 -> 0.4 | M29: ='Big 8 Field'!B7 -> Daniel Martin Sanchez | N29: ='Big 8 Field'!C7 -> DVC | O29: ='Big 8 Field'!D7 -> 24 | P29: ='Big 8 Field'!G7 -> 14 | Q29: =P29/O29 -> 0.58333333
A30: ='Big 8 Field'!B8 -> Vincent Chapey | B30: ='Big 8 Field'!C8 -> DVC | C30: ='Big 8 Field'!D8 -> 24 | D30: ='Big 8 Field'!E8 -> 16 | E30: =D30/C30 -> 0.66666667 | G30: ='Big 8 Field'!B19 -> Kyle Swisegood | H30: ='Big 8 Field'!C19 -> MJC | I30: ='Big 8 Field'!D19 -> 5 | J30: ='Big 8 Field'!F19 -> 2 | K30: =J30/I30 -> 0.4 | M30: ='Big 8 Field'!B8 -> Vincent Chapey | N30: ='Big 8 Field'!C8 -> DVC | O30: ='Big 8 Field'!D8 -> 24 | P30: ='Big 8 Field'!G8 -> 14 | Q30: =P30/O30 -> 0.58333333
A31: ='S.J. Delta'!B15 -> Richey | B31: ='S.J. Delta'!C15 -> SJD | C31: ='S.J. Delta'!D15 -> 22 | D31: ='S.J. Delta'!E15 -> 14 | E31: =D31/C31 -> 0.63636364 | G31: ='Big 8 Field'!B20 -> Blake Philips | H31: ='Big 8 Field'!C20 -> MJC | I31: ='Big 8 Field'!D20 -> 5 | J31: ='Big 8 Field'!F20 -> 2 | K31: =J31/I31 -> 0.4 | M31: ='Big 8 Field'!B32 -> Kyle Bare | N31: ='Big 8 Field'!C32 -> Sierra | O31: ='Big 8 Field'!D32 -> 15 | P31: ='Big 8 Field'!G32 -> 8 | Q31: =P31/O31 -> 0.53333333
A32: ='Big 8 Field'!B7 -> Daniel Martin Sanchez | B32: ='Big 8 Field'!C7 -> DVC | C32: ='Big 8 Field'!D7 -> 24 | D32: ='Big 8 Field'!E7 -> 15 | E32: =D32/C32 -> 0.625 | G32: ='Big 8 Field'!B28 -> Marcelino Ramirez | H32: ='Big 8 Field'!C28 -> MJC | I32: ='Big 8 Field'!D28 -> 5 | J32: ='Big 8 Field'!F28 -> 2 | K32: =J32/I32 -> 0.4 | M32: ='Big 8 Field'!B33 -> Tyler Nielsen | N32: ='Big 8 Field'!C33 -> Sierra | O32: ='Big 8 Field'!D33 -> 15 | P32: ='Big 8 Field'!G33 -> 8 | Q32: =P32/O32 -> 0.53333333
A33: ='Big 8 Field'!B24 -> Matt Cadrett | B33: ='Big 8 Field'!C24 -> MJC | C33: ='Big 8 Field'!D24 -> 5 | D33: ='Big 8 Field'!E24 -> 3 | E33: =D33/C33 -> 0.6 | G33: ='Big 8 Field'!B30 -> Tyler Tovatt | H33: ='Big 8 Field'!C30 -> Sierra | I33: ='Big 8 Field'!D30 -> 15 | J33: ='Big 8 Field'!F30 -> 6 | K33: =J33/I33 -> 0.4 | M33: ='S.J. Delta'!B6 -> Dornbush | N33: ='S.J. Delta'!C6 -> SJD | O33: ='S.J. Delta'!D6 -> 21 | P33: ='S.J. Delta'!G6 -> 11 | Q33: =P33/O33 -> 0.52380952
A34: ='Big 8 Field'!B10 -> Aldric Terral | B34: ='Big 8 Field'!C10 -> DVC | C34: ='Big 8 Field'!D10 -> 24 | D34: ='Big 8 Field'!E10 -> 14 | E34: =D34/C34 -> 0.58333333 | G34: ='S.J. Delta'!B4 -> Kennedy | H34: ='S.J. Delta'!C4 -> SJD | I34: ='S.J. Delta'!D4 -> 23 | J34: ='S.J. Delta'!F4 -> 9 | K34: =J34/I34 -> 0.39130435 | M34: ='Big 8 Field'!B10 -> Aldric Terral | N34: ='Big 8 Field'!C10 -> DVC | O34: ='Big 8 Field'!D10 -> 24 | P34: ='Big 8 Field'!G10 -> 12 | Q34: =P34/O34 -> 0.5
A35: ='Big 8 Field'!B5 -> Bryce Reade | B35: ='Big 8 Field'!C5 -> DVC | C35: ='Big 8 Field'!D5 -> 24 | D35: ='Big 8 Field'!E5 -> 13 | E35: =D35/C35 -> 0.54166667 | G35: ='Big 8 Field'!B8 -> Vincent Chapey | H35: ='Big 8 Field'!C8 -> DVC | I35: ='Big 8 Field'!D8 -> 24 | J35: ='Big 8 Field'!F8 -> 8 | K35: =J35/I35 -> 0.33333333 | M35: ='Big 8 Field'!B38 -> Adam Rodgers | N35: ='Big 8 Field'!C38 -> Sierra | O35: ='Big 8 Field'!D38 -> 15 | P35: ='Big 8 Field'!G38 -> 7 | Q35: =P35/O35 -> 0.46666667
A36: ='Big 8 Field'!B30 -> Tyler Tovatt | B36: ='Big 8 Field'!C30 -> Sierra | C36: ='Big 8 Field'!D30 -> 15 | D36: ='Big 8 Field'!E30 -> 7 | E36: =D36/C36 -> 0.46666667 | G36: ='Big 8 Field'!B13 -> Roy Campbell | H36: ='Big 8 Field'!C13 -> DVC | I36: ='Big 8 Field'!D13 -> 24 | J36: ='Big 8 Field'!F13 -> 8 | K36: =J36/I36 -> 0.33333333 | M36: ='Big 8 Field'!B30 -> Tyler Tovatt | N36: ='Big 8 Field'!C30 -> Sierra | O36: ='Big 8 Field'!D30 -> 15 | P36: ='Big 8 Field'!G30 -> 7 | Q36: =P36/O36 -> 0.46666667
A37: ='Big 8 Field'!B39 -> Michael Crouch | B37: ='Big 8 Field'!C39 -> Sierra | C37: ='Big 8 Field'!D39 -> 15 | D37: ='Big 8 Field'!E39 -> 7 | E37: =D37/C37 -> 0.46666667 | G37: ='Big 8 Field'!B3 -> Zac Hudson | H37: ='Big 8 Field'!C3 -> DVC | I37: ='Big 8 Field'!D3 -> 24 | J37: ='Big 8 Field'!F3 -> 8 | K37: =J37/I37 -> 0.33333333 | M37: ='S.J. Delta'!B15 -> Richey | N37: ='S.J. Delta'!C15 -> SJD | O37: ='S.J. Delta'!D15 -> 22 | P37: ='S.J. Delta'!G15 -> 10 | Q37: =P37/O37 -> 0.45454545
A38: ='Big 8 Field'!B15 -> Kerman Castro Gil | B38: ='Big 8 Field'!C15 -> DVC | C38: ='Big 8 Field'!D15 -> 23 | D38: ='Big 8 Field'!E15 -> 10 | E38: =D38/C38 -> 0.43478261 | G38: ='Big 8 Field'!B10 -> Aldric Terral | H38: ='Big 8 Field'!C10 -> DVC | I38: ='Big 8 Field'!D10 -> 24 | J38: ='Big 8 Field'!F10 -> 8 | K38: =J38/I38 -> 0.33333333 | M38: ='S.J. Delta'!B13 -> Bria | N38: ='S.J. Delta'!C13 -> SJD | O38: ='S.J. Delta'!D13 -> 20 | P38: ='S.J. Delta'!G13 -> 9 | Q38: =P38/O38 -> 0.45
A39: ='S.J. Delta'!B11 -> Williamson | B39: ='S.J. Delta'!C11 -> SJD | C39: ='S.J. Delta'!D11 -> 21 | D39: ='S.J. Delta'!E11 -> 9 | E39: =D39/C39 -> 0.42857143 | G39: ='Big 8 Field'!B39 -> Michael Crouch | H39: ='Big 8 Field'!C39 -> Sierra | I39: ='Big 8 Field'!D39 -> 15 | J39: ='Big 8 Field'!F39 -> 5 | K39: =J39/I39 -> 0.33333333 | M39: ='Big 8 Field'!B20 -> Blake Philips | N39: ='Big 8 Field'!C20 -> MJC | O39: ='Big 8 Field'!D20 -> 5 | P39: ='Big 8 Field'!G20 -> 2 | Q39: =P39/O39 -> 0.4
A40: ='Big 8 Field'!B2 -> Paul Siebenaler | B40: ='Big 8 Field'!C2 -> DVC | C40: ='Big 8 Field'!D2 -> 24 | D40: ='Big 8 Field'!E2 -> 10 | E40: =D40/C40 -> 0.41666667 | G40: ='Big 8 Field'!B15 -> Kerman Castro Gil | H40: ='Big 8 Field'!C15 -> DVC | I40: ='Big 8 Field'!D15 -> 23 | J40: ='Big 8 Field'!F15 -> 7 | K40: =J40/I40 -> 0.30434783 | M40: ='Big 8 Field'!B4 -> Nemanja Pljevancic | N40: ='Big 8 Field'!C4 -> DVC | O40: ='Big 8 Field'!D4 -> 23 | P40: ='Big 8 Field'!G4 -> 8 | Q40: =P40/O40 -> 0.34782609
A41: ='Big 8 Field'!B44 -> Stetson Wheeler | B41: ='Big 8 Field'!C44 -> Sierra | C41: ='Big 8 Field'!D44 -> 15 | D41: ='Big 8 Field'!E44 -> 6 | E41: =D41/C41 -> 0.4 | G41: ='Big 8 Field'!B16 -> Drew Pitcher | H41: ='Big 8 Field'!C16 -> DVC | I41: ='Big 8 Field'!D16 -> 24 | J41: ='Big 8 Field'!F16 -> 7 | K41: =J41/I41 -> 0.29166667 | M41: ='Big 8 Field'!B39 -> Michael Crouch | N41: ='Big 8 Field'!C39 -> Sierra | O41: ='Big 8 Field'!D39 -> 15 | P41: ='Big 8 Field'!G39 -> 5 | Q41: =P41/O41 -> 0.33333333
A42: ='Big 8 Field'!B6 -> Konrad Karandy | B42: ='Big 8 Field'!C6 -> DVC | C42: ='Big 8 Field'!D6 -> 20 | D42: ='Big 8 Field'!E6 -> 8 | E42: =D42/C42 -> 0.4 | G42: ='Big 8 Field'!B5 -> Bryce Reade | H42: ='Big 8 Field'!C5 -> DVC | I42: ='Big 8 Field'!D5 -> 24 | J42: ='Big 8 Field'!F5 -> 7 | K42: =J42/I42 -> 0.29166667 | M42: ='Big 8 Field'!B44 -> Stetson Wheeler | N42: ='Big 8 Field'!C44 -> Sierra | O42: ='Big 8 Field'!D44 -> 15 | P42: ='Big 8 Field'!G44 -> 5 | Q42: =P42/O42 -> 0.33333333
A43: ='S.J. Delta'!B8 -> Vernon | B43: ='S.J. Delta'!C8 -> SJD | C43: ='S.J. Delta'!D8 -> 15 | D43: ='S.J. Delta'!E8 -> 6 | E43: =D43/C43 -> 0.4 | G43: ='Big 8 Field'!B33 -> Tyler Nielsen | H43: ='Big 8 Field'!C33 -> Sierra | I43: ='Big 8 Field'!D33 -> 15 | J43: ='Big 8 Field'!F33 -> 4 | K43: =J43/I43 -> 0.26666667 | M43: ='Big 8 Field'!B15 -> Kerman Castro Gil | N43: ='Big 8 Field'!C15 -> DVC | O43: ='Big 8 Field'!D15 -> 23 | P43: ='Big 8 Field'!G15 -> 7 | Q43: =P43/O43 -> 0.30434783
A44: ='S.J. Delta'!B13 -> Bria | B44: ='S.J. Delta'!C13 -> SJD | C44: ='S.J. Delta'!D13 -> 20 | D44: ='S.J. Delta'!E13 -> 7 | E44: =D44/C44 -> 0.35 | G44: ='Big 8 Field'!B6 -> Konrad Karandy | H44: ='Big 8 Field'!C6 -> DVC | I44: ='Big 8 Field'!D6 -> 20 | J44: ='Big 8 Field'!F6 -> 5 | K44: =J44/I44 -> 0.25 | M44: ='S.J. Delta'!B4 -> Kennedy | N44: ='S.J. Delta'!C4 -> SJD | O44: ='S.J. Delta'!D4 -> 23 | P44: ='S.J. Delta'!G4 -> 7 | Q44: =P44/O44 -> 0.30434783
A45: ='S.J. Delta'!B14 -> Whipple | B45: ='S.J. Delta'!C14 -> SJD | C45: ='S.J. Delta'!D14 -> 10 | D45: ='S.J. Delta'!E14 -> 3 | E45: =D45/C45 -> 0.3 | G45: ='Big 8 Field'!B46 -> Joe Costa - goalie | H45: ='Big 8 Field'!C46 -> Sierra | I45: ='Big 8 Field'!D46 -> 15 | J45: ='Big 8 Field'!F46 -> 3 | K45: =J45/I45 -> 0.2 | M45: ='Big 8 Field'!B6 -> Konrad Karandy | N45: ='Big 8 Field'!C6 -> DVC | O45: ='Big 8 Field'!D6 -> 20 | P45: ='Big 8 Field'!G6 -> 6 | Q45: =P45/O45 -> 0.3
A46: ='S.J. Delta'!B4 -> Kennedy | B46: ='S.J. Delta'!C4 -> SJD | C46: ='S.J. Delta'!D4 -> 23 | D46: ='S.J. Delta'!E4 -> 5 | E46: =D46/C46 -> 0.2173913 | G46: ='S.J. Delta'!B14 -> Whipple | H46: ='S.J. Delta'!C14 -> SJD | I46: ='S.J. Delta'!D14 -> 10 | J46: ='S.J. Delta'!F14 -> 2 | K46: =J46/I46 -> 0.2 | M46: ='Big 8 Field'!B45 -> Erik Glasky - goalie | N46: ='Big 8 Field'!C45 -> Sierra | O46: ='Big 8 Field'!D45 -> 15 | P46: ='Big 8 Field'!G45 -> 4 | Q46: =P46/O46 -> 0.26666667
A47: ='Big 8 Field'!B36 -> Zach Evenson | B47: ='Big 8 Field'!C36 -> Sierra | C47: ='Big 8 Field'!D36 -> 15 | D47: ='Big 8 Field'!E36 -> 3 | E47: =D47/C47 -> 0.2 | G47: ='Big 8 Field'!B23 -> Mike Fuzie | H47: ='Big 8 Field'!C23 -> MJC | I47: ='Big 8 Field'!D23 -> 5 | J47: ='Big 8 Field'!F23 -> 1 | K47: =J47/I47 -> 0.2 | M47: ='S.J. Delta'!B16 -> Gutierriez | N47: ='S.J. Delta'!C16 -> SJD | O47: ='S.J. Delta'!D16 -> 10 | P47: ='S.J. Delta'!G16 -> 2 | Q47: =P47/O47 -> 0.2
A48: ='Big 8 Field'!B40 -> Earl English | B48: ='Big 8 Field'!C40 -> Sierra | C48: ='Big 8 Field'!D40 -> 15 | D48: ='Big 8 Field'!E40 -> 3 | E48: =D48/C48 -> 0.2 | G48: ='Big 8 Field'!B25 -> Luis Rodriguez | H48: ='Big 8 Field'!C25 -> MJC | I48: ='Big 8 Field'!D25 -> 5 | J48: ='Big 8 Field'!F25 -> 1 | K48: =J48/I48 -> 0.2 | M48: ='Big 8 Field'!B23 -> Mike Fuzie | N48: ='Big 8 Field'!C23 -> MJC | O48: ='Big 8 Field'!D23 -> 5 | P48: ='Big 8 Field'!G23 -> 1 | Q48: =P48/O48 -> 0.2
A49: ='Big 8 Field'!B19 -> Kyle Swisegood | B49: ='Big 8 Field'!C19 -> MJC | C49: ='Big 8 Field'!D19 -> 5 | D49: ='Big 8 Field'!E19 -> 1 | E49: =D49/C49 -> 0.2 | G49: ='Big 8 Field'!B31 -> Bailey Clark | H49: ='Big 8 Field'!C31 -> Sierra | I49: ='Big 8 Field'!D31 -> 15 | J49: ='Big 8 Field'!F31 -> 3 | K49: =J49/I49 -> 0.2 | M49: ='Big 8 Field'!B24 -> Matt Cadrett | N49: ='Big 8 Field'!C24 -> MJC | O49: ='Big 8 Field'!D24 -> 5 | P49: ='Big 8 Field'!G24 -> 1 | Q49: =P49/O49 -> 0.2
A50: ='Big 8 Field'!B26 -> Cameron Sondeno | B50: ='Big 8 Field'!C26 -> MJC | C50: ='Big 8 Field'!D26 -> 5 | D50: ='Big 8 Field'!E26 -> 1 | E50: =D50/C50 -> 0.2 | G50: ='Big 8 Field'!B4 -> Nemanja Pljevancic | H50: ='Big 8 Field'!C4 -> DVC | I50: ='Big 8 Field'!D4 -> 23 | J50: ='Big 8 Field'!F4 -> 4 | K50: =J50/I50 -> 0.17391304 | M50: ='Big 8 Field'!B25 -> Luis Rodriguez | N50: ='Big 8 Field'!C25 -> MJC | O50: ='Big 8 Field'!D25 -> 5 | P50: ='Big 8 Field'!G25 -> 1 | Q50: =P50/O50 -> 0.2
A51: ='Big 8 Field'!B28 -> Marcelino Ramirez | B51: ='Big 8 Field'!C28 -> MJC | C51: ='Big 8 Field'!D28 -> 5 | D51: ='Big 8 Field'!E28 -> 1 | E51: =D51/C51 -> 0.2 | G51: ='Big 8 Field'!B2 -> Paul Siebenaler | H51: ='Big 8 Field'!C2 -> DVC | I51: ='Big 8 Field'!D2 -> 24 | J51: ='Big 8 Field'!F2 -> 4 | K51: =J51/I51 -> 0.16666667 | M51: ='Big 8 Field'!B26 -> Cameron Sondeno | N51: ='Big 8 Field'!C26 -> MJC | O51: ='Big 8 Field'!D26 -> 5 | P51: ='Big 8 Field'!G26 -> 1 | Q51: =P51/O51 -> 0.2
A52: ='Big 8 Field'!B31 -> Bailey Clark | B52: ='Big 8 Field'!C31 -> Sierra | C52: ='Big 8 Field'!D31 -> 15 | D52: ='Big 8 Field'!E31 -> 3 | E52: =D52/C52 -> 0.2 | G52: ='S.J. Delta'!B16 -> Gutierriez | H52: ='S.J. Delta'!C16 -> SJD | I52: ='S.J. Delta'!D16 -> 10 | J52: ='S.J. Delta'!F16 -> 1 | K52: =J52/I52 -> 0.1 | M52: ='Big 8 Field'!B46 -> Joe Costa - goalie | N52: ='Big 8 Field'!C46 -> Sierra | O52: ='Big 8 Field'!D46 -> 15 | P52: ='Big 8 Field'!G46 -> 2 | Q52: =P52/O52 -> 0.13333333
A53: ='S.J. Delta'!B16 -> Gutierriez | B53: ='S.J. Delta'!C16 -> SJD | C53: ='S.J. Delta'!D16 -> 10 | D53: ='S.J. Delta'!E16 -> 1 | E53: =D53/C53 -> 0.1 | G53: ='Big 8 Field'!B40 -> Earl English | H53: ='Big 8 Field'!C40 -> Sierra | I53: ='Big 8 Field'!D40 -> 15 | J53: ='Big 8 Field'!F40 -> 1 | K53: =J53/I53 -> 0.066666667 | M53: ='Big 8 Field'!B40 -> Earl English | N53: ='Big 8 Field'!C40 -> Sierra | O53: ='Big 8 Field'!D40 -> 15 | P53: ='Big 8 Field'!G40 -> 2 | Q53: =P53/O53 -> 0.13333333
A54: ='Big 8 Field'!B34 -> Victor Vorobyev | B54: ='Big 8 Field'!C34 -> Sierra | C54: ='Big 8 Field'!D34 -> 15 | D54: ='Big 8 Field'!E34 -> 1 | E54: =D54/C54 -> 0.066666667 | G54: ='Big 8 Field'!B41 -> Chase Milhous | H54: ='Big 8 Field'!C41 -> Sierra | I54: ='Big 8 Field'!D41 -> 15 | J54: ='Big 8 Field'!F41 -> 1 | K54: =J54/I54 -> 0.066666667 | M54: ='S.J. Delta'!B14 -> Whipple | N54: ='S.J. Delta'!C14 -> SJD | O54: ='S.J. Delta'!D14 -> 10 | P54: ='S.J. Delta'!G14 -> 1 | Q54: =P54/O54 -> 0.1
A55: ='Big 8 Field'!B46 -> Joe Costa - goalie | B55: ='Big 8 Field'!C46 -> Sierra | C55: ='Big 8 Field'!D46 -> 15 | D55: ='Big 8 Field'!E46 -> 1 | E55: =D55/C55 -> 0.066666667 | G55: ='Big 8 Field'!B21 -> CJ Cossey | H55: ='Big 8 Field'!C21 -> MJC | I55: ='Big 8 Field'!D21 -> 5 | J55: ='Big 8 Field'!F21 -> 0 | K55: =J55/I55 -> 0 | M55: ='Big 8 Field'!B31 -> Bailey Clark | N55: ='Big 8 Field'!C31 -> Sierra | O55: ='Big 8 Field'!D31 -> 15 | P55: ='Big 8 Field'!G31 -> 1 | Q55: =P55/O55 -> 0.066666667
A56: ='Big 8 Field'!B23 -> Mike Fuzie | B56: ='Big 8 Field'!C23 -> MJC | C56: ='Big 8 Field'!D23 -> 5 | D56: ='Big 8 Field'!E23 -> 0 | E56: =D56/C56 -> 0 | G56: ='Big 8 Field'!B26 -> Cameron Sondeno | H56: ='Big 8 Field'!C26 -> MJC | I56: ='Big 8 Field'!D26 -> 5 | J56: ='Big 8 Field'!F26 -> 0 | K56: =J56/I56 -> 0 | M56: ='Big 8 Field'!B21 -> CJ Cossey | N56: ='Big 8 Field'!C21 -> MJC | O56: ='Big 8 Field'!D21 -> 5 | P56: ='Big 8 Field'!G21 -> 0 | Q56: =P56/O56 -> 0
A57: ='Big 8 Field'!B25 -> Luis Rodriguez | B57: ='Big 8 Field'!C25 -> MJC | C57: ='Big 8 Field'!D25 -> 5 | D57: ='Big 8 Field'!E25 -> 0 | E57: =D57/C57 -> 0 | G57: ='Big 8 Field'!B27 -> Tyler Tuss | H57: ='Big 8 Field'!C27 -> MJC | I57: ='Big 8 Field'!D27 -> 5 | J57: ='Big 8 Field'!F27 -> 0 | K57: =J57/I57 -> 0 | M57: ='Big 8 Field'!B27 -> Tyler Tuss | N57: ='Big 8 Field'!C27 -> MJC | O57: ='Big 8 Field'!D27 -> 5 | P57: ='Big 8 Field'!G27 -> 0 | Q57: =P57/O57 -> 0
A58: ='Big 8 Field'!B27 -> Tyler Tuss | B58: ='Big 8 Field'!C27 -> MJC | C58: ='Big 8 Field'!D27 -> 5 | D58: ='Big 8 Field'!E27 -> 0 | E58: =D58/C58 -> 0 | G58: ='Big 8 Field'!B29 -> Austin Mejias | H58: ='Big 8 Field'!C29 -> MJC | I58: ='Big 8 Field'!D29 -> 5 | J58: ='Big 8 Field'!F29 -> 0 | K58: =J58/I58 -> 0 | M58: ='Big 8 Field'!B29 -> Austin Mejias | N58: ='Big 8 Field'!C29 -> MJC | O58: ='Big 8 Field'!D29 -> 5 | P58: ='Big 8 Field'!G29 -> 0 | Q58: =P58/O58 -> 0
A59: ='Big 8 Field'!B29 -> Austin Mejias | B59: ='Big 8 Field'!C29 -> MJC | C59: ='Big 8 Field'!D29 -> 5 | D59: ='Big 8 Field'!E29 -> 0 | E59: =D59/C59 -> 0 | G59: ='Big 8 Field'!B34 -> Victor Vorobyev | H59: ='Big 8 Field'!C34 -> Sierra | I59: ='Big 8 Field'!D34 -> 15 | J59: ='Big 8 Field'!F34 -> 0 | K59: =J59/I59 -> 0 | M59: ='Big 8 Field'!B34 -> Victor Vorobyev | N59: ='Big 8 Field'!C34 -> Sierra | O59: ='Big 8 Field'!D34 -> 15 | P59: ='Big 8 Field'!G34 -> 0 | Q59: =P59/O59 -> 0
A60: ='Big 8 Field'!B43 -> Noah Miller | B60: ='Big 8 Field'!C43 -> Sierra | C60: ='Big 8 Field'!D43 -> 15 | D60: ='Big 8 Field'!E43 -> 0 | E60: =D60/C60 -> 0 | G60: ='Big 8 Field'!B36 -> Zach Evenson | H60: ='Big 8 Field'!C36 -> Sierra | I60: ='Big 8 Field'!D36 -> 15 | J60: ='Big 8 Field'!F36 -> 0 | K60: =J60/I60 -> 0 | M60: ='Big 8 Field'!B36 -> Zach Evenson | N60: ='Big 8 Field'!C36 -> Sierra | O60: ='Big 8 Field'!D36 -> 15 | P60: ='Big 8 Field'!G36 -> 0 | Q60: =P60/O60 -> 0
A61: ='Big 8 Field'!B45 -> Erik Glasky - goalie | B61: ='Big 8 Field'!C45 -> Sierra | C61: ='Big 8 Field'!D45 -> 15 | D61: ='Big 8 Field'!E45 -> 0 | E61: =D61/C61 -> 0 | G61: ='Big 8 Field'!B45 -> Erik Glasky - goalie | H61: ='Big 8 Field'!C45 -> Sierra | I61: ='Big 8 Field'!D45 -> 15 | J61: ='Big 8 Field'!F45 -> 0 | K61: =J61/I61 -> 0 | M61: ='Big 8 Field'!B43 -> Noah Miller | N61: ='Big 8 Field'!C43 -> Sierra | O61: ='Big 8 Field'!D43 -> 15 | P61: ='Big 8 Field'!G43 -> 0 | Q61: =P61/O61 -> 0

Sheet Goal Leaders
A2: Name | B2: Team | C2: GP | D2: Goals | E2: G/G | G2: Name | H2: Team | I2: GP | J2: Blocks | K2: B/G
A3: ='Big 8 Goal'!B3 -> Daniel Martin Sanchez | B3: ='Big 8 Goal'!C3 -> DVC | C3: ='Big 8 Goal'!D3 -> 1 | D3: ='Big 8 Goal'!E3 -> 1 | E3: =D3/C3 -> 1 | G3: ='Big 8 Goal'!B2 -> Reed Douyere-Pate | H3: ='Big 8 Goal'!C2 -> DVC | I3: ='Big 8 Goal'!D2 -> 24 | J3: ='Big 8 Goal'!F2 -> 227 | K3: =J3/I3 -> 9.4583333
A4: ='Big 8 Goal'!B7 -> Tommy Baier | B4: ='Big 8 Goal'!C7 -> DVC | C4: ='Big 8 Goal'!D7 -> 1 | D4: ='Big 8 Goal'!E7 -> 1 | E4: =D4/C4 -> 1 | G4: ='Big 8 Goal'!B4 -> Badr Fayyaz | H4: ='Big 8 Goal'!C4 -> MJC | I4: ='Big 8 Goal'!D4 -> 5 | J4: ='Big 8 Goal'!F4 -> 40 | K4: =J4/I4 -> 8
A5: ='Big 8 Goal'!B6 -> Joe Costa | B5: ='Big 8 Goal'!C6 -> Sierra | C5: ='Big 8 Goal'!D6 -> 15 | D5: ='Big 8 Goal'!E6 -> 141 | E5: =D5/C5 -> 9.4 | G5: ='Big 8 Goal'!B5 -> Erik Glasky | H5: ='Big 8 Goal'!C5 -> Sierra | I5: ='Big 8 Goal'!D5 -> 15 | J5: ='Big 8 Goal'!F5 -> 86 | K5: =J5/I5 -> 5.7333333
A6: ='Big 8 Goal'!B5 -> Erik Glasky | B6: ='Big 8 Goal'!C5 -> Sierra | C6: ='Big 8 Goal'!D5 -> 15 | D6: ='Big 8 Goal'!E5 -> 161 | E6: =D6/C6 -> 10.733333 | G6: ='Big 8 Goal'!B6 -> Joe Costa | H6: ='Big 8 Goal'!C6 -> Sierra | I6: ='Big 8 Goal'!D6 -> 15 | J6: ='Big 8 Goal'!F6 -> 61 | K6: =J6/I6 -> 4.0666667
A7: ='Big 8 Goal'!B4 -> Badr Fayyaz | B7: ='Big 8 Goal'!C4 -> MJC | C7: ='Big 8 Goal'!D4 -> 5 | D7: ='Big 8 Goal'!E4 -> 54 | E7: =D7/C7 -> 10.8 | G7: ='Big 8 Goal'!B3 -> Daniel Martin Sanchez | H7: ='Big 8 Goal'!C3 -> DVC | I7: ='Big 8 Goal'!D3 -> 1 | J7: ='Big 8 Goal'!F3 -> 2 | K7: =J7/I7 -> 2
A8: ='Big 8 Goal'!B2 -> Reed Douyere-Pate | B8: ='Big 8 Goal'!C2 -> DVC | C8: ='Big 8 Goal'!D2 -> 24 | D8: ='Big 8 Goal'!E2 -> 271 | E8: =D8/C8 -> 11.291667 | G8: ='Big 8 Goal'!B7 -> Tommy Baier | H8: ='Big 8 Goal'!C7 -> DVC | I8: ='Big 8 Goal'!D7 -> 1 | J8: ='Big 8 Goal'!F7 -> 1 | K8: =J8/I8 -> 1

Sheet Big 8 Field
A1: Cap # | B1: Athlete | C1: School | D1: GP | E1: GLS | F1: AST | G1: STL | H1: G/G | I1: A/G | J1: S/G
A2: =DVC!A3 -> 2 | B2: =DVC!B3 -> Paul Siebenaler | C2: =DVC!C3 -> DVC | D2: =DVC!D3 -> 24 | E2: =DVC!E3 -> 10 | F2: =DVC!F3 -> 4 | G2: =DVC!G3 -> 17 | H2: =DVC!H3 -> 0.41666667 | ... J2: =DVC!J3 -> 0.70833333
A3: =DVC!A4 -> 3 | B3: =DVC!B4 -> Zac Hudson | C3: =DVC!C4 -> DVC | D3: =DVC!D4 -> 24 | E3: =DVC!E4 -> 35 | F3: =DVC!F4 -> 8 | G3: =DVC!G4 -> 15 | H3: =DVC!H4 -> 1.4583333 | ... J3: =DVC!J4 -> 0.625
A4: =DVC!A5 -> 4 | B4: =DVC!B5 -> Nemanja Pljevancic | C4: =DVC!C5 -> DVC | D4: =DVC!D5 -> 23 | E4: =DVC!E5 -> 21 | F4: =DVC!F5 -> 4 | G4: =DVC!G5 -> 8 | H4: =DVC!H5 -> 0.91304348 | ... J4: =DVC!J5 -> 0.34782609
A5: =DVC!A6 -> 5 | B5: =DVC!B6 -> Bryce Reade | C5: =DVC!C6 -> DVC | D5: =DVC!D6 -> 24 | E5: =DVC!E6 -> 13 | F5: =DVC!F6 -> 7 | G5: =DVC!G6 -> 15 | H5: =DVC!H6 -> 0.54166667 | ... J5: =DVC!J6 -> 0.625
A6: =DVC!A7 -> 6 | B6: =DVC!B7 -> Konrad Karandy | C6: =DVC!C7 -> DVC | D6: =DVC!D7 -> 20 | E6: =DVC!E7 -> 8 | F6: =DVC!F7 -> 5 | G6: =DVC!G7 -> 6 | H6: =DVC!H7 -> 0.4 | ... J6: =DVC!J7 -> 0.3
A7: =DVC!A8 -> 7 | B7: =DVC!B8 -> Daniel Martin Sanchez | C7: =DVC!C8 -> DVC | D7: =DVC!D8 -> 24 | E7: =DVC!E8 -> 15 | F7: =DVC!F8 -> 16 | G7: =DVC!G8 -> 14 | H7: =DVC!H8 -> 0.625 | ... J7: =DVC!J8 -> 0.58333333
A8: =DVC!A9 -> 8 | B8: =DVC!B9 -> Vincent Chapey | C8: =DVC!C9 -> DVC | D8: =DVC!D9 -> 24 | E8: =DVC!E9 -> 16 | F8: =DVC!F9 -> 8 | G8: =DVC!G9 -> 14 | H8: =DVC!H9 -> 0.66666667 | ... J8: =DVC!J9 -> 0.58333333
A9: =DVC!A10 -> 9 | B9: =DVC!B10 -> Andras Telegdy | C9: =DVC!C10 -> DVC | D9: =DVC!D10 -> 23 | E9: =DVC!E10 -> 32 | F9: =DVC!F10 -> 15 | G9: =DVC!G10 -> 21 | H9: =DVC!H10 -> 1.3913043 | ... J9: =DVC!J10 -> 0.91304348
A10: =DVC!A11 -> 10 | B10: =DVC!B11 -> Aldric Terral | C10: =DVC!C11 -> DVC | D10: =DVC!D11 -> 24 | E10: =DVC!E11 -> 14 | F10: =DVC!F11 -> 8 | G10: =DVC!G11 -> 12 | H10: =DVC!H11 -> 0.58333333 | ... J10: =DVC!J11 -> 0.5
A11: =DVC!A12 -> 11 | B11: =DVC!B12 -> Lucas Criado Martinez | C11: =DVC!C12 -> DVC | D11: =DVC!D12 -> 24 | E11: =DVC!E12 -> 55 | F11: =DVC!F12 -> 16 | G11: =DVC!G12 -> 19 | H11: =DVC!H12 -> 2.2916667 | ... J11: =DVC!J12 -> 0.79166667
A12: =DVC!A13 -> 12 | B12: =DVC!B13 -> Felipe Alterthum | C12: =DVC!C13 -> DVC | D12: =DVC!D13 -> 24 | E12: =DVC!E13 -> 41 | F12: =DVC!F13 -> 17 | G12: =DVC!G13 -> 26 | H12: =DVC!H13 -> 1.7083333 | ... J12: =DVC!J13 -> 1.0833333
A13: =DVC!A14 -> 13 | B13: =DVC!B14 -> Roy Campbell | C13: =DVC!C14 -> DVC | D13: =DVC!D14 -> 24 | E13: =DVC!E14 -> 22 | F13: =DVC!F14 -> 8 | G13: =DVC!G14 -> 21 | H13: =DVC!H14 -> 0.91666667 | ... J13: =DVC!J14 -> 0.875
... A15: =DVC!A16 -> 15 | B15: =DVC!B16 -> Kerman Castro Gil | C15: =DVC!C16 -> DVC | D15: =DVC!D16 -> 23 | E15: =DVC!E16 -> 10 | F15: =DVC!F16 -> 7 | G15: =DVC!G16 -> 7 | H15: =DVC!H16 -> 0.43478261 | ... J15: =DVC!J16 -> 0.30434783
A16: =DVC!A18 -> 17 | B16: =DVC!B18 -> Drew Pitcher | C16: =DVC!C18 -> DVC | D16: =DVC!D18 -> 24 | E16: =DVC!E18 -> 21 | F16: =DVC!F18 -> 7 | G16: =DVC!G18 -> 22 | H16: =DVC!H18 -> 0.875 | ... J16: =DVC!J18 -> 0.91666667
A17: =Modesto!A3 -> 2 | B17: =Modesto!B3 -> Chad Nunes | C17: =Modesto!C3 -> MJC | D17: =Modesto!D3 -> 5 | E17: =Modesto!E3 -> 10 | F17: =Modesto!F3 -> 2 | G17: =Modesto!G3 -> 4 | H17: =Modesto!H3 -> 2 | ... J17: =Modesto!J3 -> 0.8
A18: =Modesto!A4 -> 3 | B18: =Modesto!B4 -> Mitchell Moreda | C18: =Modesto!C4 -> MJC | D18: =Modesto!D4 -> 5 | E18: =Modesto!E4 -> 11 | F18: =Modesto!F4 -> 9 | G18: =Modesto!G4 -> 6 | H18: =Modesto!H4 -> 2.2 | ... J18: =Modesto!J4 -> 1.2
A19: =Modesto!A5 -> 5 | B19: =Modesto!B5 -> Kyle Swisegood | C19: =Modesto!C5 -> MJC | D19: =Modesto!D5 -> 5 | E19: =Modesto!E5 -> 1 | F19: =Modesto!F5 -> 2 | G19: =Modesto!G5 -> 8 | H19: =Modesto!H5 -> 0.2 | ... J19: =Modesto!J5 -> 1.6
A20: =Modesto!A6 -> 6 | B20: =Modesto!B6 -> Blake Philips | C20: =Modesto!C6 -> MJC | D20: =Modesto!D6 -> 5 | E20: =Modesto!E6 -> 18 | F20: =Modesto!F6 -> 2 | G20: =Modesto!G6 -> 2 | H20: =Modesto!H6 -> 3.6 | ... J20: =Modesto!J6 -> 0.4
A21: =Modesto!A7 -> 7 | B21: =Modesto!B7 -> CJ Cossey | C21: =Modesto!C7 -> MJC | D21: =Modesto!D7 -> 5 | E21: =Modesto!E7 -> 6 | F21: =Modesto!F7 -> 0 | G21: =Modesto!G7 -> 0 | H21: =Modesto!H7 -> 1.2 | ... J21: =Modesto!J7 -> 0
A22: =Modesto!A8 -> 8 | B22: =Modesto!B8 -> Kody Kamastra | C22: =Modesto!C8 -> MJC | D22: =Modesto!D8 -> 5 | E22: =Modesto!E8 -> 5 | F22: =Modesto!F8 -> 6 | G22: =Modesto!G8 -> 8 | H22: =Modesto!H8 -> 1 | ... J22: =Modesto!J8 -> 1.6
A23: =Modesto!A9 -> 9 | B23: =Modesto!B9 -> Mike Fuzie | C23: =Modesto!C9 -> MJC | D23: =Modesto!D9 -> 5 | E23: =Modesto!E9 -> 0 | F23: =Modesto!F9 -> 1 | G23: =Modesto!G9 -> 1 | H23: =Modesto!H9 -> 0 | ... J23: =Modesto!J9 -> 0.2
A24: =Modesto!A10 -> 10 | B24: =Modesto!B10 -> Matt Cadrett | C24: =Modesto!C10 -> MJC | D24: =Modesto!D10 -> 5 | E24: =Modesto!E10 -> 3 | F24: =Modesto!F10 -> 5 | G24: =Modesto!G10 -> 1 | H24: =Modesto!H10 -> 0.6 | ... J24: =Modesto!J10 -> 0.2
A25: =Modesto!A11 -> 11 | B25: =Modesto!B11 -> Luis Rodriguez | C25: =Modesto!C11 -> MJC | D25: =Modesto!D11 -> 5 | E25: =Modesto!E11 -> 0 | F25: =Modesto!F11 -> 1 | G25: =Modesto!G11 -> 1 | H25: =Modesto!H11 -> 0 | ... J25: =Modesto!J11 -> 0.2
A26: =Modesto!A12 -> 12 | B26: =Modesto!B12 -> Cameron Sondeno | C26: =Modesto!C12 -> MJC | D26: =Modesto!D12 -> 5 | E26: =Modesto!E12 -> 1 | F26: =Modesto!F12 -> 0 | G26: =Modesto!G12 -> 1 | H26: =Modesto!H12 -> 0.2 | ... J26: =Modesto!J12 -> 0.2
A27: =Modesto!A13 -> 13 | B27: =Modesto!B13 -> Tyler Tuss | C27: =Modesto!C13 -> MJC | D27: =Modesto!D13 -> 5 | E27: =Modesto!E13 -> 0 | F27: =Modesto!F13 -> 0 | G27: =Modesto!G13 -> 0 | H27: =Modesto!H13 -> 0 | ... J27: =Modesto!J13 -> 0
A28: =Modesto!A14 -> 14 | B28: =Modesto!B14 -> Marcelino Ramirez | C28: =Modesto!C14 -> MJC | D28: =Modesto!D14 -> 5 | E28: =Modesto!E14 -> 1 | F28: =Modesto!F14 -> 2 | G28: =Modesto!G14 -> 3 | H28: =Modesto!H14 -> 0.2 | ... J28: =Modesto!J14 -> 0.6
A29: =Modesto!A15 -> 15 | B29: =Modesto!B15 -> Austin Mejias | C29: =Modesto!C15 -> MJC | D29: =Modesto!D15 -> 5 | E29: =Modesto!E15 -> 0 | F29: =Modesto!F15 -> 0 | G29: =Modesto!G15 -> 0 | H29: =Modesto!H15 -> 0 | ... J29: =Modesto!J15 -> 0
A30: =Sierra!A3 -> 4 | B30: =Sierra!B3 -> Tyler Tovatt | C30: =Sierra!C3 -> Sierra | D30: =Sierra!D3 -> 15 | E30: =Sierra!E3 -> 7 | F30: =Sierra!F3 -> 6 | G30: =Sierra!G3 -> 7 | H30: =Sierra!H3 -> 0.46666667 | ... J30: =Sierra!J3 -> 0.46666667
A31: =Sierra!A4 -> 5 | B31: =Sierra!B4 -> Bailey Clark | C31: =Sierra!C4 -> Sierra | D31: =Sierra!D4 -> 15 | E31: =Sierra!E4 -> 3 | F31: =Sierra!F4 -> 3 | G31: =Sierra!G4 -> 1 | H31: =Sierra!H4 -> 0.2 | ... J31: =Sierra!J4 -> 0.066666667
A32: =Sierra!A5 -> 6 | B32: =Sierra!B5 -> Kyle Bare | C32: =Sierra!C5 -> Sierra | D32: =Sierra!D5 -> 15 | E32: =Sierra!E5 -> 15 | F32: =Sierra!F5 -> 15 | G32: =Sierra!G5 -> 8 | H32: =Sierra!H5 -> 1 | ... J32: =Sierra!J5 -> 0.53333333
A33: =Sierra!A6 -> 7 | B33: =Sierra!B6 -> Tyler Nielsen | C33: =Sierra!C6 -> Sierra | D33: =Sierra!D6 -> 15 | E33: =Sierra!E6 -> 14 | F33: =Sierra!F6 -> 4 | G33: =Sierra!G6 -> 8 | H33: =Sierra!H6 -> 0.93333333 | ... J33: =Sierra!J6 -> 0.53333333
A34: =Sierra!A7 -> 8 | B34: =Sierra!B7 -> Victor Vorobyev | C34: =Sierra!C7 -> Sierra | D34: =Sierra!D7 -> 15 | E34: =Sierra!E7 -> 1 | F34: =Sierra!F7 -> 0 | G34: =Sierra!G7 -> 0 | H34: =Sierra!H7 -> 0.066666667 | ... J34: =Sierra!J7 -> 0
A35: =Sierra!A8 -> 9 | B35: =Sierra!B8 -> Austin Dyer | C35: =Sierra!C8 -> Sierra | D35: =Sierra!D8 -> 15 | E35: =Sierra!E8 -> 28 | F35: =Sierra!F8 -> 8 | G35: =Sierra!G8 -> 14 | H35: =Sierra!H8 -> 1.8666667 | ... J35: =Sierra!J8 -> 0.93333333
A36: =Sierra!A9 -> 10 | B36: =Sierra!B9 -> Zach Evenson | C36: =Sierra!C9 -> Sierra | D36: =Sierra!D9 -> 15 | E36: =Sierra!E9 -> 3 | F36: =Sierra!F9 -> 0 | G36: =Sierra!G9 -> 0 | H36: =Sierra!H9 -> 0.2 | ... J36: =Sierra!J9 -> 0
A37: =Sierra!A10 -> 11 | B37: =Sierra!B10 -> Heath Faulkner | C37: =Sierra!C10 -> Sierra | D37: =Sierra!D10 -> 15 | E37: =Sierra!E10 -> 23 | F37: =Sierra!F10 -> 11 | G37: =Sierra!G10 -> 17 | H37: =Sierra!H10 -> 1.5333333 | ... J37: =Sierra!J10 -> 1.1333333
A38: =Sierra!A11 -> 12 | B38: =Sierra!B11 -> Adam Rodgers | C38: =Sierra!C11 -> Sierra | D38: =Sierra!D11 -> 15 | E38: =Sierra!E11 -> 10 | F38: =Sierra!F11 -> 7 | G38: =Sierra!G11 -> 7 | H38: =Sierra!H11 -> 0.66666667 | ... J38: =Sierra!J11 -> 0.46666667
A39: =Sierra!A12 -> 15 | B39: =Sierra!B12 -> Michael Crouch | C39: =Sierra!C12 -> Sierra | D39: =Sierra!D12 -> 15 | E39: =Sierra!E12 -> 7 | F39: =Sierra!F12 -> 5 | G39: =Sierra!G12 -> 5 | H39: =Sierra!H12 -> 0.46666667 | ... J39: =Sierra!J12 -> 0.33333333
A40: =Sierra!A13 -> 16 | B40: =Sierra!B13 -> Earl English | C40: =Sierra!C13 -> Sierra | D40: =Sierra!D13 -> 15 | E40: =Sierra!E13 -> 3 | F40: =Sierra!F13 -> 1 | G40: =Sierra!G13 -> 2 | H40: =Sierra!H13 -> 0.2 | ... J40: =Sierra!J13 -> 0.13333333
A41: =Sierra!A14 -> 17 | B41: =Sierra!B14 -> Chase Milhous | C41: =Sierra!C14 -> Sierra | D41: =Sierra!D14 -> 15 | E41: =Sierra!E14 -> 19 | F41: =Sierra!F14 -> 1 | G41: =Sierra!G14 -> 9 | H41: =Sierra!H14 -> 1.2666667 | ... J41: =Sierra!J14 -> 0.6
... A46: =Sierra!A19 -> 1A | B46: =Sierra!B19 -> Joe Costa - goalie | C46: =Sierra!C19 -> Sierra | D46: =Sierra!D19 -> 15 | E46: =Sierra!E19 -> 1 | F46: =Sierra!F19 -> 3 | G46: =Sierra!G19 -> 2 | H46: =Sierra!H19 -> 0.066666667 | ... J46: =Sierra!J19 -> 0.13333333

Sheet Big 8 Goal
A1: Cap # | B1: Athlete | C1: School | D1: GP | E1: GA | F1: BLK | G1: GA/G | H1: BL/G
A2: =DVC!A32 -> 1 | B2: =DVC!B32 -> Reed Douyere-Pate | C2: =DVC!C32 -> DVC | D2: =DVC!D32 -> 24 | E2: =DVC!E32 -> 271 | F2: =DVC!F32 -> 227 | G2: =E2/D2 -> 11.291667 | H2: =F2/D2 -> 9.4583333
A3: =DVC!A33 -> 0 | B3: =DVC!B33 -> Daniel Martin Sanchez | C3: =DVC!C33 -> DVC | D3: =DVC!D33 -> 1 | E3: =DVC!E33 -> 1 | F3: =DVC!F33 -> 2 | G3: =E3/D3 -> 1 | H3: =F3/D3 -> 2
A4: =Modesto!A32 -> 1 | B4: =Modesto!B32 -> Badr Fayyaz | C4: =Modesto!C32 -> MJC | D4: =Modesto!D32 -> 5 | E4: =Modesto!E32 -> 54 | F4: =Modesto!F32 -> 40 | G4: =E4/D4 -> 10.8 | H4: =F4/D4 -> 8
A5: =Sierra!A31 -> 1 | B5: =Sierra!B31 -> Erik Glasky | C5: =Sierra!C31 -> Sierra | D5: =Sierra!D31 -> 15 | E5: =Sierra!E31 -> 161 | F5: =Sierra!F31 -> 86 | G5: =E5/D5 -> 10.733333 | H5: =F5/D5 -> 5.7333333
A6: =Sierra!A32 -> 1A | B6: =Sierra!B32 -> Joe Costa | C6: =Sierra!C32 -> Sierra | D6: =Sierra!D32 -> 15 | E6: =Sierra!E32 -> 141 | F6: =Sierra!F32 -> 61 | G6: =E6/D6 -> 9.4 | H6: =F6/D6 -> 4.0666667
B7: =DVC!B34 -> Tommy Baier | C7: =DVC!C34 -> DVC | D7: =DVC!D34 -> 1 | E7: =DVC!E34 -> 1 | F7: =DVC!F34 -> 1 | G7: =E7/D7 -> 1 | H7: =F7/D7 -> 1

Sheet ARC

Sheet DVC
A1: FIELD STATS
A2: Cap # | B2: Athlete | C2: School | D2: GP | E2: GLS | F2: AST | G2: STL | H2: G/G | I2: A/G | J2: S/G
A3: 2 | B3: Paul Siebenaler | C3: DVC | D3: 24 | E3: 10 | F3: 4 | G3: 17 | H3: =E3/D3 -> 0.41666667 | I3: =F3/D3 -> 0.16666667 | J3: =G3/D3 -> 0.70833333
A4: 3 | B4: Zac Hudson | C4: DVC | D4: 24 | E4: 35 | F4: 8 | G4: 15 | H4: =E4/D4 -> 1.4583333 | I4: =F4/D4 -> 0.33333333 | J4: =G4/D4 -> 0.625
A5: 4 | B5: Nemanja Pljevancic | C5: DVC | D5: 23 | E5: 21 | F5: 4 | G5: 8 | H5: =E5/D5 -> 0.91304348 | I5: =F5/D5 -> 0.17391304 | J5: =G5/D5 -> 0.34782609
A6: 5 | B6: Bryce Reade | C6: DVC | D6: 24 | E6: 13 | F6: 7 | G6: 15 | H6: =E6/D6 -> 0.54166667 | I6: =F6/D6 -> 0.29166667 | J6: =G6/D6 -> 0.625
A7: 6 | B7: Konrad Karandy | C7: DVC | D7: 20 | E7: 8 | F7: 5 | G7: 6 | H7: =E7/D7 -> 0.4 | I7: =F7/D7 -> 0.25 | J7: =G7/D7 -> 0.3
A8: 7 | B8: Daniel Martin Sanchez | C8: DVC | D8: 24 | E8: 15 | F8: 16 | G8: 14 | H8: =E8/D8 -> 0.625 | I8: =F8/D8 -> 0.66666667 | J8: =G8/D8 -> 0.58333333
A9: 8 | B9: Vincent Chapey | C9: DVC | D9: 24 | E9: 16 | F9: 8 | G9: 14 | H9: =E9/D9 -> 0.66666667 | I9: =F9/D9 -> 0.33333333 | J9: =G9/D9 -> 0.58333333
A10: 9 | B10: Andras Telegdy | C10: DVC | D10: 23 | E10: 32 | F10: 15 | G10: 21 | H10: =E10/D10 -> 1.3913043 | I10: =F10/D10 -> 0.65217391 | J10: =G10/D10 -> 0.91304348
A11: 10 | B11: Aldric Terral | C11: DVC | D11: 24 | E11: 14 | F11: 8 | G11: 12 | H11: =E11/D11 -> 0.58333333 | I11: =F11/D11 -> 0.33333333 | J11: =G11/D11 -> 0.5
A12: 11 | B12: Lucas Criado Martinez | C12: DVC | D12: 24 | E12: 55 | F12: 16 | G12: 19 | H12: =E12/D12 -> 2.2916667 | I12: =F12/D12 -> 0.66666667 | J12: =G12/D12 -> 0.79166667
A13: 12 | B13: Felipe Alterthum | C13: DVC | D13: 24 | E13: 41 | F13: 17 | G13: 26 | H13: =E13/D13 -> 1.7083333 | I13: =F13/D13 -> 0.70833333 | J13: =G13/D13 -> 1.0833333
A14: 13 | B14: Roy Campbell | C14: DVC | D14: 24 | E14: 22 | F14: 8 | G14: 21 | H14: =E14/D14 -> 0.91666667 | I14: =F14/D14 -> 0.33333333 | J14: =G14/D14 -> 0.875
... A16: 15 | B16: Kerman Castro Gil | C16: DVC | D16: 23 | E16: 10 | F16: 7 | G16: 7 | H16: =E16/D16 -> 0.43478261 | I16: =F16/D16 -> 0.30434783 | J16: =G16/D16 -> 0.30434783
A17: 16 | H17: =E17/D17 -> #DIV/0! | I17: =F17/D17 -> #DIV/0! | J17: =G17/D17 -> #DIV/0!
A18: 17 | B18: Drew Pitcher | C18: DVC | D18: 24 | E18: 21 | F18: 7 | G18: 22 | H18: =E18/D18 -> 0.875 | I18: =F18/D18 -> 0.29166667 | J18: =G18/D18 -> 0.91666667
H19: =E19/D19 -> #DIV/0! | I19: =F19/D19 -> #DIV/0! | J19: =G19/D19 -> #DIV/0!
H20: =E20/D20 -> #DIV/0! | I20: =F20/D20 -> #DIV/0! | J20: =G20/D20 -> #DIV/0!
H21: =E21/D21 -> #DIV/0! | I21: =F21/D21 -> #DIV/0! | J21: =G21/D21 -> #DIV/0!
H22: =E22/D22 -> #DIV/0! | I22: =F22/D22 -> #DIV/0! | J22: =G22/D22 -> #DIV/0!
H23: =E23/D23 -> #DIV/0! | I23: =F23/D23 -> #DIV/0! | J23: =G23/D23 -> #DIV/0!
H24: =E24/D24 -> #DIV/0! | I24: =F24/D24 -> #DIV/0! | J24: =G24/D24 -> #DIV/0!
H25: =E25/D25 -> #DIV/0! | I25: =F25/D25 -> #DIV/0! | J25: =G25/D25 -> #DIV/0!
H26: =E26/D26 -> #DIV/0! | I26: =F26/D26 -> #DIV/0! | J26: =G26/D26 -> #DIV/0!
H27: =E27/D27 -> #DIV/0! | I27: =F27/D27 -> #DIV/0! | J27: =G27/D27 -> #DIV/0!
H28: =E28/D28 -> #DIV/0! | I28: =F28/D28 -> #DIV/0! | J28: =G28/D28 -> #DIV/0!
A30: GOALIE STATS
A31: Cap # | B31: Athlete | C31: School | D31: GP | E31: GA | F31: BLK | G31: GA/G | H31: BL/G
A32: 1 | B32: Reed Douyere-Pate | C32: DVC | D32: 24 | E32: 271 | F32: 227 | G32: =E32/D32 -> 11.291667 | H32: =F32/D32 -> 9.4583333
B33: Daniel Martin Sanchez | C33: DVC | D33: 1 | E33: 1 | F33: 2 | G33: =E33/D33 -> 1 | H33: =F33/D33 -> 2
B34: Tommy Baier | C34: DVC | D34: 1 | E34: 1 | F34: 1 | G34: =E34/D34 -> 1 | H34: =F34/D34 -> 1
G35: =E35/D35 -> #DIV/0! | H35: =F35/D35 -> #DIV/0!

Sheet S.J. Delta
A1: FIELD STATS
A2: Cap # | B2: Athlete | C2: School | D2: GP | E2: GLS | F2: AST | G2: STL | H2: G/G | I2: A/G | J2: S/G
B3: Revay | C3: SJD | D3: ='S.J. Delta 2'!H43 -> 23 | E3: ='S.J. Delta 2'!I39 -> 234 | F3: ='S.J. Delta 2'!J$39 -> 17 | G3: ='S.J. Delta 2'!$K$39 -> 16 | H3: =E3/D3 -> 10.173913 | I3: =F3/D3 -> 0.73913043 | J3: =G3/D3 -> 0.69565217
B4: Kennedy | C4: SJD | D4: ='S.J. Delta 2'!$L$43 -> 23 | E4: ='S.J. Delta 2'!$L$39 -> 5 | F4: ='S.J. Delta 2'!$M$39 -> 9 | G4: ='S.J. Delta 2'!$N$39 -> 7 | H4: =E4/D4 -> 0.2173913 | I4: =F4/D4 -> 0.39130435 | J4: =G4/D4 -> 0.30434783
B5: Morrissey | C5: SJD | D5: ='S.J. Delta 2'!$P$43 -> 23 | E5: ='S.J. Delta 2'!$P$39 -> 60 | F5: ='S.J. Delta 2'!$Q$39 -> 24 | G5: ='S.J. Delta 2'!$R$39 -> 19 | H5: =E5/D5 -> 2.6086957 | I5: =F5/D5 -> 1.0434783 | J5: =G5/D5 -> 0.82608696
B6: Dornbush | C6: SJD | D6: ='S.J. Delta 2'!$T$43 -> 21 | E6: ='S.J. Delta 2'!$T$39 -> 21 | F6: ='S.J. Delta 2'!$U$39 -> 23 | G6: ='S.J. Delta 2'!$V$39 -> 11 | H6: =E6/D6 -> 1 | I6: =F6/D6 -> 1.0952381 | J6: =G6/D6 -> 0.52380952
B7: Halva | C7: SJD | D7: ='S.J. Delta 2'!$X$43 -> 21 | E7: ='S.J. Delta 2'!$X$39 -> 57 | F7: ='S.J. Delta 2'!$Y$39 -> 43 | G7: ='S.J. Delta 2'!$Z$39 -> 64 | H7: =E7/D7 -> 2.7142857 | I7: =F7/D7 -> 2.047619 | J7: =G7/D7 -> 3.047619
B8: Vernon | C8: SJD | D8: ='S.J. Delta 2'!$AB$43 -> 15 | E8: ='S.J. Delta 2'!$AB$39 -> 6 | F8: ='S.J. Delta 2'!$AC$39 -> 17 | G8: ='S.J. Delta 2'!$AD$39 -> 17 | H8: =E8/D8 -> 0.4 | I8: =F8/D8 -> 1.1333333 | J8: =G8/D8 -> 1.1333333
B9: Beutel | C9: SJD | D9: ='S.J. Delta 2'!$AF$43 -> 23 | E9: ='S.J. Delta 2'!$AF$39 -> 33 | F9: ='S.J. Delta 2'!$AK$39 -> 30 | G9: ='S.J. Delta 2'!$AL$39 -> 29 | H9: =E9/D9 -> 1.4347826 | I9: =F9/D9 -> 1.3043478 | J9: =G9/D9 -> 1.2608696
B10: Puccinelli | C10: SJD | D10: ='S.J. Delta 2'!$AJ$43 -> 22 | E10: ='S.J. Delta 2'!$AJ$39 -> 58 | F10: ='S.J. Delta 2'!$AK$39 -> 30 | G10: ='S.J. Delta 2'!$AL$39 -> 29 | H10: =E10/D10 -> 2.6363636 | I10: =F10/D10 -> 1.3636364 | J10: =G10/D10 -> 1.3181818
B11: Williamson | C11: SJD | D11: ='S.J. Delta 2'!$AN$43 -> 21 | E11: ='S.J. Delta 2'!$AN$39 -> 9 | F11: ='S.J. Delta 2'!$AO$39 -> 17 | G11: ='S.J. Delta 2'!$AP$39 -> 15 | H11: =E11/D11 -> 0.42857143 | I11: =F11/D11 -> 0.80952381 | J11: =G11/D11 -> 0.71428571
B12: Torres | C12: SJD | D12: ='S.J. Delta 2'!$AR$43 -> 22 | E12: ='S.J. Delta 2'!$AR$39 -> 19 | F12: ='S.J. Delta 2'!$AS$39 -> 16 | G12: ='S.J. Delta 2'!$AT$39 -> 29 | H12: =E12/D12 -> 0.86363636 | I12: =F12/D12 -> 0.72727273 | J12: =G12/D12 -> 1.3181818
B13: Bria | C13: SJD | D13: ='S.J. Delta 2'!$AV$43 -> 20 | E13: ='S.J. Delta 2'!$AV$39 -> 7 | F13: ='S.J. Delta 2'!$AW$39 -> 10 | G13: ='S.J. Delta 2'!$AX$39 -> 9 | H13: =E13/D13 -> 0.35 | I13: =F13/D13 -> 0.5 | J13: =G13/D13 -> 0.45
B14: Whipple | C14: SJD | D14: ='S.J. Delta 2'!$AZ$43 -> 10 | E14: ='S.J. Delta 2'!$AZ$39 -> 3 | F14: ='S.J. Delta 2'!$BA$39 -> 2 | G14: ='S.J. Delta 2'!$BB$39 -> 1 | H14: =E14/D14 -> 0.3 | I14: =F14/D14 -> 0.2 | J14: =G14/D14 -> 0.1
B15: Richey | C15: SJD | D15: ='S.J. Delta 2'!$BD$43 -> 22 | E15: ='S.J. Delta 2'!$BD$39 -> 14 | F15: ='S.J. Delta 2'!$BE$39 -> 14 | G15: ='S.J. Delta 2'!$BF$39 -> 10 | H15: =E15/D15 -> 0.63636364 | I15: =F15/D15 -> 0.63636364 | J15: =G15/D15 -> 0.45454545
B16: Gutierriez | C16: SJD | D16: ='S.J. Delta 2'!$BH$43 -> 10 | E16: ='S.J. Delta 2'!$BH$39 -> 1 | F16: ='S.J. Delta 2'!$BI$39 -> 1 | G16: ='S.J. Delta 2'!$BJ$39 -> 2 | H16: =E16/D16 -> 0.1 | I16: =F16/D16 -> 0.1 | J16: =G16/D16 -> 0.2
A25: GOALIE STATS
A26: Cap # | B26: Athlete | C26: School | D26: GP | E26: GA | F26: BLK | G26: GA/G | H26: BL/G

Sheet S.J. Delta 2
H1: 1 | L1: 2 | P1: 3 | T1: 4 | X1: 5 | AB1: 6 | AF1: 7 | AJ1: 8 | AN1: 9 | AR1: 11 | AV1: 14 | AZ1: 15 | BD1: 17 | BH1: 18
H2: Revay | L2: Kennedy | P2: Morrissey | T2: Dornbush | X2: Halva | AB2: Vernon | AF2: Beutel | AJ2: Puccinelli | AN2: Williamson | AR2: Torres | AV2: Bria | AZ2: Whipple | BD2: Richey | BH2: Gutierriez
A3: Record | D3: Score | G3: Versus | H3: Saves | I3: Goals | J3: Assists | K3: Steals | L3: Goals | M3: Assists | N3: Steals | O3: KO/P + | P3: Goals | Q3: Assists | R3: Steals | S3: KO/P + | T3: Goals | U3: Assists | V3: Steals | W3: KO/P + | X3: Goals | Y3: Assists | Z3: Steals | AA3: KO/P + | AB3: Goals | AC3: Assists | AD3: Steals | AE3: KO/P + | AF3: Goals | AG3: Assists | AH3: Steals | AI3: KO/P + | AJ3: Goals | AK3: Assists | AL3: Steals | AM3: KO/P + | AN3: Goals | AO3: Assists | AP3: Steals | AQ3: KO/P + | AR3: Goals | AS3: Assists | AT3: Steals | AU3: KO/P + | AV3: Goals | AW3: Assists | AX3: Steals | AY3: KO/P + | AZ3: Goals | BA3: Assists | BB3: Steals | BC3: KO/P + | BD3: Goals | BE3: Assists | BF3: Steals | BG3: KO/P + | BH3: Goals | BI3: Assists | BJ3: Steals | BK3: KO/P +
A4: 0 | B4: - | C4: 1 | D4: 4 | E4: - | F4: 11 | G4: Riverside | H4: 11 | I4: 11 | J4: 0 | K4: 2 | L4: 0 | M4: 0 | N4: 0 | O4: 0 | P4: 1 | Q4: 0 | R4: 0 | S4: 6 | T4: 1 | U4: 0 | V4: 0 | W4: 1 | X4: 0 | Y4: 1 | Z4: 2 | AA4: 1 | AB4: 0 | AC4: 1 | AD4: 2 | AE4: 0 | AF4: 0 | AG4: 0 | AH4: 0 | AI4: 1 | AJ4: 0 | AK4: 2 | AL4: 1 | AM4: 0 | AN4: 0 | AO4: 0 | AP4: 0 | AQ4: 1 | AR4: 2 | AS4: 0 | AT4: 2 | AU4: 0 | AV4: 0 | AW4: 0 | AX4: 0 | AY4: 0 | AZ4: 0 | BA4: 0 | BB4: 0 | BC4: 0 | BD4: 0 | BE4: 0 | BF4: 0 | BG4: 0 | BH4: 0 | BI4: 0 | BJ4: 0 | BK4: 0
A5: 1 | B5: - | C5: 1 | D5: 15 | E5: - | F5: 6 | G5: Cabrillo | H5: 6 | I5: 6 | J5: 3 | K5: 1 | L5: 0 | M5: 1 | N5: 0 | O5: 0 | P5: 2 | Q5: 0 | R5: 0 | S5: 0 | T5: 2 | U5: 2 | V5: 0 | W5: 0 | X5: 3 | Y5: 3 | Z5: 3 | AA5: 3 | AB5: 0 | AC5: 0 | AD5: 0 | AE5: 0 | AF5: 1 | AG5: 2 | AH5: 0 | AI5: 0 | AJ5: 2 | AK5: 1 | AL5: 2 | AM5: 1 | AN5: 0 | AO5: 2 | AP5: 1 | AQ5: 0 | AR5: 2 | AS5: 0 | AT5: 2 | AU5: 1 | AV5: 1 | AW5: 3 | AX5: 1 | AY5: 1 | AZ5: 1 | BA5: 1 | BB5: 0 | BC5: 0 | BD5: 0 | BE5: 0 | BF5: 0 | BG5: 0 | BH5: 1 | BI5: 0 | BJ5: 0 | BK5: 0
A6: 2 | B6: - | C6: 1 | D6: 14 | E6: - | F6: 9 | G6: Modesto | H6: 9 | I6: 9 | J6: 0 | K6: 0 | L6: 0 | M6: 0 | N6: 0 | O6: 0 | P6: 1 | Q6: 1 | R6: 2 | S6: 3 | T6: 3 | U6: 1 | V6: 0 | W6: 0 | X6: 5 | Y6: 4 | Z6: 6 | AA6: 3 | AB6: 0 | AC6: 0 | AD6: 0 | AE6: 0 | AF6: 0 | AG6: 0 | AH6: 3 | AI6: 2 | AJ6: 4 | AK6: 4 | AL6: 4 | AM6: 0 | AN6: 0 | AO6: 0 | AP6: 0 | AQ6: 1 | AR6: 1 | AS6: 2 | AT6: 1 | AU6: 1 | AV6: 0 | AW6: 1 | AX6: 1 | AY6: 1 | AZ6: 0 | BA6: 0 | BB6: 0 | BC6: 0 | BD6: 0 | BE6: 0 | BF6: 0 | BG6: 0 | BH6: 0 | BI6: 0 | BJ6: 0 | BK6: 0
A7: 3 | B7: - | C7: 1 | D7: 17 | E7: - | F7: 12 | G7: Merced | H7: 12 | I7: 12 | J7: 1 | K7: 2 | L7: 0 | M7: 0 | N7: 0 | O7: 0 | P7: 2 | Q7: 1 | R7: 0 | S7: 4 | T7: 0 | U7: 4 | V7: 2 | W7: 1 | X7: 3 | Y7: 3 | Z7: 3 | AA7: 1 | AB7: 1 | AC7: 0 | AD7: 0 | AE7: 0 | AF7: 3 | AG7: 3 | AH7: 2 | AI7: 0 | AJ7: 6 | AK7: 1 | AL7: 2 | AM7: 0 | AN7: 0 | AO7: 0 | AP7: 0 | AQ7: 0 | AR7: 1 | AS7: 2 | AT7: 3 | AU7: 0 | AV7: 0 | AW7: 0 | AX7: 0 | AY7: 0 | AZ7: 0 | BA7: 0 | BB7: 0 | BC7: 0 | BD7: 1 | BE7: 0 | BF7: 0 | BG7: 0 | BH7: 0 | BI7: 0 | BJ7: 0 | BK7: 0
A8: 4 | B8: - | C8: 1 | D8: 19 | E8: - | F8: 9 | G8: *Modesto | H8: 12 | I8: 9 | J8: 0 | K8: 2 | L8: 2 | M8: 0 | N8: 2 | O8: 0 | P8: 3 | Q8: 1 | R8: 1 | S8: 2 | T8: 0 | U8: 0 | V8: 0 | W8: 0 | X8: 4 | Y8: 1 | Z8: 1 | AA8: 0 | AB8: 1 | AC8: 3 | AD8: 1 | AE8: 0 | AF8: 0 | AG8: 3 | AH8: 1 | AI8: 1 | AJ8: 2 | AK8: 1 | AL8: 1 | AM8: 0 | AN8: 3 | AO8: 1 | AP8: 3 | AQ8: 1 | AR8: 2 | AS8: 2 | AT8: 0 | AU8: 1 | AV8: 0 | AW8: 0 | AX8: 2 | AY8: 0 | AZ8: 0 | BA8: 0 | BB8: 0 | BC8: 0 | BD8: 0 | BE8: 0 | BF8: 0 | BG8: 0 | BH8: 0 | BI8: 0 | BJ8: 0 | BK8: 0
A9: 5 | B9: - | C9: 1 | D9: 20 | E9: - | F9: 5 | G9: Las Positas | H9: 15 | I9: 5 | J9: 1 | K9: 0 | L9: 1 | M9: 0 | N9: 0 | O9: 0 | P9: 3 | Q9: 4 | R9: 0 | S9: 0 | T9: 0 | U9: 0 | V9: 0 | W9: 0 | X9: 3 | Y9: 4 | Z9: 1 | AA9: 0 | AB9: 1 | AC9: 3 | AD9: 2 | AE9: 0 | AF9: 1 | AG9: 1 | AH9: 0 | AI9: 0 | AJ9: 6 | AK9: 1 | AL9: 3 | AM9: 1 | AN9: 0 | AO9: 1 | AP9: 1 | AQ9: 0 | AR9: 3 | AS9: 1 | AT9: 1 | AU9: 0 | AV9: 0 | AW9: 1 | AX9: 0 | AY9: 2 | AZ9: 0 | BA9: 0 | BB9: 0 | BC9: 0 | BD9: 2 | BE9: 1 | BF9: 2 | BG9: 0 | BH9: 0 | BI9: 1 | BJ9: 0 | BK9: 0
A10: 5 | B10: - | C10: 2 | D10: 11 | E10: - | F10: 13 | G10: Merced | H10: 8 | I10: 13 | J10: 2 | K10: 0 | L10: 0 | M10: 0 | N10: 0 | O10: 0 | P10: 2 | Q10: 0 | R10: 0 | S10: 2 | T10: 0 | U10: 2 | V10: 0 | W10: 0 | X10: 3 | Y10: 0 | Z10: 0 | AA10: 0 | AB10: 0 | AC10: 0 | AD10: 0 | AE10: 0 | AF10: 4 | AG10: 1 | AH10: 3 | AI10: 1 | AJ10: 2 | AK10: 4 | AL10: 1 | AM10: 0 | AN10: 0 | AO10: 0 | AP10: 0 | AQ10: 0 | AR10: 0 | AS10: 0 | AT10: 0 | AU10: 0 | AV10: 0 | AW10: 0 | AX10: 0 | AY10: 0 | AZ10: 0 | BA10: 0 | BB10: 0 | BC10: 0 | BD10: 0 | BE10: 1 | BF10: 0 | BG10: 1 | BH10: 0 | BI10: 0 | BJ10: 0 | BK10: 0
A11: 6 | B11: - | C11: 2 | D11: 13 | E11: - | F11: 11 | G11: San Jose St | H11: 12 | I11: 11 | J11: 1 | K11: 0 | L11: 1 | M11: 0 | N11: 1 | O11: 0 | P11: 4 | Q11: 0 | R11: 0 | S11: 4 | T11: 1 | U11: 0 | V11: 0 | W11: 0 | X11: 2 | Y11: 1 | Z11: 1 | AA11: 1 | AB11: 0 | AC11: 0 | AD11: 1 | AE11: 0 | AF11: 1 | AG11: 3 | AH11: 2 | AI11: 2 | AJ11: 2 | AK11: 1 | AL11: 1 | AM11: 0 | AN11: 0 | AO11: 1 | AP11: 0 | AQ11: 0 | AR11: 1 | AS11: 3 | AT11: 1 | AU11: 0 | AV11: 0 | AW11: 1 | AX11: 1 | AY11: 0 | AZ11: 0 | BA11: 0 | BB11: 0 | BC11: 0 | BD11: 1 | BE11: 1 | BF11: 0 | BG11: 2 | BH11: 0 | BI11: 0 | BJ11: 0 | BK11: 0
A12: 6 | B12: - | C12: 3 | D12: 10 | E12: - | F12: 16 | G12: Delta Alumni | H12: 16 | I12: 16 | J12: 1 | K12: 0 | L12: 0 | M12: 1 | N12: 0 | O12: 0 | P12: 3 | Q12: 0 | R12: 0 | S12: 3 | T12: 1 | U12: 0 | V12: 1 | W12: 1 | X12: 0 | Y12: 4 | Z12: 2 | AA12: 2 | AB12: 0 | AC12: 0 | AD12: 0 | AE12: 0 | AF12: 4 | AG12: 0 | AH12: 1 | AI12: 1 | AJ12: 0 | AK12: 2 | AL12: 1 | AM12: 0 | AN12: 1 | AO12: 1 | AP12: 0 | AQ12: 0 | AR12: 0 | AS12: 0 | AT12: 3 | AU12: 0 | AV12: 0 | AW12: 1 | AX12: 0 | AY12: 0 | AZ12: 0 | BA12: 0 | BB12: 0 | BC12: 0 | BD12: 1 | BE12: 0 | BF12: 0 | BG12: 1 | BH12: 0 | BI12: 0 | BJ12: 0 | BK12: 0
A13: 7 | B13: - | C13: 3 | D13: 13 | E13: - | F13: 6 | G13: *Santa Rosa | H13: 9 | I13: 6 | J13: 1 | K13: 1 | L13: 0 | M13: 2 | N13: 1 | O13: 0 | P13: 4 | Q13: 0 | R13: 1 | S13: 1 | T13: 2 | U13: 1 | V13: 0 | W13: 0 | X13: 1 | Y13: 2 | Z13: 7 | AA13: 2 | AB13: 0 | AC13: 1 | AD13: 1 | AE13: 0 | AF13: 0 | AG13: 4 | AH13: 3 | AI13: 2 | AJ13: 4 | AK13: 0 | AL13: 0 | AM13: 0 | AN13: 1 | AO13: 0 | AP13: 0 | AQ13: 0 | AR13: 0 | AS13: 0 | AT13: 0 | AU13: 0 | AV13: 0 | AW13: 1 | AX13: 1 | AY13: 0 | AZ13: 0 | BA13: 0 | BB13: 0 | BC13: 0 | BD13: 1 | BE13: 1 | BF13: 0 | BG13: 0 | BH13: 0 | BI13: 0 | BJ13: 0 | BK13: 0
A14: 8 | B14: - | C14: 3 | D14: 9 | E14: - | F14: 7 | G14: VWP Ducks | H14: 7 | I14: 7 | J14: 1 | K14: 1 | L14: 0 | M14: 0 | N14: 0 | O14: 0 | P14: 1 | Q14: 1 | R14: 0 | S14: 1 | T14: 0 | U14: 0 | V14: 0 | W14: 0 | X14: 4 | Y14: 1 | Z14: 1 | AA14: 0 | AB14: 0 | AC14: 1 | AD14: 1 | AE14: 0 | AF14: 1 | AG14: 2 | AH14: 2 | AI14: 1 | AJ14: 3 | AK14: 1 | AL14: 1 | AM14: 0 | AN14: 0 | AO14: 1 | AP14: 0 | AQ14: 0 | AR14: 0 | AS14: 1 | AT14: 0 | AU14: 0 | AV14: 0 | AW14: 0 | AX14: 0 | AY14: 0 | AZ14: 0 | BA14: 0 | BB14: 0 | BC14: 0 | BD14: 0 | BE14: 0 | BF14: 0 | BG14: 0 | BH14: 0 | BI14: 0 | BJ14: 0 | BK14: 0
A15: 8 | B15: - | C15: 4 | D15: 7 | E15: - | F15: 17 | G15: Golden West | H15: 6 | I15: 17 | J15: 0 | K15: 0 | L15: 0 | M15: 0 | N15: 0 | O15: 0 | P15: 3 | Q15: 0 | R15: 0 | S15: 4 | T15: 0 | U15: 0 | V15: 1 | W15: 0 | X15: 1 | Y15: 3 | Z15: 2 | AA15: 0 | AB15: 0 | AC15: 0 | AD15: 0 | AE15: 0 | AF15: 2 | AG15: 1 | AH15: 0 | AI15: 2 | AJ15: 0 | AK15: 0 | AL15: 0 | AM15: 0 | AN15: 0 | AO15: 0 | AP15: 0 | AQ15: 0 | AR15: 0 | AS15: 0 | AT15: 1 | AU15: 1 | AV15: 0 | AW15: 0 | AX15: 0 | AY15: 0 | AZ15: 0 | BA15: 0 | BB15: 0 | BC15: 0 | BD15: 1 | BE15: 1 | BF15: 1 | BG15: 1 | BH15: 0 | BI15: 0 | BJ15: 0 | BK15: 0
... A27: 16 | B27: - | C27: 9 | D27: 14 | E27: - | F27: 16 | G27: Concordia | H27: 8 | I27: 16 | J27: 1 | K27: 2 | L27: 0 | M27: 0 | N27: 0 | O27: 0 | P27: 2 | Q27: 0 | R27: 1 | S27: 4 | T27: 0 | U27: 1 | V27: 1 | W27: 0 | X27: 4 | Y27: 0 | Z27: 3 | AA27: 1 | AB27: 0 | AC27: 0 | AD27: 2 | AE27: 0 | AF27: 2 | AG27: 4 | AH27: 2 | AI27: 2 | AJ27: 3 | AK27: 0 | AL27: 0 | AM27: 0 | AN27: 0 | AO27: 0 | AP27: 0 | AQ27: 0 | AR27: 1 | AS27: 0 | AT27: 1 | AU27: 0 | AV27: 0 | AW27: 0 | AX27: 0 | AY27: 0 | AZ27: 0 | BA27: 0 | BB27: 0 | BC27: 0 | BD27: 0 | BE27: 1 | BF27: 1 | BG27: 1 | BH27: 0 | BI27: 0 | BJ27: 0 | BK27: 0
B28: - | E28: - | G28: at GW | H28: 0 | I28: 0 | J28: 0 | K28: 0 | L28: 0 | M28: 0 | N28: 0 | O28: 0 | P28: 0 | Q28: 0 | R28: 0 | S28: 0 | T28: 0 | U28: 0 | V28: 0 | W28: 0 | X28: 0 | Y28: 0 | Z28: 0 | AA28: 0 | AB28: 0 | AC28: 0 | AD28: 0 | AE28: 0 | AF28: 0 | AG28: 0 | AH28: 0 | AI28: 0 | AJ28: 0 | AK28: 0 | AL28: 0 | AM28: 0 | AN28: 0 | AO28: 0 | AP28: 0 | AQ28: 0 | AR28: 0 | AS28: 0 | AT28: 0 | AU28: 0 | AV28: 0 | AW28: 0 | AX28: 0 | AY28: 0 | AZ28: 0 | BA28: 0 | BB28: 0 | BC28: 0 | BD28: 0 | BE28: 0 | BF28: 0 | BG28: 0 | BH28: 0 | BI28: 0 | BJ28: 0 | BK28: 0
B29: - | E29: - | G29: at GW | H29: 0 | I29: 0 | J29: 0 | K29: 0 | L29: 0 | M29: 0 | N29: 0 | O29: 0 | P29: 0 | Q29: 0 | R29: 0 | S29: 0 | T29: 0 | U29: 0 | V29: 0 | W29: 0 | X29: 0 | Y29: 0 | Z29: 0 | AA29: 0 | AB29: 0 | AC29: 0 | AD29: 0 | AE29: 0 | AF29: 0 | AG29: 0 | AH29: 0 | AI29: 0 | AJ29: 0 | AK29: 0 | AL29: 0 | AM29: 0 | AN29: 0 | AO29: 0 | AP29: 0 | AQ29: 0 | AR29: 0 | AS29: 0 | AT29: 0 | AU29: 0 | AV29: 0 | AW29: 0 | AX29: 0 | AY29: 0 | AZ29: 0 | BA29: 0 | BB29: 0 | BC29: 0 | BD29: 0 | BE29: 0 | BF29: 0 | BG29: 0 | BH29: 0 | BI29: 0 | BJ29: 0 | BK29: 0
B30: - | E30: - | G30: at GW | H30: 0 | I30: 0 | J30: 0 | K30: 0 | L30: 0 | M30: 0 | N30: 0 | O30: 0 | P30: 0 | Q30: 0 | R30: 0 | S30: 0 | T30: 0 | U30: 0 | V30: 0 | W30: 0 | X30: 0 | Y30: 0 | Z30: 0 | AA30: 0 | AB30: 0 | AC30: 0 | AD30: 0 | AE30: 0 | AF30: 0 | AG30: 0 | AH30: 0 | AI30: 0 | AJ30: 0 | AK30: 0 | AL30: 0 | AM30: 0 | AN30: 0 | AO30: 0 | AP30: 0 | AQ30: 0 | AR30: 0 | AS30: 0 | AT30: 0 | AU30: 0 | AV30: 0 | AW30: 0 | AX30: 0 | AY30: 0 | AZ30: 0 | BA30: 0 | BB30: 0 | BC30: 0 | BD30: 0 | BE30: 0 | BF30: 0 | BG30: 0 | BH30: 0 | BI30: 0 | BJ30: 0 | BK30: 0
B31: - | E31: - | G31: at GW | H31: 0 | I31: 0 | J31: 0 | K31: 0 | L31: 0 | M31: 0 | N31: 0 | O31: 0 | P31: 0 | Q31: 0 | R31: 0 | S31: 0 | T31: 0 | U31: 0 | V31: 0 | W31: 0 | X31: 0 | Y31: 0 | Z31: 0 | AA31: 0 | AB31: 0 | AC31: 0 | AD31: 0 | AE31: 0 | AF31: 0 | AG31: 0 | AH31: 0 | AI31: 0 | AJ31: 0 | AK31: 0 | AL31: 0 | AM31: 0 | AN31: 0 | AO31: 0 | AP31: 0 | AQ31: 0 | AR31: 0 | AS31: 0 | AT31: 0 | AU31: 0 | AV31: 0 | AW31: 0 | AX31: 0 | AY31: 0 | AZ31: 0 | BA31: 0 | BB31: 0 | BC31: 0 | BD31: 0 | BE31: 0 | BF31: 0 | BG31: 0 | BH31: 0 | BI31: 0 | BJ31: 0 | BK31: 0
B32: - | E32: - | G32: *ARC | H32: 0 | I32: 0 | J32: 0 | K32: 0 | L32: 0 | M32: 0 | N32: 0 | O32: 0 | P32: 0 | Q32: 0 | R32: 0 | S32: 0 | T32: 0 | U32: 0 | V32: 0 | W32: 0 | X32: 0 | Y32: 0 | Z32: 0 | AA32: 0 | AB32: 0 | AC32: 0 | AD32: 0 | AE32: 0 | AF32: 0 | AG32: 0 | AH32: 0 | AI32: 0 | AJ32: 0 | AK32: 0 | AL32: 0 | AM32: 0 | AN32: 0 | AO32: 0 | AP32: 0 | AQ32: 0 | AR32: 0 | AS32: 0 | AT32: 0 | AU32: 0 | AV32: 0 | AW32: 0 | AX32: 0 | AY32: 0 | AZ32: 0 | BA32: 0 | BB32: 0 | BC32: 0 | BD32: 0 | BE32: 0 | BF32: 0 | BG32: 0 | BH32: 0 | BI32: 0 | BJ32: 0 | BK32: 0
B33: - | E33: - | G33: Big 8 Champs | H33: 0 | I33: 0 | J33: 0 | K33: 0 | L33: 0 | M33: 0 | N33: 0 | O33: 0 | P33: 0 | Q33: 0 | R33: 0 | S33: 0 | T33: 0 | U33: 0 | V33: 0 | W33: 0 | X33: 0 | Y33: 0 | Z33: 0 | AA33: 0 | AB33: 0 | AC33: 0 | AD33: 0 | AE33: 0 | AF33: 0 | AG33: 0 | AH33: 0 | AI33: 0 | AJ33: 0 | AK33: 0 | AL33: 0 | AM33: 0 | AN33: 0 | AO33: 0 | AP33: 0 | AQ33: 0 | AR33: 0 | AS33: 0 | AT33: 0 | AU33: 0 | AV33: 0 | AW33: 0 | AX33: 0 | AY33: 0 | AZ33: 0 | BA33: 0 | BB33: 0 | BC33: 0 | BD33: 0 | BE33: 0 | BF33: 0 | BG33: 0 | BH33: 0 | BI33: 0 | BJ33: 0 | BK33: 0
B34: - | E34: - | G34: Big 8 Champs | H34: 0 | I34: 0 | J34: 0 | K34: 0 | L34: 0 | M34: 0 | N34: 0 | O34: 0 | P34: 0 | Q34: 0 | R34: 0 | S34: 0 | T34: 0 | U34: 0 | V34: 0 | W34: 0 | X34: 0 | Y34: 0 | Z34: 0 | AA34: 0 | AB34: 0 | AC34: 0 | AD34: 0 | AE34: 0 | AF34: 0 | AG34: 0 | AH34: 0 | AI34: 0 | AJ34: 0 | AK34: 0 | AL34: 0 | AM34: 0 | AN34: 0 | AO34: 0 | AP34: 0 | AQ34: 0 | AR34: 0 | AS34: 0 | AT34: 0 | AU34: 0 | AV34: 0 | AW34: 0 | AX34: 0 | AY34: 0 | AZ34: 0 | BA34: 0 | BB34: 0 | BC34: 0 | BD34: 0 | BE34: 0 | BF34: 0 | BG34: 0 | BH34: 0 | BI34: 0 | BJ34: 0 | BK34: 0
B35: - | E35: - | G35: Norcal | H35: 0 | I35: 0 | J35: 0 | K35: 0 | L35: 0 | M35: 0 | N35: 0 | O35: 0 | P35: 0 | Q35: 0 | R35: 0 | S35: 0 | T35: 0 | U35: 0 | V35: 0 | W35: 0 | X35: 0 | Y35: 0 | Z35: 0 | AA35: 0 | AB35: 0 | AC35: 0 | AD35: 0 | AE35: 0 | AF35: 0 | AG35: 0 | AH35: 0 | AI35: 0 | AJ35: 0 | AK35: 0 | AL35: 0 | AM35: 0 | AN35: 0 | AO35: 0 | AP35: 0 | AQ35: 0 | AR35: 0 | AS35: 0 | AT35: 0 | AU35: 0 | AV35: 0 | AW35: 0 | AX35: 0 | AY35: 0 | AZ35: 0 | BA35: 0 | BB35: 0 | BC35: 0 | BD35: 0 | BE35: 0 | BF35: 0 | BG35: 0 | BH35: 0 | BI35: 0 | BJ35: 0 | BK35: 0
B36: - | E36: - | G36: Norcal | H36: 0 | I36: 0 | J36: 0 | K36: 0 | L36: 0 | M36: 0 | N36: 0 | O36: 0 | P36: 0 | Q36: 0 | R36: 0 | S36: 0 | T36: 0 | U36: 0 | V36: 0 | W36: 0 | X36: 0 | Y36: 0 | Z36: 0 | AA36: 0 | AB36: 0 | AC36: 0 | AD36: 0 | AE36: 0 | AF36: 0 | AG36: 0 | AH36: 0 | AI36: 0 | AJ36: 0 | AK36: 0 | AL36: 0 | AM36: 0 | AN36: 0 | AO36: 0 | AP36: 0 | AQ36: 0 | AR36: 0 | AS36: 0 | AT36: 0 | AU36: 0 | AV36: 0 | AW36: 0 | AX36: 0 | AY36: 0 | AZ36: 0 | BA36: 0 | BB36: 0 | BC36: 0 | BD36: 0 | BE36: 0 | BF36: 0 | BG36: 0 | BH36: 0 | BI36: 0 | BJ36: 0 | BK36: 0
B37: - | E37: - | G37: State | H37: 0 | I37: 0 | J37: 0 | K37: 0 | L37: 0 | M37: 0 | N37: 0 | O37: 0 | P37: 0 | Q37: 0 | R37: 0 | S37: 0 | T37: 0 | U37: 0 | V37: 0 | W37: 0 | X37: 0 | Y37: 0 | Z37: 0 | AA37: 0 | AB37: 0 | AC37: 0 | AD37: 0 | AE37: 0 | AF37: 0 | AG37: 0 | AH37: 0 | AI37: 0 | AJ37: 0 | AK37: 0 | AL37: 0 | AM37: 0 | AN37: 0 | AO37: 0 | AP37: 0 | AQ37: 0 | AR37: 0 | AS37: 0 | AT37: 0 | AU37: 0 | AV37: 0 | AW37: 0 | AX37: 0 | AY37: 0 | AZ37: 0 | BA37: 0 | BB37: 0 | BC37: 0 | BD37: 0 | BE37: 0 | BF37: 0 | BG37: 0 | BH37: 0 | BI37: 0 | BJ37: 0 | BK37: 0
B38: - | E38: - | G38: State | H38: 0 | I38: 0 | J38: 0 | K38: 0 | L38: 0 | M38: 0 | N38: 0 | O38: 0 | P38: 0 | Q38: 0 | R38: 0 | S38: 0 | T38: 0 | U38: 0 | V38: 0 | W38: 0 | X38: 0 | Y38: 0 | Z38: 0 | AA38: 0 | AB38: 0 | AC38: 0 | AD38: 0 | AE38: 0 | AF38: 0 | AG38: 0 | AH38: 0 | AI38: 0 | AJ38: 0 | AK38: 0 | AL38: 0 | AM38: 0 | AN38: 0 | AO38: 0 | AP38: 0 | AQ38: 0 | AR38: 0 | AS38: 0 | AT38: 0 | AU38: 0 | AV38: 0 | AW38: 0 | AX38: 0 | AY38: 0 | AZ38: 0 | BA38: 0 | BB38: 0 | BC38: 0 | BD38: 0 | BE38: 0 | BF38: 0 | BG38: 0 | BH38: 0 | BI38: 0 | BJ38: 0 | BK38: 0
B39: - | D39: 303 | E39: - | F39: 242 | G39: Totals | H39: 221 | I39: 234 | J39: 17 | K39: 16 | L39: 5 | M39: 9 | N39: 7 | O39: 1 | P39: 60 | Q39: 24 | R39: 19 | S39: 64 | T39: 21 | U39: 23 | V39: 11 | W39: 5 | X39: 57 | Y39: 43 | Z39: 64 | AA39: 19 | AB39: 6 | AC39: 17 | AD39: 17 | AE39: 1 | AF39: 33 | AG39: 44 | AH39: 33 | AI39: 30 | AJ39: 58 | AK39: 30 | AL39: 29 | AM39: 4 | AN39: 9 | AO39: 17 | AP39: 15 | AQ39: 4 | AR39: 19 | AS39: 16 | AT39: 29 | AU39: 6 | AV39: 7 | AW39: 10 | AX39: 9 | AY39: 4 | AZ39: 3 | BA39: 2 | BB39: 1 | BC39: 1 | BD39: 14 | BE39: 14 | BF39: 10 | BG39: 13 | BH39: 1 | BI39: 1 | BJ39: 2 | BK39: 0
B40: - | E40: - | H40: Saves | I40: Goals | J40: Assists | K40: Steals | L40: Goals | M40: Assists | N40: Steals | O40: KO/P + | P40: Goals | Q40: Assists | R40: Steals | S40: KO/P + | T40: Goals | U40: Assists | V40: Steals | W40: KO/P + | X40: Goals | Y40: Assists | Z40: Steals | AA40: KO/P + | AB40: Goals | AC40: Assists | AD40: Steals | AE40: KO/P + | AF40: Goals | AG40: Assists | AH40: Steals | AI40: KO/P + | AJ40: Goals | AK40: Assists | AL40: Steals | AM40: KO/P + | AN40: Goals | AO40: Assists | AP40: Steals | AQ40: KO/P + | AR40: Goals | AS40: Assists | AT40: Steals | AU40: KO/P + | AV40: Goals | AW40: Assists | AX40: Steals | AY40: KO/P + | AZ40: Goals | BA40: Assists | BB40: Steals | BC40: KO/P + | BD40: Goals | BE40: Assists | BF40: Steals | BG40: KO/P + | BH40: Goals | BI40: Assists | BJ40: Steals | BK40: KO/P +
B41: - | E41: - | H41: 1 | L41: 2 | P41: 3 | T41: 4 | X41: 5 | AB41: 6 | AF41: 7 | AJ41: 8 | AN41: 9 | AR41: 11 | AV41: 14 | AZ41: 15 | BD41: 17 | BH41: 18
B42: - | E42: - | H42: Revay | L42: Kennedy | P42: Morrissey | T42: Dornbush | X42: Halva | AB42: Vernon | AF42: Beutel | AJ42: Puccinelli | AN42: Williamson | AR42: Torres | AV42: Bria | AZ42: Whipple | BD42: Richey | BH42: Gutierriez
H43: 23 | L43: 23 | P43: 23 | T43: 21 | X43: 21 | AB43: 15 | AF43: 23 | AJ43: 22 | AN43: 21 | AR43: 22 | AV43: 20 | AZ43: 10 | BD43: 22 | BH43: 10

Sheet Modesto
A1: FIELD STATS
A2: Cap # | B2: Athlete | C2: School | D2: GP | E2: GLS | F2: AST | G2: STL | H2: G/G | I2: A/G | J2: S/G
A3: 2 | B3: Chad Nunes | C3: MJC | D3: 5 | E3: 10 | F3: 2 | G3: 4 | H3: =E3/D3 -> 2 | I3: =F3/D3 -> 0.4 | J3: =G3/D3 -> 0.8
A4: 3 | B4: Mitchell Moreda | C4: MJC | D4: 5 | E4: 11 | F4: 9 | G4: 6 | H4: =E4/D4 -> 2.2 | I4: =F4/D4 -> 1.8 | J4: =G4/D4 -> 1.2
A5: 5 | B5: Kyle Swisegood | C5: MJC | D5: 5 | E5: 1 | F5: 2 | G5: 8 | H5: =E5/D5 -> 0.2 | I5: =F5/D5 -> 0.4 | J5: =G5/D5 -> 1.6
A6: 6 | B6: Blake Philips | C6: MJC | D6: 5 | E6: 18 | F6: 2 | G6: 2 | H6: =E6/D6 -> 3.6 | I6: =F6/D6 -> 0.4 | J6: =G6/D6 -> 0.4
A7: 7 | B7: CJ Cossey | C7: MJC | D7: 5 | E7: 6 | F7: 0 | G7: 0 | H7: =E7/D7 -> 1.2 | I7: =F7/D7 -> 0 | J7: =G7/D7 -> 0
A8: 8 | B8: Kody Kamastra | C8: MJC | D8: 5 | E8: 5 | F8: 6 | G8: 8 | H8: =E8/D8 -> 1 | I8: =F8/D8 -> 1.2 | J8: =G8/D8 -> 1.6
A9: 9 | B9: Mike Fuzie | C9: MJC | D9: 5 | E9: 0 | F9: 1 | G9: 1 | H9: =E9/D9 -> 0 | I9: =F9/D9 -> 0.2 | J9: =G9/D9 -> 0.2
A10: 10 | B10: Matt Cadrett | C10: MJC | D10: 5 | E10: 3 | F10: 5 | G10: 1 | H10: =E10/D10 -> 0.6 | I10: =F10/D10 -> 1 | J10: =G10/D10 -> 0.2
A11: 11 | B11: Luis Rodriguez | C11: MJC | D11: 5 | E11: 0 | F11: 1 | G11: 1 | H11: =E11/D11 -> 0 | I11: =F11/D11 -> 0.2 | J11: =G11/D11 -> 0.2
A12: 12 | B12: Cameron Sondeno | C12: MJC | D12: 5 | E12: 1 | F12: 0 | G12: 1 | H12: =E12/D12 -> 0.2 | I12: =F12/D12 -> 0 | J12: =G12/D12 -> 0.2
A13: 13 | B13: Tyler Tuss | C13: MJC | D13: 5 | E13: 0 | F13: 0 | G13: 0 | H13: =E13/D13 -> 0 | I13: =F13/D13 -> 0 | J13: =G13/D13 -> 0
A14: 14 | B14: Marcelino Ramirez | C14: MJC | D14: 5 | E14: 1 | F14: 2 | G14: 3 | H14: =E14/D14 -> 0.2 | I14: =F14/D14 -> 0.4 | J14: =G14/D14 -> 0.6
A15: 15 | B15: Austin Mejias | C15: MJC | D15: 5 | E15: 0 | F15: 0 | G15: 0 | H15: =E15/D15 -> 0 | I15: =F15/D15 -> 0 | J15: =G15/D15 -> 0
H16: =E16/D16 -> #DIV/0! | I16: =F16/D16 -> #DIV/0! | J16: =G16/D16 -> #DIV/0!
H17: =E17/D17 -> #DIV/0! | I17: =F17/D17 -> #DIV/0! | J17: =G17/D17 -> #DIV/0!
H18: =E18/D18 -> #DIV/0! | I18: =F18/D18 -> #DIV/0! | J18: =G18/D18 -> #DIV/0!
H19: =E19/D19 -> #DIV/0! | I19: =F19/D19 -> #DIV/0! | J19: =G19/D19 -> #DIV/0!
H20: =E20/D20 -> #DIV/0! | I20: =F20/D20 -> #DIV/0! | J20: =G20/D20 -> #DIV/0!
H21: =E21/D21 -> #DIV/0! | I21: =F21/D21 -> #DIV/0! | J21: =G21/D21 -> #DIV/0!
H22: =E22/D22 -> #DIV/0! | I22: =F22/D22 -> #DIV/0! | J22: =G22/D22 -> #DIV/0!
H23: =E23/D23 -> #DIV/0! | I23: =F23/D23 -> #DIV/0! | J23: =G23/D23 -> #DIV/0!
H24: =E24/D24 -> #DIV/0! | I24: =F24/D24 -> #DIV/0! | J24: =G24/D24 -> #DIV/0!
H25: =E25/D25 -> #DIV/0! | I25: =F25/D25 -> #DIV/0! | J25: =G25/D25 -> #DIV/0!
H26: =E26/D26 -> #DIV/0! | I26: =F26/D26 -> #DIV/0! | J26: =G26/D26 -> #DIV/0!
H27: =E27/D27 -> #DIV/0! | I27: =F27/D27 -> #DIV/0! | J27: =G27/D27 -> #DIV/0!
H28: =E28/D28 -> #DIV/0! | I28: =F28/D28 -> #DIV/0! | J28: =G28/D28 -> #DIV/0!
A30: GOALIE STATS
A31: Cap # | B31: Athlete | C31: School | D31: GP | E31: GA | F31: BLK | G31: GA/G | H31: BL/G
A32: 1 | B32: Badr Fayyaz | C32: MJC | D32: 5 | E32: 54 | F32: 40 | G32: =E32/D32 -> 10.8 | H32: =F32/D32 -> 8
G33: =E33/D33 -> #DIV/0! | H33: =F33/D33 -> #DIV/0!
G34: =E34/D34 -> #DIV/0! | H34: =F34/D34 -> #DIV/0!
G35: =E35/D35 -> #DIV/0! | H35: =F35/D35 -> #DIV/0!

Sheet Sierra
A1: FIELD STATS
A2: Cap # | B2: Athlete | C2: School | D2: GP | E2: GLS | F2: AST | G2: STL | H2: G/G | I2: A/G | J2: S/G
A3: 4 | B3: Tyler Tovatt | C3: Sierra | D3: 15 | E3: 7 | F3: 6 | G3: 7 | H3: 0.46666667 | I3: 0.4 | J3: 0.46666667
A4: 5 | B4: Bailey Clark | C4: Sierra | D4: 15 | E4: 3 | F4: 3 | G4: 1 | H4: 0.2 | I4: 0.2 | J4: 0.066666667
A5: 6 | B5: Kyle Bare | C5: Sierra | D5: 15 | E5: 15 | F5: 15 | G5: 8 | H5: 1 | I5: 1 | J5: 0.53333333
A6: 7 | B6: Tyler Nielsen | C6: Sierra | D6: 15 | E6: 14 | F6: 4 | G6: 8 | H6: 0.93333333 | I6: 0.26666667 | J6: 0.53333333
A7: 8 | B7: Victor Vorobyev | C7: Sierra | D7: 15 | E7: 1 | F7: 0 | G7: 0 | H7: 0.066666667 | I7: 0 | J7: 0
A8: 9 | B8: Austin Dyer | C8: Sierra | D8: 15 | E8: 28 | F8: 8 | G8: 14 | H8: 1.8666667 | I8: 0.53333333 | J8: 0.93333333
A9: 10 | B9: Zach Evenson | C9: Sierra | D9: 15 | E9: 3 | F9: 0 | G9: 0 | H9: 0.2 | I9: 0 | J9: 0
A10: 11 | B10: Heath Faulkner | C10: Sierra | D10: 15 | E10: 23 | F10: 11 | G10: 17 | H10: 1.5333333 | I10: 0.73333333 | J10: 1.1333333
A11: 12 | B11: Adam Rodgers | C11: Sierra | D11: 15 | E11: 10 | F11: 7 | G11: 7 | H11: 0.66666667 | I11: 0.46666667 | J11: 0.46666667
A12: 15 | B12: Michael Crouch | C12: Sierra | D12: 15 | E12: 7 | F12: 5 | G12: 5 | H12: 0.46666667 | I12: 0.33333333 | J12: 0.33333333
A13: 16 | B13: Earl English | C13: Sierra | D13: 15 | E13: 3 | F13: 1 | G13: 2 | H13: 0.2 | I13: 0.066666667 | J13: 0.13333333
A14: 17 | B14: Chase Milhous | C14: Sierra | D14: 15 | E14: 19 | F14: 1 | G14: 9 | H14: 1.2666667 | I14: 0.066666667 | J14: 0.6
... A18: 1 | B18: Erik Glasky - goalie | C18: Sierra | D18: 15 | E18: 0 | F18: 0 | G18: 4 | H18: 0 | I18: 0 | J18: 0.26666667
A19: 1A | B19: Joe Costa - goalie | C19: Sierra | D19: 15 | E19: 1 | F19: 3 | G19: 2 | H19: 0.066666667 | I19: 0.2 | J19: 0.13333333
B20: Totals | E20: =SUM(E3:E19) -> 155 | F20: =SUM(F3:F19) -> 98 | G20: =SUM(G3:G19) -> 101 | H20: =E20/D20 -> #DIV/0! | I20: =F20/D20 -> #DIV/0! | J20: =G20/D20 -> #DIV/0!
H21: =E21/D21 -> #DIV/0! | I21: =F21/D21 -> #DIV/0! | J21: =G21/D21 -> #DIV/0!
H22: =E22/D22 -> #DIV/0! | I22: =F22/D22 -> #DIV/0! | J22: =G22/D22 -> #DIV/0!
H23: =E23/D23 -> #DIV/0! | I23: =F23/D23 -> #DIV/0! | J23: =G23/D23 -> #DIV/0!
H24: =E24/D24 -> #DIV/0! | I24: =F24/D24 -> #DIV/0! | J24: =G24/D24 -> #DIV/0!
H25: =E25/D25 -> #DIV/0! | I25: =F25/D25 -> #DIV/0! | J25: =G25/D25 -> #DIV/0!
H26: =E26/D26 -> #DIV/0! | I26: =F26/D26 -> #DIV/0! | J26: =G26/D26 -> #DIV/0!
H27: =E27/D27 -> #DIV/0! | I27: =F27/D27 -> #DIV/0! | J27: =G27/D27 -> #DIV/0!
A29: GOALIE STATS
A30: Cap # | B30: Athlete | C30: School | D30: GP | E30: GA | F30: BLK | G30: GA/G | H30: BL/G
A31: 1 | B31: Erik Glasky | C31: Sierra | D31: 15 | E31: 161 | F31: 86 | G31: 10.733333 | H31: 5.7333333
A32: 1A | B32: Joe Costa | C32: Sierra | D32: 15 | E32: 141 | F32: 61 | G32: 9.4 | H32: 4.0666667
G33: =E33/D33 -> #DIV/0! | H33: =F33/D33 -> #DIV/0!
G34: =E34/D34 -> #DIV/0! | H34: =F34/D34 -> #DIV/0!

Sheet Santa Rosa
